BEGIN:VCALENDAR
VERSION:2.0
PRODID:-//The Kawarthas Tourism - ECPv6.15.20//NONSGML v1.0//EN
CALSCALE:GREGORIAN
METHOD:PUBLISH
X-WR-CALNAME:The Kawarthas Tourism
X-ORIGINAL-URL:https://thekawarthas.ca
X-WR-CALDESC:Events for The Kawarthas Tourism
REFRESH-INTERVAL;VALUE=DURATION:PT1H
X-Robots-Tag:noindex
X-PUBLISHED-TTL:PT1H
BEGIN:VTIMEZONE
TZID:America/Toronto
BEGIN:DAYLIGHT
TZOFFSETFROM:-0500
TZOFFSETTO:-0400
TZNAME:EDT
DTSTART:20230312T070000
END:DAYLIGHT
BEGIN:STANDARD
TZOFFSETFROM:-0400
TZOFFSETTO:-0500
TZNAME:EST
DTSTART:20231105T060000
END:STANDARD
BEGIN:DAYLIGHT
TZOFFSETFROM:-0500
TZOFFSETTO:-0400
TZNAME:EDT
DTSTART:20240310T070000
END:DAYLIGHT
BEGIN:STANDARD
TZOFFSETFROM:-0400
TZOFFSETTO:-0500
TZNAME:EST
DTSTART:20241103T060000
END:STANDARD
BEGIN:DAYLIGHT
TZOFFSETFROM:-0500
TZOFFSETTO:-0400
TZNAME:EDT
DTSTART:20250309T070000
END:DAYLIGHT
BEGIN:STANDARD
TZOFFSETFROM:-0400
TZOFFSETTO:-0500
TZNAME:EST
DTSTART:20251102T060000
END:STANDARD
END:VTIMEZONE
BEGIN:VEVENT
DTSTART;TZID=America/Toronto:20240314T083000
DTEND;TZID=America/Toronto:20240314T163000
DTSTAMP:20260420T122249
CREATED:20240212T202903Z
LAST-MODIFIED:20240212T202903Z
UID:10008517-1710405000-1710433800@thekawarthas.ca
SUMMARY:March Break Madness
DESCRIPTION:A fun\, engaging place to send your 6-13 year old for the week of March Break! \nEach day of the week we have a different theme. We offer supervised outdoor play time. Please make sure to bring a nut aware lunch\, refillable water bottle and indoor shoes! Each day March 11-15 is 8:30-4:30. $55/day or $250 for the week!
URL:https://thekawarthas.ca/event/march-break-madness/2024-03-14/
LOCATION:Grand Events\, 861 Chemong Road\, Unit 16\, Peterborough\, ON\, K9H 5Z5
CATEGORIES:Arts & Entertainment,Ongoing
ATTACH;FMTTYPE=image/png:https://thekawarthas.ca/wp-content/uploads/2021/10/pkt-pattern-1-e1707487676944.png
ORGANIZER;CN="Grand Events":MAILTO:grandeventsptbo@hotmail.com
END:VEVENT
BEGIN:VEVENT
DTSTART;TZID=America/Toronto:20240314T080000
DTEND;TZID=America/Toronto:20240314T090000
DTSTAMP:20260420T122249
CREATED:20240115T185435Z
LAST-MODIFIED:20240115T185435Z
UID:10006962-1710403200-1710406800@thekawarthas.ca
SUMMARY:Milbrook Public Skate
DESCRIPTION:March Break Skate\nPublic Skating continues at the Cavan Monaghan Community Centre.  Our regular Winter schedule will run from Sunday January 7th\, 2024 to Sunday March 31st\, 2024.
URL:https://thekawarthas.ca/event/milbrook-public-skate-4/2024-03-14/1/
LOCATION:Cavan Monaghan Community Centre\, 986 Peterborough County Road 10\, Millbrook\, L0A 1G0
CATEGORIES:Ongoing
ATTACH;FMTTYPE=image/jpeg:https://thekawarthas.ca/wp-content/uploads/2024/01/Public-Skating-Banner.jpg
END:VEVENT
BEGIN:VEVENT
DTSTART;TZID=America/Toronto:20240313T190000
DTEND;TZID=America/Toronto:20240313T200000
DTSTAMP:20260420T122249
CREATED:20240130T150700Z
LAST-MODIFIED:20240130T150700Z
UID:10007694-1710356400-1710360000@thekawarthas.ca
SUMMARY:Things That Go Peep in the Night
DESCRIPTION:Join Kawartha Land Trust’s Hayden Wilson and staff from Blazing Star Environmental on March 13th for a special webinar on the importance of frog diversity and conservation. \nRegister for this free KLT Passport to Nature webinar at https://kawarthalandtrust.org/event/webinar-things-that-go-peep-in-the-night/.
URL:https://thekawarthas.ca/event/things-that-go-peep-in-the-night/
LOCATION:Virtual Event
CATEGORIES:Outdoors & Nature
ATTACH;FMTTYPE=image/webp:https://thekawarthas.ca/wp-content/uploads/2023/07/KLT-Passport-to-Nature-logo-1024x868-1.webp
ORGANIZER;CN="Kawartha Land Trust":MAILTO:info@kawarthalandtrust.org
END:VEVENT
BEGIN:VEVENT
DTSTART;TZID=America/Toronto:20240313T190000
DTEND;TZID=America/Toronto:20240313T190000
DTSTAMP:20260420T122249
CREATED:20240226T183953Z
LAST-MODIFIED:20240226T183953Z
UID:10008822-1710356400-1710356400@thekawarthas.ca
SUMMARY:Peterborough Petes vs Kingston Frontenacs
DESCRIPTION:Come out and see a great hockey game! Watch the Peterborough Petes play against the Kingston Frontenacs.
URL:https://thekawarthas.ca/event/peterborough-petes-vs-kingston-frontenacs/
LOCATION:Peterborough Memorial Centre\, 151 Lansdowne St\, Peterborough\, Peterborough\, Canada
CATEGORIES:Sporting Events
ATTACH;FMTTYPE=image/png:https://thekawarthas.ca/wp-content/uploads/2023/09/Peterborough_Petes_logo.svg_.png
ORGANIZER;CN="Peterborough Petes":MAILTO:info@gopetesgo.com
END:VEVENT
BEGIN:VEVENT
DTSTART;TZID=America/Toronto:20240313T170000
DTEND;TZID=America/Toronto:20240313T190000
DTSTAMP:20260420T122249
CREATED:20240229T191329Z
LAST-MODIFIED:20240229T191329Z
UID:10008853-1710349200-1710356400@thekawarthas.ca
SUMMARY:Meet and Greet with Batman
DESCRIPTION:Meet and Greet with Batman\, on March 13th 5:00 PM- 7:00 PM \nFree of charge event\, coloring contest and kids movie. \nBoston Pizza Peterborough Lansdowne location.
URL:https://thekawarthas.ca/event/meet-and-greet-with-batman/
LOCATION:Boston Pizza Peterborough South\, 821 Rye Street\, Peterborough\, ON\, K9J 6X1
CATEGORIES:Arts & Entertainment
ATTACH;FMTTYPE=image/jpeg:https://thekawarthas.ca/wp-content/uploads/2024/01/bostonpizza_logo21.jpg
END:VEVENT
BEGIN:VEVENT
DTSTART;TZID=America/Toronto:20240313T160000
DTEND;TZID=America/Toronto:20240313T170000
DTSTAMP:20260420T122249
CREATED:20240115T185435Z
LAST-MODIFIED:20240115T185435Z
UID:10006961-1710345600-1710349200@thekawarthas.ca
SUMMARY:Milbrook Public Skate
DESCRIPTION:March Break Skate\nPublic Skating continues at the Cavan Monaghan Community Centre.  Our regular Winter schedule will run from Sunday January 7th\, 2024 to Sunday March 31st\, 2024.
URL:https://thekawarthas.ca/event/milbrook-public-skate-4/2024-03-13/
LOCATION:Cavan Monaghan Community Centre\, 986 Peterborough County Road 10\, Millbrook\, L0A 1G0
CATEGORIES:Ongoing
ATTACH;FMTTYPE=image/jpeg:https://thekawarthas.ca/wp-content/uploads/2024/01/Public-Skating-Banner.jpg
END:VEVENT
BEGIN:VEVENT
DTSTART;TZID=America/Toronto:20240313T130000
DTEND;TZID=America/Toronto:20240313T150000
DTSTAMP:20260420T122249
CREATED:20240115T193724Z
LAST-MODIFIED:20240115T193724Z
UID:10006988-1710334800-1710342000@thekawarthas.ca
SUMMARY:Peterborough Public Skate
DESCRIPTION:Public skates are offered as part of Recreation Services Drop-in Programs.
URL:https://thekawarthas.ca/event/peterborough-public-skate/2024-03-13/
LOCATION:The Healthy Planet Arena\, 911 Monaghan Rd\, Peterborough\, Ontario\, K9J 5K5\, Canada
CATEGORIES:Ongoing
ATTACH;FMTTYPE=image/png:https://thekawarthas.ca/wp-content/uploads/2024/01/BoxMicrosoftTeams-image-84.png
END:VEVENT
BEGIN:VEVENT
DTSTART;TZID=America/Toronto:20240313T120000
DTEND;TZID=America/Toronto:20240313T140000
DTSTAMP:20260420T122249
CREATED:20240229T165226Z
LAST-MODIFIED:20240229T165415Z
UID:10008848-1710331200-1710338400@thekawarthas.ca
SUMMARY:Kids Paint Class
DESCRIPTION:Kids Paint Class on March 13th at 12:00 PM – 2:00 PM \n$10 per child includes canvas\, paint supplies. Paint instructor to host the event. Coloring contest and kids movie \nPre-payment mandatory. \nBoston Pizza Peterborough Chemong Road Location.
URL:https://thekawarthas.ca/event/kids-paint-class/
LOCATION:Boston Pizza Peterborough North\, 1164 Chemong Road\, Peterborough\, ON\, K9J 6X2
CATEGORIES:Arts & Entertainment
ATTACH;FMTTYPE=image/jpeg:https://thekawarthas.ca/wp-content/uploads/2024/01/bostonpizza_logo21.jpg
END:VEVENT
BEGIN:VEVENT
DTSTART;TZID=America/Toronto:20240313T110000
DTEND;TZID=America/Toronto:20240313T170000
DTSTAMP:20260420T122249
CREATED:20240229T154318Z
LAST-MODIFIED:20240229T154354Z
UID:10008843-1710327600-1710349200@thekawarthas.ca
SUMMARY:March Break Garden Party Kids Club
DESCRIPTION:Step into our enchanting world for a magical journey of creativity and fun. Join as we dive into the whimsical realm of fairy\, gnome\, or dinosaur gardens or terrariums to design a fantastical miniature world. \nTiny Greens’ planting experience features an extensive decoration bar brimming with vibrant sands\, stones\, moss\, dazzling jewels\, & Figurines! Kids will play and scavenger hunt through our lush jungle of greens\, get to spin and win on our wheel of prizes\, and more this March break at Tiny Greens. \nSchedule\nDrop-in planting studio every day \nTuesday & Wednesday: Kids Club 10:30am-12pm \nThursday & Friday: Kids Club 10:30am-12pm & 1pm-2:30pm
URL:https://thekawarthas.ca/event/march-break-garden-party-kids-club/2024-03-13/
LOCATION:Tiny Greens Plant Shop and Planting Studios\, 431 George st N\, Peterborough\, K9H3R4\, Canada
CATEGORIES:Arts & Entertainment,Holiday Related
ATTACH;FMTTYPE=image/webp:https://thekawarthas.ca/wp-content/uploads/2024/02/B1C5FF7B-5348-469A-8E33-9960EB9E5180_1597104416-e1709221428519.webp
ORGANIZER;CN="Tiny Greens Plant Shop and Planting Studios":MAILTO:orders@tinygreens.ca
END:VEVENT
BEGIN:VEVENT
DTSTART;TZID=America/Toronto:20240313T110000
DTEND;TZID=America/Toronto:20240313T170000
DTSTAMP:20260420T122249
CREATED:20240111T165405Z
LAST-MODIFIED:20240111T165516Z
UID:10006785-1710327600-1710349200@thekawarthas.ca
SUMMARY:seams and strata
DESCRIPTION:As the Art Gallery of Peterborough enters its 50th anniversary year in 2024\, we are digging into our archives and reconnecting with our founders to engage with our past. Looking through old photographs and archives offers us a chance to marvel at where we’ve been and where we’ve come from; at what has changed and what remains. Sifting through filing cabinets packed with layers of paperwork\, notes\, and images feels a bit like an archeological dig. We make careful work of it\, pausing when we unearth something precious\, like a handwritten letter on fine paper or a photograph with younger versions of familiar faces. \nThis juried exhibition invited artists to submit original works of art that resonate with themes of legacy\, archives\, nostalgia\, ghosts\, memory\, survival\, and growth. \nTree rings and stratified rock mark the passage of time and changing conditions\, like layers of once fashionable wallpaper. The strata of our lives can be studied and excavated\, unleashing seams of joy\, curiosity\, wonder\, or grief. Throughout three ramps and the main gallery\, works by fifty-five artists bring forward the findings of their own excavations.
URL:https://thekawarthas.ca/event/seams-and-strata/2024-03-13/
LOCATION:Art Gallery of Peterborough\, 250 Crescent Street\, Peterborough\, ON\, K9J 2G1\, Canada
CATEGORIES:Arts & Entertainment,Exhibits & Shows,Ongoing
ATTACH;FMTTYPE=image/jpeg:https://thekawarthas.ca/wp-content/uploads/2023/11/Mireau-Drawing_detail_1-1-scaled-e1704992009764.jpg
ORGANIZER;CN="Art Gallery of Peterborough":MAILTO:gallery@agp.on.ca
END:VEVENT
BEGIN:VEVENT
DTSTART;TZID=America/Toronto:20240313T110000
DTEND;TZID=America/Toronto:20240313T130000
DTSTAMP:20260420T122249
CREATED:20240115T194841Z
LAST-MODIFIED:20240115T195046Z
UID:10007565-1710327600-1710334800@thekawarthas.ca
SUMMARY:Apsley Public Skate
DESCRIPTION:Enjoy public skating at the NKCC!
URL:https://thekawarthas.ca/event/apsley-public-skate/2024-03-13/
LOCATION:North Kawartha Community Centre\, 340 McFadden Rd\, Apsley\, K0L 1A0
CATEGORIES:Ongoing
ATTACH;FMTTYPE=image/png:https://thekawarthas.ca/wp-content/uploads/2024/01/skating.png
END:VEVENT
BEGIN:VEVENT
DTSTART;TZID=America/Toronto:20240313T110000
DTEND;TZID=America/Toronto:20240313T123000
DTSTAMP:20260420T122249
CREATED:20231221T155854Z
LAST-MODIFIED:20231221T155854Z
UID:10006635-1710327600-1710333000@thekawarthas.ca
SUMMARY:Public Skating in Ennismore
DESCRIPTION:Ennismore’s public skating is open to all ages and abilities. Get active with friends and family and try a public skate today. All dates featured are sponsored by local businesses\, therefore they are free!
URL:https://thekawarthas.ca/event/public-skating-in-ennismore/2024-03-13/
LOCATION:Lakefield-Smith Community Centre\, 20 Concession St\, Lakefield\, Lakefield\, K0L 2H0
CATEGORIES:Ongoing
END:VEVENT
BEGIN:VEVENT
DTSTART;TZID=America/Toronto:20240313T093000
DTEND;TZID=America/Toronto:20240313T120000
DTSTAMP:20260420T122249
CREATED:20240131T192652Z
LAST-MODIFIED:20240131T192652Z
UID:10007710-1710322200-1710331200@thekawarthas.ca
SUMMARY:March Break- Lets Knit
DESCRIPTION:Looking for fun creative activities for children this March Break? Hutchison House hosts a variety of fun crafts and activities over the spring break. Day camps will run from 9:30 a.m. to 12:30 p.m. on March 8th\, 11th\, 12th\, 13th and 14th. Suitable for children aged 6 to 12. Please make sure to bring a peanut-free snack and indoor shoes. Each day is a different theme with different activities. Cost is $25 per program and pre-registration is required. For more information or to register a child please phone the museum office at 705-743-9710 or email at info@hutchisonhouse.ca. \nWednesday March 13: Let’s Knit!\nChildren will learn the basics of knitting and create their own small take home project. Materials will be provided.
URL:https://thekawarthas.ca/event/march-break-lets-knit/
LOCATION:Hutchison House Museum\, 270 Brock Street\, Peterborough\, Ontario\, K9H 2P9\, Canada
CATEGORIES:Arts & Entertainment,Cultural Heritage
ATTACH;FMTTYPE=image/jpeg:https://thekawarthas.ca/wp-content/uploads/2024/01/DSC_1491.jpg
ORGANIZER;CN="Hutchison House Museum":MAILTO:info@hutchisonhouse.ca
END:VEVENT
BEGIN:VEVENT
DTSTART;TZID=America/Toronto:20240313T083000
DTEND;TZID=America/Toronto:20240313T163000
DTSTAMP:20260420T122249
CREATED:20240212T202903Z
LAST-MODIFIED:20240212T202903Z
UID:10008516-1710318600-1710347400@thekawarthas.ca
SUMMARY:March Break Madness
DESCRIPTION:A fun\, engaging place to send your 6-13 year old for the week of March Break! \nEach day of the week we have a different theme. We offer supervised outdoor play time. Please make sure to bring a nut aware lunch\, refillable water bottle and indoor shoes! Each day March 11-15 is 8:30-4:30. $55/day or $250 for the week!
URL:https://thekawarthas.ca/event/march-break-madness/2024-03-13/
LOCATION:Grand Events\, 861 Chemong Road\, Unit 16\, Peterborough\, ON\, K9H 5Z5
CATEGORIES:Arts & Entertainment,Ongoing
ATTACH;FMTTYPE=image/png:https://thekawarthas.ca/wp-content/uploads/2021/10/pkt-pattern-1-e1707487676944.png
ORGANIZER;CN="Grand Events":MAILTO:grandeventsptbo@hotmail.com
END:VEVENT
BEGIN:VEVENT
DTSTART;TZID=America/Toronto:20240313T080000
DTEND;TZID=America/Toronto:20240313T130000
DTSTAMP:20260420T122249
CREATED:20231108T182638Z
LAST-MODIFIED:20240514T175813Z
UID:10006322-1710316800-1710334800@thekawarthas.ca
SUMMARY:Peterborough Regional Farmers' Market
DESCRIPTION:Peterborough Regional Farmers’ Market\nMay 1st to October 30th \nWednesdays and Saturdays ~ 8am to 1pm \nWe are a verified Farmers’ Market. LOCAL FOOD YOU CAN TRUST. \nBuy directly from the farmer who grew it\, raised it\, harvested\, or foraged it! Sixty percent of our vendors are primary producers who have gone through a third party inspection process to verify they grow 100% of what they sell. The remaining forty percent include bakers\, prepared food vendors\, artists and community groups. \nEnjoy a festive market atmosphere with Peterborough’s finest prepared food vendors\, artisans and musicians. \nCome find us every Wednesday and Saturday to find local produce\, delicious takeaway meals and goodies\, and artisan wares. We look forward to seeing you there!
URL:https://thekawarthas.ca/event/peterborough-regional-farmers-market/2024-03-13/
LOCATION:Quaker Foods City Square\, 215 Charlotte Street\, Peterborough\, Ontario\, K9J 2T7\, Canada
CATEGORIES:Agriculture & Culinary,Farmers' Market
ATTACH;FMTTYPE=image/jpeg:https://thekawarthas.ca/wp-content/uploads/2019/01/Peterborough-Regional-FM-Honey-scaled.jpg
ORGANIZER;CN="The Peterborough Regional Farmers%E2%80%99 Market":MAILTO:info@ptboregionalfarmersmarket.com
END:VEVENT
BEGIN:VEVENT
DTSTART;TZID=America/Toronto:20240312T180000
DTEND;TZID=America/Toronto:20240312T190000
DTSTAMP:20260420T122249
CREATED:20240115T185435Z
LAST-MODIFIED:20240115T185435Z
UID:10006960-1710266400-1710270000@thekawarthas.ca
SUMMARY:Milbrook Public Skate
DESCRIPTION:March Break Skate\nPublic Skating continues at the Cavan Monaghan Community Centre.  Our regular Winter schedule will run from Sunday January 7th\, 2024 to Sunday March 31st\, 2024.
URL:https://thekawarthas.ca/event/milbrook-public-skate-4/2024-03-12/
LOCATION:Cavan Monaghan Community Centre\, 986 Peterborough County Road 10\, Millbrook\, L0A 1G0
CATEGORIES:Ongoing
ATTACH;FMTTYPE=image/jpeg:https://thekawarthas.ca/wp-content/uploads/2024/01/Public-Skating-Banner.jpg
END:VEVENT
BEGIN:VEVENT
DTSTART;TZID=America/Toronto:20240312T180000
DTEND;TZID=America/Toronto:20240312T190000
DTSTAMP:20260420T122249
CREATED:20240115T154105Z
LAST-MODIFIED:20240115T154105Z
UID:10006852-1710266400-1710270000@thekawarthas.ca
SUMMARY:Trail Tales
DESCRIPTION:Come out for an evening family stroll along some of Peterborough’s lovely trails while Laura shares some oral stories\, songs and rhymes that connect us to the natural beauty around us. \nPlease dress for the weather\, we only cancel if there’s severe weather. \nJan 23 – Meet at Pioneer Memorial Park: Master’s College and Seminary \nFeb 20- Meet at Sherbrooke Woods: Monseigneur-Jamot \nMar 12 – London Street Footbridge \nApr 9 – Mark S. Burnham Provincial Park parking lot \nApr 23 – Bridlewood Park (1684 Ramblewood Drive) \nMay 7 – Inverlea Park (18 Dennistoun Avenue) \nMay 21 – Little Lake Cemetery main gate (915 Haggart St)
URL:https://thekawarthas.ca/event/trail-tales/2024-03-12/
CATEGORIES:Arts & Entertainment,Outdoors & Nature
END:VEVENT
BEGIN:VEVENT
DTSTART;TZID=America/Toronto:20240312T170000
DTEND;TZID=America/Toronto:20240312T190000
DTSTAMP:20260420T122249
CREATED:20240229T191200Z
LAST-MODIFIED:20240229T191200Z
UID:10008852-1710262800-1710270000@thekawarthas.ca
SUMMARY:Meet and Greet with Elsa & Olaf
DESCRIPTION:Meet and Greet with Elsa & Olaf\, on March 12th 5:00 PM- 7:00 PM \nFree of charge event\, coloring contest and kids movie. \nBoston Pizza Peterborough Lansdowne location.
URL:https://thekawarthas.ca/event/meet-and-greet-with-elsa-olaf/
LOCATION:Boston Pizza Peterborough South\, 821 Rye Street\, Peterborough\, ON\, K9J 6X1
CATEGORIES:Arts & Entertainment
ATTACH;FMTTYPE=image/jpeg:https://thekawarthas.ca/wp-content/uploads/2024/01/bostonpizza_logo21.jpg
END:VEVENT
BEGIN:VEVENT
DTSTART;TZID=America/Toronto:20240312T170000
DTEND;TZID=America/Toronto:20240312T190000
DTSTAMP:20260420T122249
CREATED:20240229T165026Z
LAST-MODIFIED:20240229T165026Z
UID:10008847-1710262800-1710270000@thekawarthas.ca
SUMMARY:Dinner with Peppa Pig
DESCRIPTION:Dinner with Peppa Pig and George on March 12th at 5:00 PM – 7:00 PM \nFree of charge event\, coloring contest and kids movie \nBoston Pizza Peterborough Chemong Road Location.
URL:https://thekawarthas.ca/event/dinner-with-peppa-pig/
LOCATION:Boston Pizza Peterborough North\, 1164 Chemong Road\, Peterborough\, ON\, K9J 6X2
CATEGORIES:Arts & Entertainment
ATTACH;FMTTYPE=image/jpeg:https://thekawarthas.ca/wp-content/uploads/2024/01/bostonpizza_logo21.jpg
END:VEVENT
BEGIN:VEVENT
DTSTART;TZID=America/Toronto:20240312T130000
DTEND;TZID=America/Toronto:20240312T160000
DTSTAMP:20260420T122249
CREATED:20240304T193350Z
LAST-MODIFIED:20240304T193350Z
UID:10008872-1710248400-1710259200@thekawarthas.ca
SUMMARY:Youth - Journal Making
DESCRIPTION:For ages 7 and up\, a fun and educational arts activity for your March Break!  \nIn this workshop we will learn some basic bookbinding techniques and make a couple small books. We will learn about materials for books and how to use the pamphlet stitch technique\, as well as a few additional methods to make our journals. \nWe endeavor to use easy to source materials in all our classes so participants can continue to practice these crafts and techniques on their own if they so wish to! \nThis class is $30 per registrant. All materials are included. The class is 3 hours long and instructed by local artist Jeffrey Macklin of Jackson Creek Press.
URL:https://thekawarthas.ca/event/youth-journal-making/
LOCATION:Peterborough Square\, 340 George St. N.\, Peterborough\, Ontario\, K9H 7E8\, Canada
CATEGORIES:Arts & Entertainment
ATTACH;FMTTYPE=image/png:https://thekawarthas.ca/wp-content/uploads/2024/03/New-Project-12.png
ORGANIZER;CN="Artisans Centre Peterborough":MAILTO:admin@artisanscentre.ca
GEO:44.3040778;-78.3217929
X-APPLE-STRUCTURED-LOCATION;VALUE=URI;X-ADDRESS=Peterborough Square 340 George St. N. Peterborough Ontario K9H 7E8 Canada;X-APPLE-RADIUS=500;X-TITLE=340 George St. N.:geo:-78.3217929,44.3040778
END:VEVENT
BEGIN:VEVENT
DTSTART;TZID=America/Toronto:20240312T130000
DTEND;TZID=America/Toronto:20240312T150000
DTSTAMP:20260420T122249
CREATED:20240115T193724Z
LAST-MODIFIED:20240115T193724Z
UID:10006987-1710248400-1710255600@thekawarthas.ca
SUMMARY:Peterborough Public Skate
DESCRIPTION:Public skates are offered as part of Recreation Services Drop-in Programs.
URL:https://thekawarthas.ca/event/peterborough-public-skate/2024-03-12/
LOCATION:The Healthy Planet Arena\, 911 Monaghan Rd\, Peterborough\, Ontario\, K9J 5K5\, Canada
CATEGORIES:Ongoing
ATTACH;FMTTYPE=image/png:https://thekawarthas.ca/wp-content/uploads/2024/01/BoxMicrosoftTeams-image-84.png
END:VEVENT
BEGIN:VEVENT
DTSTART;TZID=America/Toronto:20240312T120000
DTEND;TZID=America/Toronto:20240312T130000
DTSTAMP:20260420T122249
CREATED:20231221T154647Z
LAST-MODIFIED:20231221T154726Z
UID:10006580-1710244800-1710248400@thekawarthas.ca
SUMMARY:Public Skating in Lakefield
DESCRIPTION:Lakefield’s public skating is open to all ages and abilities. Get active with friends and family and try a public skate today. All dates featured are sponsored by local businesses\, therefore they are free!
URL:https://thekawarthas.ca/event/public-skating-in-lakefield/2024-03-12/
LOCATION:Lakefield-Smith Community Centre\, 20 Concession St\, Lakefield\, Lakefield\, K0L 2H0
CATEGORIES:Ongoing
END:VEVENT
BEGIN:VEVENT
DTSTART;TZID=America/Toronto:20240312T110000
DTEND;TZID=America/Toronto:20240312T170000
DTSTAMP:20260420T122249
CREATED:20240229T154318Z
LAST-MODIFIED:20240229T154354Z
UID:10008842-1710241200-1710262800@thekawarthas.ca
SUMMARY:March Break Garden Party Kids Club
DESCRIPTION:Step into our enchanting world for a magical journey of creativity and fun. Join as we dive into the whimsical realm of fairy\, gnome\, or dinosaur gardens or terrariums to design a fantastical miniature world. \nTiny Greens’ planting experience features an extensive decoration bar brimming with vibrant sands\, stones\, moss\, dazzling jewels\, & Figurines! Kids will play and scavenger hunt through our lush jungle of greens\, get to spin and win on our wheel of prizes\, and more this March break at Tiny Greens. \nSchedule\nDrop-in planting studio every day \nTuesday & Wednesday: Kids Club 10:30am-12pm \nThursday & Friday: Kids Club 10:30am-12pm & 1pm-2:30pm
URL:https://thekawarthas.ca/event/march-break-garden-party-kids-club/2024-03-12/
LOCATION:Tiny Greens Plant Shop and Planting Studios\, 431 George st N\, Peterborough\, K9H3R4\, Canada
CATEGORIES:Arts & Entertainment,Holiday Related
ATTACH;FMTTYPE=image/webp:https://thekawarthas.ca/wp-content/uploads/2024/02/B1C5FF7B-5348-469A-8E33-9960EB9E5180_1597104416-e1709221428519.webp
ORGANIZER;CN="Tiny Greens Plant Shop and Planting Studios":MAILTO:orders@tinygreens.ca
END:VEVENT
BEGIN:VEVENT
DTSTART;TZID=America/Toronto:20240312T110000
DTEND;TZID=America/Toronto:20240312T130000
DTSTAMP:20260420T122249
CREATED:20240115T194841Z
LAST-MODIFIED:20240115T195046Z
UID:10007564-1710241200-1710248400@thekawarthas.ca
SUMMARY:Apsley Public Skate
DESCRIPTION:Enjoy public skating at the NKCC!
URL:https://thekawarthas.ca/event/apsley-public-skate/2024-03-12/
LOCATION:North Kawartha Community Centre\, 340 McFadden Rd\, Apsley\, K0L 1A0
CATEGORIES:Ongoing
ATTACH;FMTTYPE=image/png:https://thekawarthas.ca/wp-content/uploads/2024/01/skating.png
END:VEVENT
BEGIN:VEVENT
DTSTART;TZID=America/Toronto:20240312T093000
DTEND;TZID=America/Toronto:20240312T120000
DTSTAMP:20260420T122249
CREATED:20240131T192717Z
LAST-MODIFIED:20240131T192717Z
UID:10007709-1710235800-1710244800@thekawarthas.ca
SUMMARY:March Break- Tie Dye
DESCRIPTION:Looking for fun creative activities for children this March Break? Hutchison House hosts a variety of fun crafts and activities over the spring break. Day camps will run from 9:30 a.m. to 12:30 p.m. on March 8th\, 11th\, 12th\, 13th and 14th. Suitable for children aged 6 to 12. Please make sure to bring a peanut-free snack and indoor shoes. Each day is a different theme with different activities. Cost is $25 per program and pre-registration is required. For more information or to register a child please phone the museum office at 705-743-9710 or email at info@hutchisonhouse.ca. \nTuesday March 12: Tie Dye\nChildren will create and dye material two different ways including their own t-shirt. Sizes required upon registration.
URL:https://thekawarthas.ca/event/march-break-tie-dye/
LOCATION:Hutchison House Museum\, 270 Brock Street\, Peterborough\, Ontario\, K9H 2P9\, Canada
CATEGORIES:Arts & Entertainment,Cultural Heritage
ATTACH;FMTTYPE=image/jpeg:https://thekawarthas.ca/wp-content/uploads/2024/01/DSC_1491.jpg
ORGANIZER;CN="Hutchison House Museum":MAILTO:info@hutchisonhouse.ca
END:VEVENT
BEGIN:VEVENT
DTSTART;TZID=America/Toronto:20240312T083000
DTEND;TZID=America/Toronto:20240312T163000
DTSTAMP:20260420T122249
CREATED:20240212T202903Z
LAST-MODIFIED:20240212T202903Z
UID:10008515-1710232200-1710261000@thekawarthas.ca
SUMMARY:March Break Madness
DESCRIPTION:A fun\, engaging place to send your 6-13 year old for the week of March Break! \nEach day of the week we have a different theme. We offer supervised outdoor play time. Please make sure to bring a nut aware lunch\, refillable water bottle and indoor shoes! Each day March 11-15 is 8:30-4:30. $55/day or $250 for the week!
URL:https://thekawarthas.ca/event/march-break-madness/2024-03-12/
LOCATION:Grand Events\, 861 Chemong Road\, Unit 16\, Peterborough\, ON\, K9H 5Z5
CATEGORIES:Arts & Entertainment,Ongoing
ATTACH;FMTTYPE=image/png:https://thekawarthas.ca/wp-content/uploads/2021/10/pkt-pattern-1-e1707487676944.png
ORGANIZER;CN="Grand Events":MAILTO:grandeventsptbo@hotmail.com
END:VEVENT
BEGIN:VEVENT
DTSTART;TZID=America/Toronto:20240311T180000
DTEND;TZID=America/Toronto:20240311T190000
DTSTAMP:20260420T122249
CREATED:20240115T185435Z
LAST-MODIFIED:20240115T185435Z
UID:10006959-1710180000-1710183600@thekawarthas.ca
SUMMARY:Milbrook Public Skate
DESCRIPTION:March Break Skate\nPublic Skating continues at the Cavan Monaghan Community Centre.  Our regular Winter schedule will run from Sunday January 7th\, 2024 to Sunday March 31st\, 2024.
URL:https://thekawarthas.ca/event/milbrook-public-skate-4/2024-03-11/2/
LOCATION:Cavan Monaghan Community Centre\, 986 Peterborough County Road 10\, Millbrook\, L0A 1G0
CATEGORIES:Ongoing
ATTACH;FMTTYPE=image/jpeg:https://thekawarthas.ca/wp-content/uploads/2024/01/Public-Skating-Banner.jpg
END:VEVENT
BEGIN:VEVENT
DTSTART;TZID=America/Toronto:20240311T170000
DTEND;TZID=America/Toronto:20240311T190000
DTSTAMP:20260420T122249
CREATED:20240229T191048Z
LAST-MODIFIED:20240229T191048Z
UID:10008851-1710176400-1710183600@thekawarthas.ca
SUMMARY:Royal Ball Night
DESCRIPTION:Meet and Greet with Beauty and The Beast\, on March 11th 5:00 PM- 7:00 PM \nFree of charge event\, coloring contest and kids movie. \nBoston Pizza Peterborough Lansdowne location.
URL:https://thekawarthas.ca/event/royal-ball-night-2/
LOCATION:Boston Pizza Peterborough South\, 821 Rye Street\, Peterborough\, ON\, K9J 6X1
CATEGORIES:Arts & Entertainment
ATTACH;FMTTYPE=image/jpeg:https://thekawarthas.ca/wp-content/uploads/2024/01/bostonpizza_logo21.jpg
END:VEVENT
BEGIN:VEVENT
DTSTART;TZID=America/Toronto:20240311T130000
DTEND;TZID=America/Toronto:20240311T150000
DTSTAMP:20260420T122249
CREATED:20240115T193724Z
LAST-MODIFIED:20240115T193724Z
UID:10006986-1710162000-1710169200@thekawarthas.ca
SUMMARY:Peterborough Public Skate
DESCRIPTION:Public skates are offered as part of Recreation Services Drop-in Programs.
URL:https://thekawarthas.ca/event/peterborough-public-skate/2024-03-11/
LOCATION:The Healthy Planet Arena\, 911 Monaghan Rd\, Peterborough\, Ontario\, K9J 5K5\, Canada
CATEGORIES:Ongoing
ATTACH;FMTTYPE=image/png:https://thekawarthas.ca/wp-content/uploads/2024/01/BoxMicrosoftTeams-image-84.png
END:VEVENT
BEGIN:VEVENT
DTSTART;TZID=America/Toronto:20240311T120000
DTEND;TZID=America/Toronto:20240311T140000
DTSTAMP:20260420T122249
CREATED:20240229T160144Z
LAST-MODIFIED:20240229T160144Z
UID:10008846-1710158400-1710165600@thekawarthas.ca
SUMMARY:Create-Your-Own Pizza & Photo Booth
DESCRIPTION:Create-Your-Own Pizza & Photo booth with Lionel on March 11th at 12:00 PM – 2:00 PM \nBoston Pizza Peterborough Chemong Road Location. Create-Your-Own Pizza for $8.88\, coloring contest and kids movie
URL:https://thekawarthas.ca/event/create-your-own-pizza-photo-booth/
LOCATION:Boston Pizza Peterborough North\, 1164 Chemong Road\, Peterborough\, ON\, K9J 6X2
CATEGORIES:Arts & Entertainment
ATTACH;FMTTYPE=image/jpeg:https://thekawarthas.ca/wp-content/uploads/2024/01/bostonpizza_logo21.jpg
END:VEVENT
END:VCALENDAR