BEGIN:VCALENDAR
VERSION:2.0
PRODID:-//The Kawarthas Tourism - ECPv6.15.20//NONSGML v1.0//EN
CALSCALE:GREGORIAN
METHOD:PUBLISH
X-WR-CALNAME:The Kawarthas Tourism
X-ORIGINAL-URL:https://thekawarthas.ca
X-WR-CALDESC:Events for The Kawarthas Tourism
REFRESH-INTERVAL;VALUE=DURATION:PT1H
X-Robots-Tag:noindex
X-PUBLISHED-TTL:PT1H
BEGIN:VTIMEZONE
TZID:America/Toronto
BEGIN:DAYLIGHT
TZOFFSETFROM:-0500
TZOFFSETTO:-0400
TZNAME:EDT
DTSTART:20250309T070000
END:DAYLIGHT
BEGIN:STANDARD
TZOFFSETFROM:-0400
TZOFFSETTO:-0500
TZNAME:EST
DTSTART:20251102T060000
END:STANDARD
BEGIN:DAYLIGHT
TZOFFSETFROM:-0500
TZOFFSETTO:-0400
TZNAME:EDT
DTSTART:20260308T070000
END:DAYLIGHT
BEGIN:STANDARD
TZOFFSETFROM:-0400
TZOFFSETTO:-0500
TZNAME:EST
DTSTART:20261101T060000
END:STANDARD
BEGIN:DAYLIGHT
TZOFFSETFROM:-0500
TZOFFSETTO:-0400
TZNAME:EDT
DTSTART:20270314T070000
END:DAYLIGHT
BEGIN:STANDARD
TZOFFSETFROM:-0400
TZOFFSETTO:-0500
TZNAME:EST
DTSTART:20271107T060000
END:STANDARD
END:VTIMEZONE
BEGIN:VEVENT
DTSTART;VALUE=DATE:20260815
DTEND;VALUE=DATE:20260816
DTSTAMP:20260423T044340
CREATED:20260115T205826Z
LAST-MODIFIED:20260115T205826Z
UID:10012974-1786752000-1786838399@thekawarthas.ca
SUMMARY:Middle Path Trail Race
DESCRIPTION:The Middle Path Ultra and Trail race is part of the Outrace Series and Athletics Ontario Trillium Running series. The goal of the Middle Path Organization committee is to provide a race that is accessible to all athletes. Working with Kawartha Nordic and all our sponsors we value the importance of maintaining the environment and becoming a responsible event organizer. We are a green organization that promotes green initiatives and being environmentally friendly. \nEvents offered on Saturday August 15th\, 2026 include: \n– 2 km Kids’ Race\n– 5 km Cross Country Race\n– 13 km Trail Race\n– 13 km Team Event\n– 26 km Trail Event\n– 52 km Ultra Event \nSee event website: https://www.middlepathultra.ca for registration information.
URL:https://thekawarthas.ca/event/middle-path-trail-race-2/
LOCATION:Kawartha Nordic\, 7107 Highway 28\, North Kawartha\, ON\, K0L 1A0
CATEGORIES:Outdoors & Nature,Sporting Events
ATTACH;FMTTYPE=image/png:https://thekawarthas.ca/wp-content/uploads/2025/01/middlepathlogo-2.png
ORGANIZER;CN="The Middle Path Trail Race":MAILTO:darl_sutherland@hotmail.com
END:VEVENT
END:VCALENDAR