BEGIN:VCALENDAR
VERSION:2.0
PRODID:-//The Kawarthas Tourism - ECPv6.15.20//NONSGML v1.0//EN
CALSCALE:GREGORIAN
METHOD:PUBLISH
X-WR-CALNAME:The Kawarthas Tourism
X-ORIGINAL-URL:https://thekawarthas.ca
X-WR-CALDESC:Events for The Kawarthas Tourism
REFRESH-INTERVAL;VALUE=DURATION:PT1H
X-Robots-Tag:noindex
X-PUBLISHED-TTL:PT1H
BEGIN:VTIMEZONE
TZID:America/Toronto
BEGIN:DAYLIGHT
TZOFFSETFROM:-0500
TZOFFSETTO:-0400
TZNAME:EDT
DTSTART:20220313T070000
END:DAYLIGHT
BEGIN:STANDARD
TZOFFSETFROM:-0400
TZOFFSETTO:-0500
TZNAME:EST
DTSTART:20221106T060000
END:STANDARD
BEGIN:DAYLIGHT
TZOFFSETFROM:-0500
TZOFFSETTO:-0400
TZNAME:EDT
DTSTART:20230312T070000
END:DAYLIGHT
BEGIN:STANDARD
TZOFFSETFROM:-0400
TZOFFSETTO:-0500
TZNAME:EST
DTSTART:20231105T060000
END:STANDARD
BEGIN:DAYLIGHT
TZOFFSETFROM:-0500
TZOFFSETTO:-0400
TZNAME:EDT
DTSTART:20240310T070000
END:DAYLIGHT
BEGIN:STANDARD
TZOFFSETFROM:-0400
TZOFFSETTO:-0500
TZNAME:EST
DTSTART:20241103T060000
END:STANDARD
END:VTIMEZONE
BEGIN:VEVENT
DTSTART;TZID=America/Toronto:20231118T130000
DTEND;TZID=America/Toronto:20231118T150000
DTSTAMP:20260420T060205
CREATED:20230728T202011Z
LAST-MODIFIED:20230728T202011Z
UID:10003298-1700312400-1700319600@thekawarthas.ca
SUMMARY:Forest Bathing
DESCRIPTION:Take a chance to unplug\, slow down\, and maybe even hug a tree! Forest bathing\, also known as shinrin-yoku\, or forest therapy\, is an intuitive and accessible nature connection practice that encourages mindfulness\, relaxation\, and building more meaningful relationships with the land. This walk will proceed at a slow pace\, interspersed with invitations for stillness\, contemplation\, exploration\, and group interaction. \nReserve your spot here!
URL:https://thekawarthas.ca/event/forest-bathing/
LOCATION:KLT’s Stony Lake Trails\, Stony Lake Trails Network\, North Kawartha\, Ontario\, Canada
CATEGORIES:Outdoors & Nature
ATTACH;FMTTYPE=image/webp:https://thekawarthas.ca/wp-content/uploads/2023/07/KLT-Passport-to-Nature-logo-1024x868-1.webp
ORGANIZER;CN="Kawartha Land Trust":MAILTO:info@kawarthalandtrust.org
END:VEVENT
END:VCALENDAR