BEGIN:VCALENDAR
VERSION:2.0
PRODID:-//The Kawarthas Tourism - ECPv6.15.20//NONSGML v1.0//EN
CALSCALE:GREGORIAN
METHOD:PUBLISH
X-WR-CALNAME:The Kawarthas Tourism
X-ORIGINAL-URL:https://thekawarthas.ca
X-WR-CALDESC:Events for The Kawarthas Tourism
REFRESH-INTERVAL;VALUE=DURATION:PT1H
X-Robots-Tag:noindex
X-PUBLISHED-TTL:PT1H
BEGIN:VTIMEZONE
TZID:America/Toronto
BEGIN:DAYLIGHT
TZOFFSETFROM:-0500
TZOFFSETTO:-0400
TZNAME:EDT
DTSTART:20250309T070000
END:DAYLIGHT
BEGIN:STANDARD
TZOFFSETFROM:-0400
TZOFFSETTO:-0500
TZNAME:EST
DTSTART:20251102T060000
END:STANDARD
BEGIN:DAYLIGHT
TZOFFSETFROM:-0500
TZOFFSETTO:-0400
TZNAME:EDT
DTSTART:20260308T070000
END:DAYLIGHT
BEGIN:STANDARD
TZOFFSETFROM:-0400
TZOFFSETTO:-0500
TZNAME:EST
DTSTART:20261101T060000
END:STANDARD
BEGIN:DAYLIGHT
TZOFFSETFROM:-0500
TZOFFSETTO:-0400
TZNAME:EDT
DTSTART:20270314T070000
END:DAYLIGHT
BEGIN:STANDARD
TZOFFSETFROM:-0400
TZOFFSETTO:-0500
TZNAME:EST
DTSTART:20271107T060000
END:STANDARD
END:VTIMEZONE
BEGIN:VEVENT
DTSTART;TZID=America/Toronto:20260302T193000
DTEND;TZID=America/Toronto:20260302T204500
DTSTAMP:20260423T063209
CREATED:20260217T175213Z
LAST-MODIFIED:20260217T175730Z
UID:10013039-1772479800-1772484300@thekawarthas.ca
SUMMARY:Owl Prowl at The Eyrie
DESCRIPTION:Grab your flashlights! Come with us for a one-hour session where we’ll go for a walk through the woods trying to call wild owls\, all while learning about our elusive woodland neighbours! We’ll be hosting three public Owl Prowls on February 23\, March 2\, and March 9. Owl Prowls start at 7:30pm\, are capped at 15 participants\, and are just $10 per person!  \nBook your spots in advance at www.TheEyrie.ca/owlprowl  \nIN REGARDS TO THE WELFARE OF WILDLIFE  \nThese sessions are responsibly run\, taking into account the wellbeing of wildlife. These are non-intrusive\, passive wildlife walks\, allowing wild owls to approach or respond to our group: wildlife is NEVER pursued\, nor are they baited. We also have several different areas to visit so that we are not over-visiting any spots.  \nShould anyone have any concerns\, please feel free to send The Eyrie an email or message.
URL:https://thekawarthas.ca/event/owl-prowl-at-the-eyrie/2026-03-02/
LOCATION:The Eyrie\, 922 County Road 504\, Apsley\, K0L 1A0
CATEGORIES:Exhibits & Shows,Outdoors & Nature,Peterborough & the Kawarthas Signature Event,Workshop
ATTACH;FMTTYPE=image/jpeg:https://thekawarthas.ca/wp-content/uploads/2026/02/628225120_1423682036212080_951732629653317227_n.jpg
ORGANIZER;CN="The Eyrie":MAILTO:info@theeyrie.ca
END:VEVENT
BEGIN:VEVENT
DTSTART;TZID=America/Toronto:20260307T090000
DTEND;TZID=America/Toronto:20260307T160000
DTSTAMP:20260423T063209
CREATED:20260209T203341Z
LAST-MODIFIED:20260209T203612Z
UID:10013015-1772874000-1772899200@thekawarthas.ca
SUMMARY:Trappers Carnival 2026
DESCRIPTION:Each year\, on the first Saturday in March\, the Trappers Carnival takes place at the NKCC. First held in 1976\, the Carnival is a fun and interactive way to promote education\, and increase awareness about fur harvesting and trapping. \nThe Carnival features all-day fur handling demonstrations\, door prizes\, food\, games\, and numerous skills competitions including trap-setting\, pelt preparation\, and more. In addition\, guests can access services such as on-site knife sharpening\, fur remodeling and repair\, new and custom fur creations\, trapper information\, and numerous vendors offering a variety of trapping and hunting-related equipment and supplies. \nThe Trappers Carnival is open from 9 am to 4 pm\, and is held in conjunction with the AMHA’s Minor Hockey Tournament. A fun and educational day for all!
URL:https://thekawarthas.ca/event/trappers-carnival-2026/
LOCATION:North Kawartha Community Centre\, 340 McFadden Rd\, Apsley\, K0L 1A0
CATEGORIES:Cultural Heritage,Exhibits & Shows,Outdoors & Nature
ATTACH;FMTTYPE=image/jpeg:https://thekawarthas.ca/wp-content/uploads/2026/02/f15f9dfb-8c1c-4d57-a426-e7f7e45d0e0e.jpg
END:VEVENT
BEGIN:VEVENT
DTSTART;TZID=America/Toronto:20260307T103000
DTEND;TZID=America/Toronto:20260307T113000
DTSTAMP:20260423T063209
CREATED:20260303T184437Z
LAST-MODIFIED:20260303T184437Z
UID:10013049-1772879400-1772883000@thekawarthas.ca
SUMMARY:Seedy Saturday Seed Swap
DESCRIPTION:Spring is just around the corner! Join the Buckhorn Community Centre for Seedy Saturday Seed Swap! \nBring your flower\, vegetable\, herb\, bush\, bee-loving\, sun-loving\, shade -loving seeds! \nIn order to make the swap successful\, please provide information about each plant\, including: \n\nname and variety\nhours of sun required\ndoes it prefer shade\nwater requirements\nheight and growth habits (climber\, spreader\, etc)\n\nPackets will be provided for this FREE drop-in event.
URL:https://thekawarthas.ca/event/seedy-saturday-seed-swap/
LOCATION:Buckhorn Community Centre\, 1782 Lakehurst Road\, Buckhorn\, ON\, K0L 1J0\, Canada
CATEGORIES:Agriculture & Culinary,Outdoors & Nature
ATTACH;FMTTYPE=image/jpeg:https://thekawarthas.ca/wp-content/uploads/2026/03/645620187_1487371030065632_8621257583938600997_n.jpg
ORGANIZER;CN="Buckhorn Community Centre":MAILTO:generalmgr@buckhorncommunitycentre.com
END:VEVENT
BEGIN:VEVENT
DTSTART;TZID=America/Toronto:20260309T193000
DTEND;TZID=America/Toronto:20260309T204500
DTSTAMP:20260423T063209
CREATED:20260217T175213Z
LAST-MODIFIED:20260217T175730Z
UID:10013040-1773084600-1773089100@thekawarthas.ca
SUMMARY:Owl Prowl at The Eyrie
DESCRIPTION:Grab your flashlights! Come with us for a one-hour session where we’ll go for a walk through the woods trying to call wild owls\, all while learning about our elusive woodland neighbours! We’ll be hosting three public Owl Prowls on February 23\, March 2\, and March 9. Owl Prowls start at 7:30pm\, are capped at 15 participants\, and are just $10 per person!  \nBook your spots in advance at www.TheEyrie.ca/owlprowl  \nIN REGARDS TO THE WELFARE OF WILDLIFE  \nThese sessions are responsibly run\, taking into account the wellbeing of wildlife. These are non-intrusive\, passive wildlife walks\, allowing wild owls to approach or respond to our group: wildlife is NEVER pursued\, nor are they baited. We also have several different areas to visit so that we are not over-visiting any spots.  \nShould anyone have any concerns\, please feel free to send The Eyrie an email or message.
URL:https://thekawarthas.ca/event/owl-prowl-at-the-eyrie/2026-03-09/
LOCATION:The Eyrie\, 922 County Road 504\, Apsley\, K0L 1A0
CATEGORIES:Exhibits & Shows,Outdoors & Nature,Peterborough & the Kawarthas Signature Event,Workshop
ATTACH;FMTTYPE=image/jpeg:https://thekawarthas.ca/wp-content/uploads/2026/02/628225120_1423682036212080_951732629653317227_n.jpg
ORGANIZER;CN="The Eyrie":MAILTO:info@theeyrie.ca
END:VEVENT
BEGIN:VEVENT
DTSTART;TZID=America/Toronto:20260314T090000
DTEND;TZID=America/Toronto:20260314T160000
DTSTAMP:20260423T063209
CREATED:20260312T184859Z
LAST-MODIFIED:20260312T194610Z
UID:10013066-1773478800-1773504000@thekawarthas.ca
SUMMARY:March Break Magic at Kawartha Nordic
DESCRIPTION:Winter isn’t hanging up its skis just yet\, and neither should you! We’ve put together a week of deals and “snow-much-fun” activities to make this the best break ever.\nWe want the whole crew out on the trails! All through March Break\, we’re offering:\n-Buy One\, Get One Trail Passes\n-Buy One\, Get One Rentals\nWacky Wednesday & S’mores- The rules are simple: Wear a costume\, get a s’mores bag. Whether you’re a dinosaur in DH leggings or a superhero on skate skis\, show us your spirit and we’ll provide the chocolatey\, marshmallowy reward.\nScavenger Hunts & Stadium Games- Looking to keep the kids entertained while you find your rhythm?\nThe Big Scavenger Hunt: Swing by the rental shop to pick up your official hunt list. Explore the trails\, find the clues\, and see if you can check off every item!\nStadium Games: We’ll have a variety of games set up right in the stadium area. It’s the perfect spot to practice your balance or engage in some friendly family competition.
URL:https://thekawarthas.ca/event/march-break-magic-at-kawartha-nordic/2026-03-14/
LOCATION:Kawartha Nordic\, 7107 Highway 28\, North Kawartha\, ON\, K0L 1A0
CATEGORIES:Outdoors & Nature,Sporting Events
ATTACH;FMTTYPE=image/jpeg:https://thekawarthas.ca/wp-content/uploads/2026/03/dinosaur-hat.jpg
ORGANIZER;CN="Kawartha Nordic":MAILTO:contact@kawarthanordic.ca
END:VEVENT
BEGIN:VEVENT
DTSTART;TZID=America/Toronto:20260315T090000
DTEND;TZID=America/Toronto:20260315T160000
DTSTAMP:20260423T063209
CREATED:20260312T184859Z
LAST-MODIFIED:20260312T194610Z
UID:10013067-1773565200-1773590400@thekawarthas.ca
SUMMARY:March Break Magic at Kawartha Nordic
DESCRIPTION:Winter isn’t hanging up its skis just yet\, and neither should you! We’ve put together a week of deals and “snow-much-fun” activities to make this the best break ever.\nWe want the whole crew out on the trails! All through March Break\, we’re offering:\n-Buy One\, Get One Trail Passes\n-Buy One\, Get One Rentals\nWacky Wednesday & S’mores- The rules are simple: Wear a costume\, get a s’mores bag. Whether you’re a dinosaur in DH leggings or a superhero on skate skis\, show us your spirit and we’ll provide the chocolatey\, marshmallowy reward.\nScavenger Hunts & Stadium Games- Looking to keep the kids entertained while you find your rhythm?\nThe Big Scavenger Hunt: Swing by the rental shop to pick up your official hunt list. Explore the trails\, find the clues\, and see if you can check off every item!\nStadium Games: We’ll have a variety of games set up right in the stadium area. It’s the perfect spot to practice your balance or engage in some friendly family competition.
URL:https://thekawarthas.ca/event/march-break-magic-at-kawartha-nordic/2026-03-15/
LOCATION:Kawartha Nordic\, 7107 Highway 28\, North Kawartha\, ON\, K0L 1A0
CATEGORIES:Outdoors & Nature,Sporting Events
ATTACH;FMTTYPE=image/jpeg:https://thekawarthas.ca/wp-content/uploads/2026/03/dinosaur-hat.jpg
ORGANIZER;CN="Kawartha Nordic":MAILTO:contact@kawarthanordic.ca
END:VEVENT
BEGIN:VEVENT
DTSTART;TZID=America/Toronto:20260316T090000
DTEND;TZID=America/Toronto:20260316T160000
DTSTAMP:20260423T063209
CREATED:20260312T184859Z
LAST-MODIFIED:20260312T194610Z
UID:10013068-1773651600-1773676800@thekawarthas.ca
SUMMARY:March Break Magic at Kawartha Nordic
DESCRIPTION:Winter isn’t hanging up its skis just yet\, and neither should you! We’ve put together a week of deals and “snow-much-fun” activities to make this the best break ever.\nWe want the whole crew out on the trails! All through March Break\, we’re offering:\n-Buy One\, Get One Trail Passes\n-Buy One\, Get One Rentals\nWacky Wednesday & S’mores- The rules are simple: Wear a costume\, get a s’mores bag. Whether you’re a dinosaur in DH leggings or a superhero on skate skis\, show us your spirit and we’ll provide the chocolatey\, marshmallowy reward.\nScavenger Hunts & Stadium Games- Looking to keep the kids entertained while you find your rhythm?\nThe Big Scavenger Hunt: Swing by the rental shop to pick up your official hunt list. Explore the trails\, find the clues\, and see if you can check off every item!\nStadium Games: We’ll have a variety of games set up right in the stadium area. It’s the perfect spot to practice your balance or engage in some friendly family competition.
URL:https://thekawarthas.ca/event/march-break-magic-at-kawartha-nordic/2026-03-16/
LOCATION:Kawartha Nordic\, 7107 Highway 28\, North Kawartha\, ON\, K0L 1A0
CATEGORIES:Outdoors & Nature,Sporting Events
ATTACH;FMTTYPE=image/jpeg:https://thekawarthas.ca/wp-content/uploads/2026/03/dinosaur-hat.jpg
ORGANIZER;CN="Kawartha Nordic":MAILTO:contact@kawarthanordic.ca
END:VEVENT
BEGIN:VEVENT
DTSTART;TZID=America/Toronto:20260317T090000
DTEND;TZID=America/Toronto:20260317T160000
DTSTAMP:20260423T063209
CREATED:20260312T184859Z
LAST-MODIFIED:20260312T194610Z
UID:10013069-1773738000-1773763200@thekawarthas.ca
SUMMARY:March Break Magic at Kawartha Nordic
DESCRIPTION:Winter isn’t hanging up its skis just yet\, and neither should you! We’ve put together a week of deals and “snow-much-fun” activities to make this the best break ever.\nWe want the whole crew out on the trails! All through March Break\, we’re offering:\n-Buy One\, Get One Trail Passes\n-Buy One\, Get One Rentals\nWacky Wednesday & S’mores- The rules are simple: Wear a costume\, get a s’mores bag. Whether you’re a dinosaur in DH leggings or a superhero on skate skis\, show us your spirit and we’ll provide the chocolatey\, marshmallowy reward.\nScavenger Hunts & Stadium Games- Looking to keep the kids entertained while you find your rhythm?\nThe Big Scavenger Hunt: Swing by the rental shop to pick up your official hunt list. Explore the trails\, find the clues\, and see if you can check off every item!\nStadium Games: We’ll have a variety of games set up right in the stadium area. It’s the perfect spot to practice your balance or engage in some friendly family competition.
URL:https://thekawarthas.ca/event/march-break-magic-at-kawartha-nordic/2026-03-17/
LOCATION:Kawartha Nordic\, 7107 Highway 28\, North Kawartha\, ON\, K0L 1A0
CATEGORIES:Outdoors & Nature,Sporting Events
ATTACH;FMTTYPE=image/jpeg:https://thekawarthas.ca/wp-content/uploads/2026/03/dinosaur-hat.jpg
ORGANIZER;CN="Kawartha Nordic":MAILTO:contact@kawarthanordic.ca
END:VEVENT
BEGIN:VEVENT
DTSTART;TZID=America/Toronto:20260318T090000
DTEND;TZID=America/Toronto:20260318T160000
DTSTAMP:20260423T063209
CREATED:20260312T184859Z
LAST-MODIFIED:20260312T194610Z
UID:10013070-1773824400-1773849600@thekawarthas.ca
SUMMARY:March Break Magic at Kawartha Nordic
DESCRIPTION:Winter isn’t hanging up its skis just yet\, and neither should you! We’ve put together a week of deals and “snow-much-fun” activities to make this the best break ever.\nWe want the whole crew out on the trails! All through March Break\, we’re offering:\n-Buy One\, Get One Trail Passes\n-Buy One\, Get One Rentals\nWacky Wednesday & S’mores- The rules are simple: Wear a costume\, get a s’mores bag. Whether you’re a dinosaur in DH leggings or a superhero on skate skis\, show us your spirit and we’ll provide the chocolatey\, marshmallowy reward.\nScavenger Hunts & Stadium Games- Looking to keep the kids entertained while you find your rhythm?\nThe Big Scavenger Hunt: Swing by the rental shop to pick up your official hunt list. Explore the trails\, find the clues\, and see if you can check off every item!\nStadium Games: We’ll have a variety of games set up right in the stadium area. It’s the perfect spot to practice your balance or engage in some friendly family competition.
URL:https://thekawarthas.ca/event/march-break-magic-at-kawartha-nordic/2026-03-18/
LOCATION:Kawartha Nordic\, 7107 Highway 28\, North Kawartha\, ON\, K0L 1A0
CATEGORIES:Outdoors & Nature,Sporting Events
ATTACH;FMTTYPE=image/jpeg:https://thekawarthas.ca/wp-content/uploads/2026/03/dinosaur-hat.jpg
ORGANIZER;CN="Kawartha Nordic":MAILTO:contact@kawarthanordic.ca
END:VEVENT
BEGIN:VEVENT
DTSTART;TZID=America/Toronto:20260319T090000
DTEND;TZID=America/Toronto:20260319T160000
DTSTAMP:20260423T063209
CREATED:20260312T184859Z
LAST-MODIFIED:20260312T194610Z
UID:10013071-1773910800-1773936000@thekawarthas.ca
SUMMARY:March Break Magic at Kawartha Nordic
DESCRIPTION:Winter isn’t hanging up its skis just yet\, and neither should you! We’ve put together a week of deals and “snow-much-fun” activities to make this the best break ever.\nWe want the whole crew out on the trails! All through March Break\, we’re offering:\n-Buy One\, Get One Trail Passes\n-Buy One\, Get One Rentals\nWacky Wednesday & S’mores- The rules are simple: Wear a costume\, get a s’mores bag. Whether you’re a dinosaur in DH leggings or a superhero on skate skis\, show us your spirit and we’ll provide the chocolatey\, marshmallowy reward.\nScavenger Hunts & Stadium Games- Looking to keep the kids entertained while you find your rhythm?\nThe Big Scavenger Hunt: Swing by the rental shop to pick up your official hunt list. Explore the trails\, find the clues\, and see if you can check off every item!\nStadium Games: We’ll have a variety of games set up right in the stadium area. It’s the perfect spot to practice your balance or engage in some friendly family competition.
URL:https://thekawarthas.ca/event/march-break-magic-at-kawartha-nordic/2026-03-19/
LOCATION:Kawartha Nordic\, 7107 Highway 28\, North Kawartha\, ON\, K0L 1A0
CATEGORIES:Outdoors & Nature,Sporting Events
ATTACH;FMTTYPE=image/jpeg:https://thekawarthas.ca/wp-content/uploads/2026/03/dinosaur-hat.jpg
ORGANIZER;CN="Kawartha Nordic":MAILTO:contact@kawarthanordic.ca
END:VEVENT
BEGIN:VEVENT
DTSTART;TZID=America/Toronto:20260319T140000
DTEND;TZID=America/Toronto:20260319T150000
DTSTAMP:20260423T063209
CREATED:20260317T162024Z
LAST-MODIFIED:20260317T162607Z
UID:10013052-1773928800-1773932400@thekawarthas.ca
SUMMARY:March Break at The Eyrie - Birds of Prey
DESCRIPTION:The Eyrie is a Birds of Prey centre with the goal of instilling a respect\, sense of wonder\, and knowledge of raptors in the public. Their focus is on educating the public on the raptors that live in both their own neighbourhoods & around the world through live\, up-close\, free-flight demonstrations. \nThere’s nothing quite like seeing a hawk or eagle in person\, and it leaves a lasting impression that inspires a lifetime of curiosity and a desire to learn. \nCome early and MEET YOUR LOCAL COMMUNITY GROUPS STARTING AT 1:00 PM.\nLocal groups to be in attendance include:\n• ABC Seniors\n• Apsley Lion’s\n• Apsley Legion Branch 381\n• Community Care\n• Compass Day Care\n• North Kawartha Food Bank\n• North Kawartha Public Library\n• North Kawartha Township \nBirds of Prey show starts at 2:00 PM at the NKCC\, 340 McFadden Road\, Apsley \nBROUGHT TO YOU IN PARTNERSHIP BY:\n• ABC Seniors Apsley\n• The North Kawartha Public Library\n• Government of Ontario \n 
URL:https://thekawarthas.ca/event/march-break-eyrie-birds-of-prey/
LOCATION:North Kawartha Community Centre\, 340 McFadden Rd\, Apsley\, K0L 1A0
CATEGORIES:Exhibits & Shows,Outdoors & Nature
ATTACH;FMTTYPE=image/png:https://thekawarthas.ca/wp-content/uploads/2026/03/Eyrie-Birds-Of-Prey-March-Break.png
END:VEVENT
BEGIN:VEVENT
DTSTART;TZID=America/Toronto:20260320T090000
DTEND;TZID=America/Toronto:20260320T160000
DTSTAMP:20260423T063209
CREATED:20260312T184859Z
LAST-MODIFIED:20260312T194610Z
UID:10013072-1773997200-1774022400@thekawarthas.ca
SUMMARY:March Break Magic at Kawartha Nordic
DESCRIPTION:Winter isn’t hanging up its skis just yet\, and neither should you! We’ve put together a week of deals and “snow-much-fun” activities to make this the best break ever.\nWe want the whole crew out on the trails! All through March Break\, we’re offering:\n-Buy One\, Get One Trail Passes\n-Buy One\, Get One Rentals\nWacky Wednesday & S’mores- The rules are simple: Wear a costume\, get a s’mores bag. Whether you’re a dinosaur in DH leggings or a superhero on skate skis\, show us your spirit and we’ll provide the chocolatey\, marshmallowy reward.\nScavenger Hunts & Stadium Games- Looking to keep the kids entertained while you find your rhythm?\nThe Big Scavenger Hunt: Swing by the rental shop to pick up your official hunt list. Explore the trails\, find the clues\, and see if you can check off every item!\nStadium Games: We’ll have a variety of games set up right in the stadium area. It’s the perfect spot to practice your balance or engage in some friendly family competition.
URL:https://thekawarthas.ca/event/march-break-magic-at-kawartha-nordic/2026-03-20/
LOCATION:Kawartha Nordic\, 7107 Highway 28\, North Kawartha\, ON\, K0L 1A0
CATEGORIES:Outdoors & Nature,Sporting Events
ATTACH;FMTTYPE=image/jpeg:https://thekawarthas.ca/wp-content/uploads/2026/03/dinosaur-hat.jpg
ORGANIZER;CN="Kawartha Nordic":MAILTO:contact@kawarthanordic.ca
END:VEVENT
BEGIN:VEVENT
DTSTART;TZID=America/Toronto:20260321T090000
DTEND;TZID=America/Toronto:20260321T160000
DTSTAMP:20260423T063209
CREATED:20260312T184859Z
LAST-MODIFIED:20260312T194610Z
UID:10013073-1774083600-1774108800@thekawarthas.ca
SUMMARY:March Break Magic at Kawartha Nordic
DESCRIPTION:Winter isn’t hanging up its skis just yet\, and neither should you! We’ve put together a week of deals and “snow-much-fun” activities to make this the best break ever.\nWe want the whole crew out on the trails! All through March Break\, we’re offering:\n-Buy One\, Get One Trail Passes\n-Buy One\, Get One Rentals\nWacky Wednesday & S’mores- The rules are simple: Wear a costume\, get a s’mores bag. Whether you’re a dinosaur in DH leggings or a superhero on skate skis\, show us your spirit and we’ll provide the chocolatey\, marshmallowy reward.\nScavenger Hunts & Stadium Games- Looking to keep the kids entertained while you find your rhythm?\nThe Big Scavenger Hunt: Swing by the rental shop to pick up your official hunt list. Explore the trails\, find the clues\, and see if you can check off every item!\nStadium Games: We’ll have a variety of games set up right in the stadium area. It’s the perfect spot to practice your balance or engage in some friendly family competition.
URL:https://thekawarthas.ca/event/march-break-magic-at-kawartha-nordic/2026-03-21/
LOCATION:Kawartha Nordic\, 7107 Highway 28\, North Kawartha\, ON\, K0L 1A0
CATEGORIES:Outdoors & Nature,Sporting Events
ATTACH;FMTTYPE=image/jpeg:https://thekawarthas.ca/wp-content/uploads/2026/03/dinosaur-hat.jpg
ORGANIZER;CN="Kawartha Nordic":MAILTO:contact@kawarthanordic.ca
END:VEVENT
BEGIN:VEVENT
DTSTART;TZID=America/Toronto:20260322T090000
DTEND;TZID=America/Toronto:20260322T160000
DTSTAMP:20260423T063209
CREATED:20260312T184859Z
LAST-MODIFIED:20260312T194610Z
UID:10013074-1774170000-1774195200@thekawarthas.ca
SUMMARY:March Break Magic at Kawartha Nordic
DESCRIPTION:Winter isn’t hanging up its skis just yet\, and neither should you! We’ve put together a week of deals and “snow-much-fun” activities to make this the best break ever.\nWe want the whole crew out on the trails! All through March Break\, we’re offering:\n-Buy One\, Get One Trail Passes\n-Buy One\, Get One Rentals\nWacky Wednesday & S’mores- The rules are simple: Wear a costume\, get a s’mores bag. Whether you’re a dinosaur in DH leggings or a superhero on skate skis\, show us your spirit and we’ll provide the chocolatey\, marshmallowy reward.\nScavenger Hunts & Stadium Games- Looking to keep the kids entertained while you find your rhythm?\nThe Big Scavenger Hunt: Swing by the rental shop to pick up your official hunt list. Explore the trails\, find the clues\, and see if you can check off every item!\nStadium Games: We’ll have a variety of games set up right in the stadium area. It’s the perfect spot to practice your balance or engage in some friendly family competition.
URL:https://thekawarthas.ca/event/march-break-magic-at-kawartha-nordic/2026-03-22/
LOCATION:Kawartha Nordic\, 7107 Highway 28\, North Kawartha\, ON\, K0L 1A0
CATEGORIES:Outdoors & Nature,Sporting Events
ATTACH;FMTTYPE=image/jpeg:https://thekawarthas.ca/wp-content/uploads/2026/03/dinosaur-hat.jpg
ORGANIZER;CN="Kawartha Nordic":MAILTO:contact@kawarthanordic.ca
END:VEVENT
BEGIN:VEVENT
DTSTART;TZID=America/Toronto:20260329T090000
DTEND;TZID=America/Toronto:20260329T160000
DTSTAMP:20260423T063209
CREATED:20260226T192046Z
LAST-MODIFIED:20260226T192046Z
UID:10013046-1774774800-1774800000@thekawarthas.ca
SUMMARY:CANCAST + Muskie Odyssey: The Largest Fishing Show in Canada
DESCRIPTION:This is NOT just a fishing show. Join us March 29th\, 2026 for the biggest weekend in fishing with some exciting changes! \nCANCAST is now combining with the largest Muskie only show\, the Muskie Odyssey! You can expect two times the amount of vendors\, speakers\, and fun. All with the purchase of 1 ticket. The show will now be hosted between two venues\, the Peterborough Memorial Centre/Morrow Building and the Kinsmen Civic Centre. \nHighlights include… \n Two full venues\n🐟 100% fishing vendors: no fillers!\n Massive Tackle Swap\n The famous outdoor Boat Yard\n Live seminars & industry pros\n The biggest brands in fishing\n FREE shuttle service between venues\n Kids 12 & under are FREE\n🐟Prizes & Giveaways: door prizes\, in-house games\, and more!\n\n\n 
URL:https://thekawarthas.ca/event/cancast-muskie-odyssey-fishing-show/
LOCATION:Peterborough Memorial Centre\, 151 Lansdowne St\, Peterborough\, Peterborough\, Canada
CATEGORIES:Exhibits & Shows,Outdoors & Nature,Peterborough & the Kawarthas Signature Event,Sporting Events
ATTACH;FMTTYPE=image/jpeg:https://thekawarthas.ca/wp-content/uploads/2026/02/613097262_1465103162291983_9218482895407502173_n.jpg
ORGANIZER;CN="Cancast Fishing":MAILTO:info@cancast.show
END:VEVENT
BEGIN:VEVENT
DTSTART;TZID=America/Toronto:20260329T110000
DTEND;TZID=America/Toronto:20260329T140000
DTSTAMP:20260423T063209
CREATED:20260306T170351Z
LAST-MODIFIED:20260306T170351Z
UID:10013058-1774782000-1774792800@thekawarthas.ca
SUMMARY:Apsely Seedy Sunday
DESCRIPTION:Come out to the library for Seedy Sunday! Connect with fellow gardeners\, share tips and stories\, and get ready for spring! Admission is free and all are welcome! At the event you can:\n• Bring your saved seeds and swap them for new varieties at our community seed exchange!\n• Have your gardening questions answered by Peterborough & Area Master Gardeners\n• Learn from experts presenting at 11:30\, 12:15 and 13:00\n• Buy seeds\, vegetable starts\, tubers and more from the following vendors who are all returning this year:\nBulbs n Things by Irene\, Seeds of Creation\, Clearwing Eco Gardening & Restoration\, Our Little Wormery\, Lori’s Favourite Homegrown Veggies and Everlily Maples\n• And\, win fabulous door prizes!
URL:https://thekawarthas.ca/event/apsely-seedy-sunday/
LOCATION:North Kawartha Public Library – Apsley Branch\, 175 Burleigh Street\, Apsley\, K0L1A0
CATEGORIES:Agriculture & Culinary,Outdoors & Nature
ATTACH;FMTTYPE=image/png:https://thekawarthas.ca/wp-content/uploads/2026/03/Apsley-Seedy-Sunday-flyer.png
ORGANIZER;CN="North Kawartha Public Library":MAILTO:info@northkawarthalibrary.com
END:VEVENT
END:VCALENDAR