BEGIN:VCALENDAR
VERSION:2.0
PRODID:-//The Kawarthas Tourism - ECPv6.15.20//NONSGML v1.0//EN
CALSCALE:GREGORIAN
METHOD:PUBLISH
X-WR-CALNAME:The Kawarthas Tourism
X-ORIGINAL-URL:https://thekawarthas.ca
X-WR-CALDESC:Events for The Kawarthas Tourism
REFRESH-INTERVAL;VALUE=DURATION:PT1H
X-Robots-Tag:noindex
X-PUBLISHED-TTL:PT1H
BEGIN:VTIMEZONE
TZID:America/Toronto
BEGIN:DAYLIGHT
TZOFFSETFROM:-0500
TZOFFSETTO:-0400
TZNAME:EDT
DTSTART:20250309T070000
END:DAYLIGHT
BEGIN:STANDARD
TZOFFSETFROM:-0400
TZOFFSETTO:-0500
TZNAME:EST
DTSTART:20251102T060000
END:STANDARD
BEGIN:DAYLIGHT
TZOFFSETFROM:-0500
TZOFFSETTO:-0400
TZNAME:EDT
DTSTART:20260308T070000
END:DAYLIGHT
BEGIN:STANDARD
TZOFFSETFROM:-0400
TZOFFSETTO:-0500
TZNAME:EST
DTSTART:20261101T060000
END:STANDARD
BEGIN:DAYLIGHT
TZOFFSETFROM:-0500
TZOFFSETTO:-0400
TZNAME:EDT
DTSTART:20270314T070000
END:DAYLIGHT
BEGIN:STANDARD
TZOFFSETFROM:-0400
TZOFFSETTO:-0500
TZNAME:EST
DTSTART:20271107T060000
END:STANDARD
END:VTIMEZONE
BEGIN:VEVENT
DTSTART;TZID=America/Toronto:20261206T160000
DTEND;TZID=America/Toronto:20261206T200000
DTSTAMP:20260424T061551
CREATED:20260311T190427Z
LAST-MODIFIED:20260311T190620Z
UID:10013051-1796572800-1796587200@thekawarthas.ca
SUMMARY:Christmas by Candlelight at Lang Pioneer Village Museum
DESCRIPTION:Get into the merriment of the season with a traditional pioneer Christmas. Join along in a carol sing\, tour the village by wagon ride\, meet Father Christmas\, and learn about the origins of Christmas traditions we celebrate today. Delight in the sights\, sounds and smells of the holiday season with us! \nFor more details and to purchase tickets\, please visit Lang Pioneer Village Museum’s website.
URL:https://thekawarthas.ca/event/christmas-by-candlelight/
LOCATION:Lang Pioneer Village Museum\, 104 Lang Road\, Keene\, K0L1C0
CATEGORIES:Cultural Heritage,Holiday Related,Peterborough & the Kawarthas Signature Event,Workshop
ATTACH;FMTTYPE=image/jpeg:https://thekawarthas.ca/wp-content/uploads/2026/03/christmasbycandlelight20252025langpioneervillagemuseumheatherdoughtyphotography-2.jpg
ORGANIZER;CN="Lang Pioneer Village Museum":MAILTO:info@langpioneervillage.ca
END:VEVENT
END:VCALENDAR