BEGIN:VCALENDAR
VERSION:2.0
PRODID:-//The Kawarthas Tourism - ECPv6.15.20//NONSGML v1.0//EN
CALSCALE:GREGORIAN
METHOD:PUBLISH
X-WR-CALNAME:The Kawarthas Tourism
X-ORIGINAL-URL:https://thekawarthas.ca
X-WR-CALDESC:Events for The Kawarthas Tourism
REFRESH-INTERVAL;VALUE=DURATION:PT1H
X-Robots-Tag:noindex
X-PUBLISHED-TTL:PT1H
BEGIN:VTIMEZONE
TZID:America/Toronto
BEGIN:DAYLIGHT
TZOFFSETFROM:-0500
TZOFFSETTO:-0400
TZNAME:EDT
DTSTART:20250309T070000
END:DAYLIGHT
BEGIN:STANDARD
TZOFFSETFROM:-0400
TZOFFSETTO:-0500
TZNAME:EST
DTSTART:20251102T060000
END:STANDARD
BEGIN:DAYLIGHT
TZOFFSETFROM:-0500
TZOFFSETTO:-0400
TZNAME:EDT
DTSTART:20260308T070000
END:DAYLIGHT
BEGIN:STANDARD
TZOFFSETFROM:-0400
TZOFFSETTO:-0500
TZNAME:EST
DTSTART:20261101T060000
END:STANDARD
BEGIN:DAYLIGHT
TZOFFSETFROM:-0500
TZOFFSETTO:-0400
TZNAME:EDT
DTSTART:20270314T070000
END:DAYLIGHT
BEGIN:STANDARD
TZOFFSETFROM:-0400
TZOFFSETTO:-0500
TZNAME:EST
DTSTART:20271107T060000
END:STANDARD
END:VTIMEZONE
BEGIN:VEVENT
DTSTART;TZID=America/Toronto:20261023T180000
DTEND;TZID=America/Toronto:20261023T210000
DTSTAMP:20260424T060449
CREATED:20260217T182451Z
LAST-MODIFIED:20260217T182451Z
UID:10012990-1792778400-1792789200@thekawarthas.ca
SUMMARY:Spooky All Hallows’ Eve at Lang Pioneer Village Museum
DESCRIPTION:Enjoy an evening of fun and games as we introduce you to the origins of some of our favourite Halloween traditions. The historic village transforms into an array of spooky-fun scenes from ghostly graveyards to witches’ lairs. Featuring fortune telling\, tractor and wagon rides\, and more\, this all-ages event is sure to get you into the Halloween spirit.
URL:https://thekawarthas.ca/event/spooky-all-hallows-eve-at-lang-pioneer-village-museum/2026-10-23/
LOCATION:Lang Pioneer Village Museum\, 104 Lang Road\, Keene\, K0L1C0
CATEGORIES:Holiday Related
ATTACH;FMTTYPE=image/jpeg:https://thekawarthas.ca/wp-content/uploads/2026/01/3cd5eee1-347f-45b4-bd76-26a15b14006f.jpg
ORGANIZER;CN="Lang Pioneer Village Museum":MAILTO:info@langpioneervillage.ca
END:VEVENT
END:VCALENDAR