BEGIN:VCALENDAR
VERSION:2.0
PRODID:-//The Kawarthas Tourism - ECPv6.15.20//NONSGML v1.0//EN
CALSCALE:GREGORIAN
METHOD:PUBLISH
X-ORIGINAL-URL:https://thekawarthas.ca
X-WR-CALDESC:Events for The Kawarthas Tourism
REFRESH-INTERVAL;VALUE=DURATION:PT1H
X-Robots-Tag:noindex
X-PUBLISHED-TTL:PT1H
BEGIN:VTIMEZONE
TZID:America/Toronto
BEGIN:DAYLIGHT
TZOFFSETFROM:-0500
TZOFFSETTO:-0400
TZNAME:EDT
DTSTART:20230312T070000
END:DAYLIGHT
BEGIN:STANDARD
TZOFFSETFROM:-0400
TZOFFSETTO:-0500
TZNAME:EST
DTSTART:20231105T060000
END:STANDARD
BEGIN:DAYLIGHT
TZOFFSETFROM:-0500
TZOFFSETTO:-0400
TZNAME:EDT
DTSTART:20240310T070000
END:DAYLIGHT
BEGIN:STANDARD
TZOFFSETFROM:-0400
TZOFFSETTO:-0500
TZNAME:EST
DTSTART:20241103T060000
END:STANDARD
BEGIN:DAYLIGHT
TZOFFSETFROM:-0500
TZOFFSETTO:-0400
TZNAME:EDT
DTSTART:20250309T070000
END:DAYLIGHT
BEGIN:STANDARD
TZOFFSETFROM:-0400
TZOFFSETTO:-0500
TZNAME:EST
DTSTART:20251102T060000
END:STANDARD
END:VTIMEZONE
BEGIN:VEVENT
DTSTART;TZID=America/Toronto:20241207T100000
DTEND;TZID=America/Toronto:20241207T180000
DTSTAMP:20260422T063457
CREATED:20241205T144827Z
LAST-MODIFIED:20241205T144827Z
UID:10011661-1733565600-1733594400@thekawarthas.ca
SUMMARY:The Village Market
DESCRIPTION:Crafts and Vendor Show
URL:https://thekawarthas.ca/event/the-village-market/
LOCATION:Kawartha Village Co-op\, 152-19 Lansdowne Street East\, Peterborough\, K9J8B5
CATEGORIES:Holiday Related
ATTACH;FMTTYPE=image/jpeg:https://thekawarthas.ca/wp-content/uploads/2024/12/c8910330aaf27a7fe6a9f997e490fcfa_0.jpeg
END:VEVENT
END:VCALENDAR