BEGIN:VCALENDAR
VERSION:2.0
PRODID:-//The Kawarthas Tourism - ECPv6.15.20//NONSGML v1.0//EN
CALSCALE:GREGORIAN
METHOD:PUBLISH
X-ORIGINAL-URL:https://thekawarthas.ca
X-WR-CALDESC:Events for The Kawarthas Tourism
REFRESH-INTERVAL;VALUE=DURATION:PT1H
X-Robots-Tag:noindex
X-PUBLISHED-TTL:PT1H
BEGIN:VTIMEZONE
TZID:America/Toronto
BEGIN:DAYLIGHT
TZOFFSETFROM:-0500
TZOFFSETTO:-0400
TZNAME:EDT
DTSTART:20240310T070000
END:DAYLIGHT
BEGIN:STANDARD
TZOFFSETFROM:-0400
TZOFFSETTO:-0500
TZNAME:EST
DTSTART:20241103T060000
END:STANDARD
BEGIN:DAYLIGHT
TZOFFSETFROM:-0500
TZOFFSETTO:-0400
TZNAME:EDT
DTSTART:20250309T070000
END:DAYLIGHT
BEGIN:STANDARD
TZOFFSETFROM:-0400
TZOFFSETTO:-0500
TZNAME:EST
DTSTART:20251102T060000
END:STANDARD
BEGIN:DAYLIGHT
TZOFFSETFROM:-0500
TZOFFSETTO:-0400
TZNAME:EDT
DTSTART:20260308T070000
END:DAYLIGHT
BEGIN:STANDARD
TZOFFSETFROM:-0400
TZOFFSETTO:-0500
TZNAME:EST
DTSTART:20261101T060000
END:STANDARD
END:VTIMEZONE
BEGIN:VEVENT
DTSTART;TZID=America/Toronto:20250508T130000
DTEND;TZID=America/Toronto:20250508T130000
DTSTAMP:20260420T102134
CREATED:20250501T203314Z
LAST-MODIFIED:20250501T203314Z
UID:10011884-1746709200-1746709200@thekawarthas.ca
SUMMARY:Mother’s Day Afternoon Tea at Rolling Grape Vineyard
DESCRIPTION:Grab the special ladies in your life and come enjoy a fresh strawberry rhubarb scone\, accompanied by a tea stand full of goodies! \nThis event is the perfect opportunity to celebrate the incredible women in your life. \nOur heated marquee tent will be beautifully decorated for an elegant afternoon. \nAfternoon tea will include a selection of premium loose-leaf tea\, but we’ll also have a full bar featuring all our Rolling Grape wines\, sangria and mimosas available for purchase. \nPlease visit the event webpage to buy tickets and view the menu.
URL:https://thekawarthas.ca/event/mothers-day-afternoon-tea-at-rolling-grape-vineyard/2025-05-08/1/
LOCATION:Rolling Grape Vineyard\, 260 County Rd 2\, Bailieboro\, Ontario\, K0L 1B0\, Canada
CATEGORIES:Agriculture & Culinary,Holiday Related
ATTACH;FMTTYPE=image/jpeg:https://thekawarthas.ca/wp-content/uploads/2025/05/Mothers-Day-Tea-Website-Image-1-980x654-1.jpg
ORGANIZER;CN="Rolling Grape Vineyard":MAILTO:info@rollinggrape.com
END:VEVENT
BEGIN:VEVENT
DTSTART;TZID=America/Toronto:20250508T133000
DTEND;TZID=America/Toronto:20250508T133000
DTSTAMP:20260420T102134
CREATED:20250501T203314Z
LAST-MODIFIED:20250501T203314Z
UID:10011885-1746711000-1746711000@thekawarthas.ca
SUMMARY:Mother’s Day Afternoon Tea at Rolling Grape Vineyard
DESCRIPTION:Grab the special ladies in your life and come enjoy a fresh strawberry rhubarb scone\, accompanied by a tea stand full of goodies! \nThis event is the perfect opportunity to celebrate the incredible women in your life. \nOur heated marquee tent will be beautifully decorated for an elegant afternoon. \nAfternoon tea will include a selection of premium loose-leaf tea\, but we’ll also have a full bar featuring all our Rolling Grape wines\, sangria and mimosas available for purchase. \nPlease visit the event webpage to buy tickets and view the menu.
URL:https://thekawarthas.ca/event/mothers-day-afternoon-tea-at-rolling-grape-vineyard/2025-05-08/2/
LOCATION:Rolling Grape Vineyard\, 260 County Rd 2\, Bailieboro\, Ontario\, K0L 1B0\, Canada
CATEGORIES:Agriculture & Culinary,Holiday Related
ATTACH;FMTTYPE=image/jpeg:https://thekawarthas.ca/wp-content/uploads/2025/05/Mothers-Day-Tea-Website-Image-1-980x654-1.jpg
ORGANIZER;CN="Rolling Grape Vineyard":MAILTO:info@rollinggrape.com
END:VEVENT
BEGIN:VEVENT
DTSTART;TZID=America/Toronto:20250509T130000
DTEND;TZID=America/Toronto:20250509T130000
DTSTAMP:20260420T102134
CREATED:20250501T203314Z
LAST-MODIFIED:20250501T203314Z
UID:10011886-1746795600-1746795600@thekawarthas.ca
SUMMARY:Mother’s Day Afternoon Tea at Rolling Grape Vineyard
DESCRIPTION:Grab the special ladies in your life and come enjoy a fresh strawberry rhubarb scone\, accompanied by a tea stand full of goodies! \nThis event is the perfect opportunity to celebrate the incredible women in your life. \nOur heated marquee tent will be beautifully decorated for an elegant afternoon. \nAfternoon tea will include a selection of premium loose-leaf tea\, but we’ll also have a full bar featuring all our Rolling Grape wines\, sangria and mimosas available for purchase. \nPlease visit the event webpage to buy tickets and view the menu.
URL:https://thekawarthas.ca/event/mothers-day-afternoon-tea-at-rolling-grape-vineyard/2025-05-09/1/
LOCATION:Rolling Grape Vineyard\, 260 County Rd 2\, Bailieboro\, Ontario\, K0L 1B0\, Canada
CATEGORIES:Agriculture & Culinary,Holiday Related
ATTACH;FMTTYPE=image/jpeg:https://thekawarthas.ca/wp-content/uploads/2025/05/Mothers-Day-Tea-Website-Image-1-980x654-1.jpg
ORGANIZER;CN="Rolling Grape Vineyard":MAILTO:info@rollinggrape.com
END:VEVENT
BEGIN:VEVENT
DTSTART;TZID=America/Toronto:20250509T133000
DTEND;TZID=America/Toronto:20250509T133000
DTSTAMP:20260420T102134
CREATED:20250501T203314Z
LAST-MODIFIED:20250501T203314Z
UID:10011887-1746797400-1746797400@thekawarthas.ca
SUMMARY:Mother’s Day Afternoon Tea at Rolling Grape Vineyard
DESCRIPTION:Grab the special ladies in your life and come enjoy a fresh strawberry rhubarb scone\, accompanied by a tea stand full of goodies! \nThis event is the perfect opportunity to celebrate the incredible women in your life. \nOur heated marquee tent will be beautifully decorated for an elegant afternoon. \nAfternoon tea will include a selection of premium loose-leaf tea\, but we’ll also have a full bar featuring all our Rolling Grape wines\, sangria and mimosas available for purchase. \nPlease visit the event webpage to buy tickets and view the menu.
URL:https://thekawarthas.ca/event/mothers-day-afternoon-tea-at-rolling-grape-vineyard/2025-05-09/2/
LOCATION:Rolling Grape Vineyard\, 260 County Rd 2\, Bailieboro\, Ontario\, K0L 1B0\, Canada
CATEGORIES:Agriculture & Culinary,Holiday Related
ATTACH;FMTTYPE=image/jpeg:https://thekawarthas.ca/wp-content/uploads/2025/05/Mothers-Day-Tea-Website-Image-1-980x654-1.jpg
ORGANIZER;CN="Rolling Grape Vineyard":MAILTO:info@rollinggrape.com
END:VEVENT
BEGIN:VEVENT
DTSTART;TZID=America/Toronto:20250510T140000
DTEND;TZID=America/Toronto:20250510T160000
DTSTAMP:20260420T102134
CREATED:20250501T201720Z
LAST-MODIFIED:20250501T201720Z
UID:10011880-1746885600-1746892800@thekawarthas.ca
SUMMARY:Mother’s Day Wine Tours at Rolling Grape Vineyard
DESCRIPTION:Ready for an exclusive look at our wine-making process? \nWe’re ecstatic to announce that Wine Tours will officially open for the season on Mother’s Day weekend so that you can gift mom a behind-the-scenes look at Rolling Grape! \nLimited tickets available\, so act fast! \nGuests will be welcomed with a three-flight tasting of our estate-made wine\, followed by a short walk up to our production facility. \nHere\, your tour guide will show you a behind-the-scenes look into Rolling Grape Vineyard while sampling some of our wine straight from the barrel. \nLastly\, guests will be guided on a brief educational walk through our rolling hills of vines\, where the group will enjoy a full glass of wine. \nFollowing your tour\, we welcome you to join us for lunch or dinner on the patio! \nClaim your spot today!
URL:https://thekawarthas.ca/event/mothers-day-wine-tours-at-rolling-grape-vineyard/2025-05-10/1/
LOCATION:Rolling Grape Vineyard\, 260 County Rd 2\, Bailieboro\, Ontario\, K0L 1B0\, Canada
CATEGORIES:Agriculture & Culinary,Holiday Related
ATTACH;FMTTYPE=image/jpeg:https://thekawarthas.ca/wp-content/uploads/2025/05/2025-WINE-TOURS-980x700-1.jpg
END:VEVENT
BEGIN:VEVENT
DTSTART;TZID=America/Toronto:20250510T160000
DTEND;TZID=America/Toronto:20250510T180000
DTSTAMP:20260420T102134
CREATED:20250501T201720Z
LAST-MODIFIED:20250501T201720Z
UID:10011881-1746892800-1746900000@thekawarthas.ca
SUMMARY:Mother’s Day Wine Tours at Rolling Grape Vineyard
DESCRIPTION:Ready for an exclusive look at our wine-making process? \nWe’re ecstatic to announce that Wine Tours will officially open for the season on Mother’s Day weekend so that you can gift mom a behind-the-scenes look at Rolling Grape! \nLimited tickets available\, so act fast! \nGuests will be welcomed with a three-flight tasting of our estate-made wine\, followed by a short walk up to our production facility. \nHere\, your tour guide will show you a behind-the-scenes look into Rolling Grape Vineyard while sampling some of our wine straight from the barrel. \nLastly\, guests will be guided on a brief educational walk through our rolling hills of vines\, where the group will enjoy a full glass of wine. \nFollowing your tour\, we welcome you to join us for lunch or dinner on the patio! \nClaim your spot today!
URL:https://thekawarthas.ca/event/mothers-day-wine-tours-at-rolling-grape-vineyard/2025-05-10/2/
LOCATION:Rolling Grape Vineyard\, 260 County Rd 2\, Bailieboro\, Ontario\, K0L 1B0\, Canada
CATEGORIES:Agriculture & Culinary,Holiday Related
ATTACH;FMTTYPE=image/jpeg:https://thekawarthas.ca/wp-content/uploads/2025/05/2025-WINE-TOURS-980x700-1.jpg
END:VEVENT
BEGIN:VEVENT
DTSTART;TZID=America/Toronto:20250511T090000
DTEND;TZID=America/Toronto:20250511T130000
DTSTAMP:20260420T102134
CREATED:20250502T043550Z
LAST-MODIFIED:20250502T044029Z
UID:10011991-1746954000-1746968400@thekawarthas.ca
SUMMARY:Mother's Day Market at the Lakefield Farmers' Market
DESCRIPTION:The annual Lakefield Farmers’ Market Mother’s Day Market is set for Sunday\, May 11th from 9 a.m. – 1 p.m. This special market will take place in Downtown Lakefield beside The Village Inn of Lakefield.\n\n\n\nBrowse your favourite market vendors\, treat yourself to fresh baking\, and discover the perfect handcrafted Mother’s Day gift from local artisans.
URL:https://thekawarthas.ca/event/mothers-day-market-at-the-lakefield-farmers-market/
LOCATION:The Village Inn\, 39 Queen St\, Lakefield\, Ontario\, K0L 2H0\, Canada
CATEGORIES:Agriculture & Culinary,Farmers' Market,Holiday Related
ATTACH;FMTTYPE=image/jpeg:https://thekawarthas.ca/wp-content/uploads/2025/05/491955661_1271151901124542_7821673558719214348_n.jpg
END:VEVENT
BEGIN:VEVENT
DTSTART;TZID=America/Toronto:20250511T130000
DTEND;TZID=America/Toronto:20250511T150000
DTSTAMP:20260420T102134
CREATED:20250501T201720Z
LAST-MODIFIED:20250501T201720Z
UID:10011882-1746968400-1746975600@thekawarthas.ca
SUMMARY:Mother’s Day Wine Tours at Rolling Grape Vineyard
DESCRIPTION:Ready for an exclusive look at our wine-making process? \nWe’re ecstatic to announce that Wine Tours will officially open for the season on Mother’s Day weekend so that you can gift mom a behind-the-scenes look at Rolling Grape! \nLimited tickets available\, so act fast! \nGuests will be welcomed with a three-flight tasting of our estate-made wine\, followed by a short walk up to our production facility. \nHere\, your tour guide will show you a behind-the-scenes look into Rolling Grape Vineyard while sampling some of our wine straight from the barrel. \nLastly\, guests will be guided on a brief educational walk through our rolling hills of vines\, where the group will enjoy a full glass of wine. \nFollowing your tour\, we welcome you to join us for lunch or dinner on the patio! \nClaim your spot today!
URL:https://thekawarthas.ca/event/mothers-day-wine-tours-at-rolling-grape-vineyard/2025-05-11/1/
LOCATION:Rolling Grape Vineyard\, 260 County Rd 2\, Bailieboro\, Ontario\, K0L 1B0\, Canada
CATEGORIES:Agriculture & Culinary,Holiday Related
ATTACH;FMTTYPE=image/jpeg:https://thekawarthas.ca/wp-content/uploads/2025/05/2025-WINE-TOURS-980x700-1.jpg
END:VEVENT
BEGIN:VEVENT
DTSTART;TZID=America/Toronto:20250511T150000
DTEND;TZID=America/Toronto:20250511T170000
DTSTAMP:20260420T102134
CREATED:20250501T201720Z
LAST-MODIFIED:20250501T201720Z
UID:10011883-1746975600-1746982800@thekawarthas.ca
SUMMARY:Mother’s Day Wine Tours at Rolling Grape Vineyard
DESCRIPTION:Ready for an exclusive look at our wine-making process? \nWe’re ecstatic to announce that Wine Tours will officially open for the season on Mother’s Day weekend so that you can gift mom a behind-the-scenes look at Rolling Grape! \nLimited tickets available\, so act fast! \nGuests will be welcomed with a three-flight tasting of our estate-made wine\, followed by a short walk up to our production facility. \nHere\, your tour guide will show you a behind-the-scenes look into Rolling Grape Vineyard while sampling some of our wine straight from the barrel. \nLastly\, guests will be guided on a brief educational walk through our rolling hills of vines\, where the group will enjoy a full glass of wine. \nFollowing your tour\, we welcome you to join us for lunch or dinner on the patio! \nClaim your spot today!
URL:https://thekawarthas.ca/event/mothers-day-wine-tours-at-rolling-grape-vineyard/2025-05-11/2/
LOCATION:Rolling Grape Vineyard\, 260 County Rd 2\, Bailieboro\, Ontario\, K0L 1B0\, Canada
CATEGORIES:Agriculture & Culinary,Holiday Related
ATTACH;FMTTYPE=image/jpeg:https://thekawarthas.ca/wp-content/uploads/2025/05/2025-WINE-TOURS-980x700-1.jpg
END:VEVENT
END:VCALENDAR