BEGIN:VCALENDAR
VERSION:2.0
PRODID:-//The Kawarthas Tourism - ECPv6.15.20//NONSGML v1.0//EN
CALSCALE:GREGORIAN
METHOD:PUBLISH
X-ORIGINAL-URL:https://thekawarthas.ca
X-WR-CALDESC:Events for The Kawarthas Tourism
REFRESH-INTERVAL;VALUE=DURATION:PT1H
X-Robots-Tag:noindex
X-PUBLISHED-TTL:PT1H
BEGIN:VTIMEZONE
TZID:America/Toronto
BEGIN:DAYLIGHT
TZOFFSETFROM:-0500
TZOFFSETTO:-0400
TZNAME:EDT
DTSTART:20250309T070000
END:DAYLIGHT
BEGIN:STANDARD
TZOFFSETFROM:-0400
TZOFFSETTO:-0500
TZNAME:EST
DTSTART:20251102T060000
END:STANDARD
BEGIN:DAYLIGHT
TZOFFSETFROM:-0500
TZOFFSETTO:-0400
TZNAME:EDT
DTSTART:20260308T070000
END:DAYLIGHT
BEGIN:STANDARD
TZOFFSETFROM:-0400
TZOFFSETTO:-0500
TZNAME:EST
DTSTART:20261101T060000
END:STANDARD
BEGIN:DAYLIGHT
TZOFFSETFROM:-0500
TZOFFSETTO:-0400
TZNAME:EDT
DTSTART:20270314T070000
END:DAYLIGHT
BEGIN:STANDARD
TZOFFSETFROM:-0400
TZOFFSETTO:-0500
TZNAME:EST
DTSTART:20271107T060000
END:STANDARD
END:VTIMEZONE
BEGIN:VEVENT
DTSTART;TZID=America/Toronto:20260307T103000
DTEND;TZID=America/Toronto:20260307T113000
DTSTAMP:20260420T073909
CREATED:20260303T184437Z
LAST-MODIFIED:20260303T184437Z
UID:10013049-1772879400-1772883000@thekawarthas.ca
SUMMARY:Seedy Saturday Seed Swap
DESCRIPTION:Spring is just around the corner! Join the Buckhorn Community Centre for Seedy Saturday Seed Swap! \nBring your flower\, vegetable\, herb\, bush\, bee-loving\, sun-loving\, shade -loving seeds! \nIn order to make the swap successful\, please provide information about each plant\, including: \n\nname and variety\nhours of sun required\ndoes it prefer shade\nwater requirements\nheight and growth habits (climber\, spreader\, etc)\n\nPackets will be provided for this FREE drop-in event.
URL:https://thekawarthas.ca/event/seedy-saturday-seed-swap/
LOCATION:Buckhorn Community Centre\, 1782 Lakehurst Road\, Buckhorn\, ON\, K0L 1J0\, Canada
CATEGORIES:Agriculture & Culinary,Outdoors & Nature
ATTACH;FMTTYPE=image/jpeg:https://thekawarthas.ca/wp-content/uploads/2026/03/645620187_1487371030065632_8621257583938600997_n.jpg
ORGANIZER;CN="Buckhorn Community Centre":MAILTO:generalmgr@buckhorncommunitycentre.com
END:VEVENT
BEGIN:VEVENT
DTSTART;TZID=America/Toronto:20260322T140000
DTEND;TZID=America/Toronto:20260322T140000
DTSTAMP:20260420T073909
CREATED:20260316T031338Z
LAST-MODIFIED:20260316T031338Z
UID:10013078-1774188000-1774188000@thekawarthas.ca
SUMMARY:High Tea at The Falls
DESCRIPTION:Step into a world of elegance and indulgence with our luxurious Afternoon High Tea experience. Picture yourself surrounded by sophistication in a charming setting\, savoring a delectable array of treats that will tantalize your taste buds and transport you to a realm of culinary delight. Immerse yourself in a relaxing atmosphere where time stands still\, allowing you to unwind and create unforgettable memories with your loved ones. Treat yourself to a moment of pure bliss with our Afternoon High Tea\, where every sip and bite is a symphony of flavors and sensations waiting to be savored. \nAll dates\, events commence at 2pm with Tea Service at 2:30pm. \nFor special dietary requirements please call directly. \nNot suitable for young children
URL:https://thekawarthas.ca/event/high-tea-at-the-falls/
LOCATION:Burleigh Falls Inn\, 4791 Hwy 28\, Lakefield\, ON\, K0L 2H0
CATEGORIES:Agriculture & Culinary,Peterborough & the Kawarthas Signature Event
ATTACH;FMTTYPE=image/jpeg:https://thekawarthas.ca/wp-content/uploads/2026/03/629516669_1522562363207867_6562589021568251131_n.jpg
END:VEVENT
BEGIN:VEVENT
DTSTART;TZID=America/Toronto:20260328T180000
DTEND;TZID=America/Toronto:20260328T203000
DTSTAMP:20260420T073909
CREATED:20260318T151016Z
LAST-MODIFIED:20260318T151016Z
UID:10013080-1774720800-1774729800@thekawarthas.ca
SUMMARY:Dinner & Music Night at Kawartha Country Wines
DESCRIPTION:🎵 🍽️ Join us for an evening of music\, dinner and drinks! 🍷 \n🎶 Featuring the Talented Duo: Rob Phillips and Carling Stephen! \nDINNER MENU: \n🍎🍺 Upon arrival\, each guest will receive a welcome glass of our NEW Rufa’s Rustic Cider. A dry cider made from our very own orchard apples\, hand-picked by our staff. \nAppetizer: Roasted eggplant with creamy feta\, fresh tomatoes\, and a fragrant blend of herbs.\nWine Pairing: Rhubarb – Dry. One of the first three wines we offered when we opened our doors over 20 years ago\, it’s a dry white that is easy to drink with a pleasant finish. (6oz glass 11.5% alc./vol.) \nSalad: Kale salad featuring sweet mandarin and crunchy pumpkin seeds\, drizzled with a maple vinaigrette.\nWine Pairing: Rhubarb continued. \nMain: Chicken breast stuffed with a rich blend of cream cheese\, spinach\, and artichokes\, served alongside rosemary-seasoned potatoes and grilled asparagus.\nWine Pairing: Plum – Dry. A NEW white wine blend of Shiro Plums and Golden Plums. This wine has a light\, smooth\, fruity taste that is gentle on the palate. (6oz glass 11.25% alc./vol.) \nDessert: A delicious piece of carrot cake to satisfy your sweet tooth.\nWine Pairing: Raspberry – Social. A sweet red that has a bold raspberry flavour with a hint of tartness. \nEVENT DETAILS: \n📅 Date: Saturday\, March 28th\, 2026\n🕕 Time: 6:00-8:30PM\n💲 Price: $79 +HST per person\n📍 Location: Our Event Space – 2452 County Road 36\, Buckhorn\, ON. K0L 1J0. (Wheelchair Accessible) \n🪑 Seating will be arranged at tables of six. You can purchase individual tickets or reserve an entire table with friends and family. \n☕️ The bar will also offer our wine\, cider\, and coolers\, as well as non-alcoholic sparkling cider\, soda\, and coffee for purchase. \n❤️ Sponsored by local realtor ® Jo Pillon! \nCancellation Policy: Any cancellations made within 24 hours of the event will be ineligible for reimbursement.
URL:https://thekawarthas.ca/event/dinner-music-night-at-kawartha-country-wines/
LOCATION:Kawartha Country Wines\, 2452 County Road 36\, Buckhorn\, ON\, K0L 1J0
CATEGORIES:Agriculture & Culinary,Arts & Entertainment,Performing Arts
ATTACH;FMTTYPE=image/jpeg:https://thekawarthas.ca/wp-content/uploads/2026/03/22EDD28E-7E20-4313-B019-9267523FF114.jpg
ORGANIZER;CN="Kawartha Country Wines":MAILTO:donna@kawarthacountrywines.ca
END:VEVENT
BEGIN:VEVENT
DTSTART;TZID=America/Toronto:20260328T190000
DTEND;TZID=America/Toronto:20260328T190000
DTSTAMP:20260420T073909
CREATED:20260311T194021Z
LAST-MODIFIED:20260327T135549Z
UID:10013063-1774724400-1774724400@thekawarthas.ca
SUMMARY:Casino Royale In Support of The PRHC Foundation
DESCRIPTION:Dust off your formal wear for an elegant Black Tie evening of high-stakes fun\, live jazz\, and community fundraising! \n100% of net auction proceeds being donated to the PRHC Foundation\, keeping care close to home at Peterborough Regional Health Centre. \nGaming & Entertainment\nWhether you’re a seasoned high-roller or total beginner\, we invite you to step into a world of professional play with tables for Blackjack\, Roulette\, Craps\, and Slots. \nLive Entertainment\n2x Juno Award winner Fergus Hambleton & Co. will provide a sophisticated live jazz soundtrack for an unforgettable night. \nAuction Highlights\nBid on exclusive items in our Silent Auction throughout the evening\, or join the high-energy Live Auction hosted by local heavyweight Pete Dalliday! Don’t forget- 100% of net auction proceeds will go directly to the PRHC Foundation. \nCulinary Offerings\nGuests will indulge in a Premium Selection of Passed Canapés & Signature Lodge Oyster Bar.\n*food is included and a cash bar will be available for spirits\, refreshments\, and signature cocktails \n📆 Date & Time\nSaturday\, March 28th\, 2026\n7:00 PM – 12:00 AM\nLocation: 764 Hunter St. Bridgenorth\, On. K0L 1H0 \n🎟️ Tickets & Info:\nLodge Club Members: $75\nNon-Members: $150\nwww.chemonglodge.com/event-details/casino-royale\n*limited tickets are available* \n🏥 Learn more about The PRHC Foundation at www.prhcfoundation.ca
URL:https://thekawarthas.ca/event/casino-royale-in-support-of-the-prhc-foundation/
LOCATION:Chemong Lodge\, 764 Hunter Street\, Bridgenorth\, Ontario\, K0L1H0\, Canada
CATEGORIES:Agriculture & Culinary,Arts & Entertainment,Peterborough & the Kawarthas Signature Event
ATTACH;FMTTYPE=image/jpeg:https://thekawarthas.ca/wp-content/uploads/2026/03/CASINO-ROYALE-scaled.jpg
END:VEVENT
BEGIN:VEVENT
DTSTART;TZID=America/Toronto:20260329T110000
DTEND;TZID=America/Toronto:20260329T140000
DTSTAMP:20260420T073909
CREATED:20260306T170351Z
LAST-MODIFIED:20260306T170351Z
UID:10013058-1774782000-1774792800@thekawarthas.ca
SUMMARY:Apsely Seedy Sunday
DESCRIPTION:Come out to the library for Seedy Sunday! Connect with fellow gardeners\, share tips and stories\, and get ready for spring! Admission is free and all are welcome! At the event you can:\n• Bring your saved seeds and swap them for new varieties at our community seed exchange!\n• Have your gardening questions answered by Peterborough & Area Master Gardeners\n• Learn from experts presenting at 11:30\, 12:15 and 13:00\n• Buy seeds\, vegetable starts\, tubers and more from the following vendors who are all returning this year:\nBulbs n Things by Irene\, Seeds of Creation\, Clearwing Eco Gardening & Restoration\, Our Little Wormery\, Lori’s Favourite Homegrown Veggies and Everlily Maples\n• And\, win fabulous door prizes!
URL:https://thekawarthas.ca/event/apsely-seedy-sunday/
LOCATION:North Kawartha Public Library – Apsley Branch\, 175 Burleigh Street\, Apsley\, K0L1A0
CATEGORIES:Agriculture & Culinary,Outdoors & Nature
ATTACH;FMTTYPE=image/png:https://thekawarthas.ca/wp-content/uploads/2026/03/Apsley-Seedy-Sunday-flyer.png
ORGANIZER;CN="North Kawartha Public Library":MAILTO:info@northkawarthalibrary.com
END:VEVENT
BEGIN:VEVENT
DTSTART;VALUE=DATE:20260404
DTEND;VALUE=DATE:20260405
DTSTAMP:20260420T073909
CREATED:20260330T154206Z
LAST-MODIFIED:20260401T164459Z
UID:10013178-1775260800-1775347199@thekawarthas.ca
SUMMARY:Kuddle-a-Kune!
DESCRIPTION:Come to Stone Post Meadows for a 45-minute farm experience filled with joy: “kuddle” our Kune Kune piglets\, hand-feed our gentle alpacas\, and brush our friendly miniature goats. It’s a hands-on\, heartwarming visit filled with smiles\, snuggles\, and plenty of photo-worthy moments for all ages! \nAvailable Times \n\nApril 4th\n\n9:30am\n11:00am\n\n\nApril 6th\n\n10am\n11:30am\n1:00pm\n\n\nApril 8th\n\n4:00pm\n5:30pm\n\n\n\nCost \n\n$25 per person for ages 6 and up\n$15 for children ages 2-5 \n\nTo book a visit\, email stonepostmeadows@gmail.com or visit the organizer’s website \nAs this experience is located on a private property\, exact address and directions will be provided upon booking. \n  \n 
URL:https://thekawarthas.ca/event/kuddle-a-kune/2026-04-04/
LOCATION:Douro\, DOURO-DUMMER\, K0L 2H0\, Canada
CATEGORIES:Agriculture & Culinary,Outdoors & Nature
ATTACH;FMTTYPE=image/jpeg:https://thekawarthas.ca/wp-content/uploads/2026/03/Kawartha-Event-image-scaled.jpg
ORGANIZER;CN="Stone Post Meadows":MAILTO:stonepostmeadows@gmail.com
END:VEVENT
BEGIN:VEVENT
DTSTART;VALUE=DATE:20260406
DTEND;VALUE=DATE:20260407
DTSTAMP:20260420T073909
CREATED:20260330T154206Z
LAST-MODIFIED:20260401T164459Z
UID:10013179-1775471400-1775480400@thekawarthas.ca
SUMMARY:Kuddle-a-Kune!
DESCRIPTION:Come to Stone Post Meadows for a 45-minute farm experience filled with joy: “kuddle” our Kune Kune piglets\, hand-feed our gentle alpacas\, and brush our friendly miniature goats. It’s a hands-on\, heartwarming visit filled with smiles\, snuggles\, and plenty of photo-worthy moments for all ages! \nAvailable Times \n\nApril 4th\n\n9:30am\n11:00am\n\n\nApril 6th\n\n10am\n11:30am\n1:00pm\n\n\nApril 8th\n\n4:00pm\n5:30pm\n\n\n\nCost \n\n$25 per person for ages 6 and up\n$15 for children ages 2-5 \n\nTo book a visit\, email stonepostmeadows@gmail.com or visit the organizer’s website \nAs this experience is located on a private property\, exact address and directions will be provided upon booking. \n  \n 
URL:https://thekawarthas.ca/event/kuddle-a-kune/2026-04-06/
LOCATION:Douro\, DOURO-DUMMER\, K0L 2H0\, Canada
CATEGORIES:Agriculture & Culinary,Outdoors & Nature
ATTACH;FMTTYPE=image/jpeg:https://thekawarthas.ca/wp-content/uploads/2026/03/Kawartha-Event-image-scaled.jpg
ORGANIZER;CN="Stone Post Meadows":MAILTO:stonepostmeadows@gmail.com
END:VEVENT
BEGIN:VEVENT
DTSTART;VALUE=DATE:20260408
DTEND;VALUE=DATE:20260409
DTSTAMP:20260420T073909
CREATED:20260330T154206Z
LAST-MODIFIED:20260401T164459Z
UID:10013175-1775664000-1775669400@thekawarthas.ca
SUMMARY:Kuddle-a-Kune!
DESCRIPTION:Come to Stone Post Meadows for a 45-minute farm experience filled with joy: “kuddle” our Kune Kune piglets\, hand-feed our gentle alpacas\, and brush our friendly miniature goats. It’s a hands-on\, heartwarming visit filled with smiles\, snuggles\, and plenty of photo-worthy moments for all ages! \nAvailable Times \n\nApril 4th\n\n9:30am\n11:00am\n\n\nApril 6th\n\n10am\n11:30am\n1:00pm\n\n\nApril 8th\n\n4:00pm\n5:30pm\n\n\n\nCost \n\n$25 per person for ages 6 and up\n$15 for children ages 2-5 \n\nTo book a visit\, email stonepostmeadows@gmail.com or visit the organizer’s website \nAs this experience is located on a private property\, exact address and directions will be provided upon booking. \n  \n 
URL:https://thekawarthas.ca/event/kuddle-a-kune/2026-04-08/
LOCATION:Douro\, DOURO-DUMMER\, K0L 2H0\, Canada
CATEGORIES:Agriculture & Culinary,Outdoors & Nature
ATTACH;FMTTYPE=image/jpeg:https://thekawarthas.ca/wp-content/uploads/2026/03/Kawartha-Event-image-scaled.jpg
ORGANIZER;CN="Stone Post Meadows":MAILTO:stonepostmeadows@gmail.com
END:VEVENT
BEGIN:VEVENT
DTSTART;VALUE=DATE:20260425
DTEND;VALUE=DATE:20260426
DTSTAMP:20260420T073909
CREATED:20260415T170607Z
LAST-MODIFIED:20260415T170607Z
UID:10013185-1777075200-1777161599@thekawarthas.ca
SUMMARY:Kuddle-a-Kune Farm Visit
DESCRIPTION:Come to Stone Post Meadows for a 45-minute farm experience filled with joy: “kuddle” our Kunekune piglets\, hand-feed our gentle alpacas\, and brush our friendly miniature goats. It’s a hands-on\, heartwarming visit filled with smiles\, snuggles\, and plenty of photo-worthy moments for all ages! \n$25 per person ages 6 and up\, and $15 for children ages 2-5 \nTo book a visit\, email stonepostmeadows@gmail.com or visit the organizer’s website. \nAvailable Times:\n– 10 am\n– 11:30 am\n– 1:00 pm\n– 2:30 pm\n– 4:00 pm
URL:https://thekawarthas.ca/event/kuddle-a-kune-farm-visit/
LOCATION:ON
CATEGORIES:Agriculture & Culinary
ATTACH;FMTTYPE=image/jpeg:https://thekawarthas.ca/wp-content/uploads/2026/04/Kawartha-Event-image-scaled.jpg
ORGANIZER;CN="Stone Post Meadows":MAILTO:stonepostmeadows@gmail.com
END:VEVENT
BEGIN:VEVENT
DTSTART;TZID=America/Toronto:20260927T100000
DTEND;TZID=America/Toronto:20260927T160000
DTSTAMP:20260420T073909
CREATED:20260209T211230Z
LAST-MODIFIED:20260217T181600Z
UID:10012989-1790503200-1790524800@thekawarthas.ca
SUMMARY:Applefest
DESCRIPTION:Tempt your taste buds with the sweetest event of the year! Enjoy a colourful fall celebration of apples and the harvest. See the Cider Mill in full operation\, enjoy wagon rides\, live music\, historic demonstrations\, apple treats\, games\, and so much more.
URL:https://thekawarthas.ca/event/applefest-4/
LOCATION:Lang Pioneer Village Museum\, 104 Lang Road\, Keene\, K0L1C0
CATEGORIES:Agriculture & Culinary,Cultural Heritage,Exhibits & Shows
ATTACH;FMTTYPE=image/jpeg:https://thekawarthas.ca/wp-content/uploads/2026/01/applefest2025langpioneervillagemuseumheatherdoughtyphotography-17.jpg
ORGANIZER;CN="Lang Pioneer Village Museum":MAILTO:info@langpioneervillage.ca
END:VEVENT
END:VCALENDAR