BEGIN:VCALENDAR
VERSION:2.0
PRODID:-//The Kawarthas Tourism - ECPv6.15.20//NONSGML v1.0//EN
CALSCALE:GREGORIAN
METHOD:PUBLISH
X-WR-CALNAME:The Kawarthas Tourism
X-ORIGINAL-URL:https://thekawarthas.ca
X-WR-CALDESC:Events for The Kawarthas Tourism
REFRESH-INTERVAL;VALUE=DURATION:PT1H
X-Robots-Tag:noindex
X-PUBLISHED-TTL:PT1H
BEGIN:VTIMEZONE
TZID:America/Toronto
BEGIN:DAYLIGHT
TZOFFSETFROM:-0500
TZOFFSETTO:-0400
TZNAME:EDT
DTSTART:20230312T070000
END:DAYLIGHT
BEGIN:STANDARD
TZOFFSETFROM:-0400
TZOFFSETTO:-0500
TZNAME:EST
DTSTART:20231105T060000
END:STANDARD
BEGIN:DAYLIGHT
TZOFFSETFROM:-0500
TZOFFSETTO:-0400
TZNAME:EDT
DTSTART:20240310T070000
END:DAYLIGHT
BEGIN:STANDARD
TZOFFSETFROM:-0400
TZOFFSETTO:-0500
TZNAME:EST
DTSTART:20241103T060000
END:STANDARD
BEGIN:DAYLIGHT
TZOFFSETFROM:-0500
TZOFFSETTO:-0400
TZNAME:EDT
DTSTART:20250309T070000
END:DAYLIGHT
BEGIN:STANDARD
TZOFFSETFROM:-0400
TZOFFSETTO:-0500
TZNAME:EST
DTSTART:20251102T060000
END:STANDARD
END:VTIMEZONE
BEGIN:VEVENT
DTSTART;TZID=America/Toronto:20240315T120000
DTEND;TZID=America/Toronto:20240511T160000
DTSTAMP:20260423T044242
CREATED:20240411T193152Z
LAST-MODIFIED:20240411T193244Z
UID:10008579-1710504000-1715443200@thekawarthas.ca
SUMMARY:bienes importados / imported goods by Anahí González
DESCRIPTION:Anahí González’ artistic practice and research explore migration\, Mexican labour for/within Canada\, Canadian imperialism\, and identity with questions relating to commerce\, systems of power and the event of photography through installation\, photography\, and moving images.
URL:https://thekawarthas.ca/event/imported-goods-2/
LOCATION:Artspace\, 3-378 Aylmer Street N\, Peterborough\, ON\, K9H 3V8\, Canada
CATEGORIES:Arts & Entertainment,Cultural Heritage,Exhibits & Shows,Ongoing
ATTACH;FMTTYPE=image/jpeg:https://thekawarthas.ca/wp-content/uploads/2024/01/EM-12-scaled-1.jpg
ORGANIZER;CN="Artspace":MAILTO:gallery@artspaceptbo.ca
END:VEVENT
BEGIN:VEVENT
DTSTART;TZID=America/Toronto:20240325T080000
DTEND;TZID=America/Toronto:20240616T170000
DTSTAMP:20260423T044242
CREATED:20240325T131154Z
LAST-MODIFIED:20240325T131154Z
UID:10009081-1711353600-1718557200@thekawarthas.ca
SUMMARY:Words & Beyond: How Communication Brings Us Together
DESCRIPTION:The Peterborough Museum & Archives (PMA) Heideman Gallery was transformed by up-and-coming museum professionals from Fleming College’s Museum Management and Curatorship program! The students’ exhibition explores how communication has shaped Peterborough and the surrounding area. Come discover all the different ways we connect to one another and the wider world. There’s so much to say\, so come talk about it!
URL:https://thekawarthas.ca/event/words-beyond-how-communication-brings-us-together/
LOCATION:Peterborough Museum and Archives\, 300 Hunter Street East\, Peterborough\, Ontario\, K9J 6Y5\, Canada
CATEGORIES:Arts & Entertainment,Exhibits & Shows,Ongoing
ATTACH;FMTTYPE=image/jpeg:https://thekawarthas.ca/wp-content/uploads/2019/02/pkt-museum-and-archives.jpg
END:VEVENT
BEGIN:VEVENT
DTSTART;TZID=America/Toronto:20240330T110000
DTEND;TZID=America/Toronto:20240630T170000
DTSTAMP:20260423T044242
CREATED:20240311T153640Z
LAST-MODIFIED:20240411T193008Z
UID:10008890-1711796400-1719766800@thekawarthas.ca
SUMMARY:Ets’ehch’I; Traditional Dene Burial Practices | Antoine Mountain
DESCRIPTION:“We call it Feeding the Fire\,” Uncle quietly offers…\nThe Mountain Dene are naturally of a world apart\, in its way separate from our usual worldly cares and woes.\nTo keep it alive is an education in itself. – Antoine Mountain \n“Ets’ehch’I; Traditional Dene Burial Practices” is comprised of twenty-one paintings by Dene artist\, Antoine Mountain\, that share depictions taken from stories\, beliefs\, and traditions as an epistemological tool of Dene resurgence. \nAntoine Mountain is Dene\, North American First Nations\, originally from Radelie Koe/Fort Good Hope\, of the Dene Nation\, in northern Canada. His hometown is just a few miles from the Arctic Circle. In addition to his writing and scholarship\, Mountain is a painter primarily working in acrylics across a number of styles with Impressionist influence. The colours of the North and deep-rooted spiritualism inform his approach to depicting landscape\, portraits\, and figurative scenes.
URL:https://thekawarthas.ca/event/etsehchi-traditional-dene-burial-practices-antoine-mountain/
LOCATION:Art Gallery of Peterborough\, 250 Crescent Street\, Peterborough\, ON\, K9J 2G1\, Canada
CATEGORIES:Exhibits & Shows
ATTACH;FMTTYPE=image/jpeg:https://thekawarthas.ca/wp-content/uploads/2024/03/1.Antoine-Mountain-Koghatsededi-Feeding-the-Fire-2023-acrylic-on-canvas-scaled.jpg
ORGANIZER;CN="Art Gallery of Peterborough":MAILTO:gallery@agp.on.ca
END:VEVENT
BEGIN:VEVENT
DTSTART;TZID=America/Toronto:20240420T110000
DTEND;TZID=America/Toronto:20240616T170000
DTSTAMP:20260423T044242
CREATED:20240410T193046Z
LAST-MODIFIED:20240410T193108Z
UID:10009159-1713610800-1718557200@thekawarthas.ca
SUMMARY:Stan Olthuis | Interconnected
DESCRIPTION:Interconnected is a solo exhibition of work by Stan Olthuis. Grounding the entire project is Mira la Vida\, a large-scale kinetic sculpture comprised of two eight-foot intersecting discs representing the elements of our world: water\, earth\, fire\, and air. \nStan Olthuis is a Canadian multi-disciplinary visual artist currently based in Nogojiwanong/Peterborough. His work is driven by an ongoing curiosity of our relationship to the world around us. Often reinterpreting persistent symbolisms such as sacred geometry\, Olthuis explores spatial tension and interaction through abstract shapes and audience provocations powered by a colourful palette.
URL:https://thekawarthas.ca/event/stan-olthuis-interconnected/
LOCATION:Art Gallery of Peterborough\, 250 Crescent Street\, Peterborough\, ON\, K9J 2G1\, Canada
CATEGORIES:Exhibits & Shows
ATTACH;FMTTYPE=image/jpeg:https://thekawarthas.ca/wp-content/uploads/2024/04/Tidal_60_x60__IMG_4886-scaled.jpg
ORGANIZER;CN="Art Gallery of Peterborough":MAILTO:gallery@agp.on.ca
END:VEVENT
BEGIN:VEVENT
DTSTART;TZID=America/Toronto:20240427T080000
DTEND;TZID=America/Toronto:20240427T130000
DTSTAMP:20260423T044242
CREATED:20231108T182638Z
LAST-MODIFIED:20240514T175813Z
UID:10006335-1714204800-1714222800@thekawarthas.ca
SUMMARY:Peterborough Regional Farmers' Market
DESCRIPTION:Peterborough Regional Farmers’ Market\nMay 1st to October 30th \nWednesdays and Saturdays ~ 8am to 1pm \nWe are a verified Farmers’ Market. LOCAL FOOD YOU CAN TRUST. \nBuy directly from the farmer who grew it\, raised it\, harvested\, or foraged it! Sixty percent of our vendors are primary producers who have gone through a third party inspection process to verify they grow 100% of what they sell. The remaining forty percent include bakers\, prepared food vendors\, artists and community groups. \nEnjoy a festive market atmosphere with Peterborough’s finest prepared food vendors\, artisans and musicians. \nCome find us every Wednesday and Saturday to find local produce\, delicious takeaway meals and goodies\, and artisan wares. We look forward to seeing you there!
URL:https://thekawarthas.ca/event/peterborough-regional-farmers-market/2024-04-27/
LOCATION:Quaker Foods City Square\, 215 Charlotte Street\, Peterborough\, Ontario\, K9J 2T7\, Canada
CATEGORIES:Agriculture & Culinary,Farmers' Market
ATTACH;FMTTYPE=image/jpeg:https://thekawarthas.ca/wp-content/uploads/2019/01/Peterborough-Regional-FM-Honey-scaled.jpg
ORGANIZER;CN="The Peterborough Regional Farmers%E2%80%99 Market":MAILTO:info@ptboregionalfarmersmarket.com
END:VEVENT
BEGIN:VEVENT
DTSTART;TZID=America/Toronto:20240427T090000
DTEND;TZID=America/Toronto:20240427T150000
DTSTAMP:20260423T044242
CREATED:20240404T130345Z
LAST-MODIFIED:20240408T135933Z
UID:10009124-1714208400-1714230000@thekawarthas.ca
SUMMARY:ARTISANity Show and Sale
DESCRIPTION:The Artisans Centre Peterborough will be holding their Spring ARTISANity Show and Sale\, Friday April 26 from noon to 6 pm and Saturday April 27 from 9 am to 3 pm in the atrium of Peterborough Square. It will feature the exquisite work of our local artisans who put perfection\, artistry and love of their craft into each item they make. If you are looking for gifts for: Mother’s Day\, Father’s Day\, a special Graduation\, a Wedding or just a treat for yourself\, this Show and Sale is the place to be. Come see what local fibre artists\, potters\, jewelers\, gourd artists and woodworkers are creating.
URL:https://thekawarthas.ca/event/artisanity-sow-and-sale/2024-04-27/
LOCATION:Peterborough Square\, 340 George St. N.\, Peterborough\, Ontario\, K9H 7E8\, Canada
CATEGORIES:Exhibits & Shows
ATTACH;FMTTYPE=image/jpeg:https://thekawarthas.ca/wp-content/uploads/2024/04/sprin-aity-32305843009255724294.jpg
ORGANIZER;CN="Artisans Centre Peterborough":MAILTO:admin@artisanscentre.ca
GEO:44.3040778;-78.3217929
X-APPLE-STRUCTURED-LOCATION;VALUE=URI;X-ADDRESS=Peterborough Square 340 George St. N. Peterborough Ontario K9H 7E8 Canada;X-APPLE-RADIUS=500;X-TITLE=340 George St. N.:geo:-78.3217929,44.3040778
END:VEVENT
BEGIN:VEVENT
DTSTART;TZID=America/Toronto:20240427T090000
DTEND;TZID=America/Toronto:20240427T160000
DTSTAMP:20260423T044242
CREATED:20240322T142459Z
LAST-MODIFIED:20240322T142459Z
UID:10009065-1714208400-1714233600@thekawarthas.ca
SUMMARY:Youth Fishing Derby
DESCRIPTION:Open to children 15 years and younger only. Adults may assist young children or those with mobility issues but adults may not fish themselves;\n$15.00 for the first youth; $10.00 for each additional child in the same immediate family at time of registration;\nHot dog\, granola bar\, and milk provided for each youth participant;\nRegistered youth from the “Youth Fishing Derby” may fish the “All Ages Derby” using their existing wristband;\nInstant prizes for tagged fish will be awarded to registered youth;\nLimit of two tagged fish prizes per registered youth;\nEach registration will receive a goody bag with OFAH fish posters\, Ontario OUT of DOORS magazine\, stickers\, and more. Pick them up at the registration booths;\nSafety first. Youth must be accompanied by a parent/guardian. It is strongly encouraged that participants bring and wear personal flotation devices (PFDs) when fishing at the canal.\n\nThis event is family friendly and run by passionate volunteers and staff.
URL:https://thekawarthas.ca/event/youth-fishing-derby/
LOCATION:Peterborough Lift Lock\, 353 Hunter Street E\, Peterborough\, Ontario\, Canada
CATEGORIES:Sporting Events
ATTACH;FMTTYPE=image/jpeg:https://thekawarthas.ca/wp-content/uploads/2024/03/YouthFishing2022.jpg
ORGANIZER;CN="OFAH Under the Lock":MAILTO:underthelock@ofah.org
END:VEVENT
BEGIN:VEVENT
DTSTART;TZID=America/Toronto:20240427T100000
DTEND;TZID=America/Toronto:20240427T150000
DTSTAMP:20260423T044242
CREATED:20240405T143538Z
LAST-MODIFIED:20240405T143538Z
UID:10009130-1714212000-1714230000@thekawarthas.ca
SUMMARY:Friends of the Library Book Sale
DESCRIPTION:The Friends of the Peterborough Public Library (FOL) are a group of dedicated library supporters who volunteer their time sorting through donations from the community\, and organizing and running semi-annual book sales. \nMost categories of fiction\, non-fiction\, and audio/visual material sell for $1.00 per copy\, while bestsellers\, children’s books\, and collectibles are priced individually.
URL:https://thekawarthas.ca/event/friends-of-the-library-book-sale/2024-04-27/
LOCATION:Peterborough Public Library\, 345 Aylmer St N\, Peterborough\, Ontario\, K9H 3V7\, Canada
CATEGORIES:Exhibits & Shows
ATTACH;FMTTYPE=image/png:https://thekawarthas.ca/wp-content/uploads/2023/09/Main-Library-front-compressed.png
END:VEVENT
BEGIN:VEVENT
DTSTART;TZID=America/Toronto:20240427T100000
DTEND;TZID=America/Toronto:20240427T150000
DTSTAMP:20260423T044242
CREATED:20240412T185403Z
LAST-MODIFIED:20240412T185419Z
UID:10009212-1714212000-1714230000@thekawarthas.ca
SUMMARY:LYS Day (Local Yarn Store Day)
DESCRIPTION:Show support for small business while driving awareness and celebrating craft. Be sure to join us on Saturday April 27th from 10am to 3pm for LYS Day! We will be celebrating with a tent sale\, fibre and yarn testing\, various tool demonstrations\, light refreshments. Bring a lawn chair\, a project to work on\, and enjoy some time by the river.
URL:https://thekawarthas.ca/event/lys-day-local-yarn-store-day/
LOCATION:A River of Yarn\, 353 Kent's Bay Rd\, Keene\, ON\, K9J6X8
CATEGORIES:Arts & Entertainment,Exhibits & Shows
ATTACH;FMTTYPE=image/png:https://thekawarthas.ca/wp-content/uploads/2024/04/20230921_114149_1080.png
ORGANIZER;CN="A River of Yarn":MAILTO:ariverofyarn@gmail.com
END:VEVENT
BEGIN:VEVENT
DTSTART;TZID=America/Toronto:20240427T110000
DTEND;TZID=America/Toronto:20240427T180000
DTSTAMP:20260423T044242
CREATED:20240322T140608Z
LAST-MODIFIED:20240322T140608Z
UID:10009064-1714215600-1714240800@thekawarthas.ca
SUMMARY:Markets\, Merlot\, and Mutts
DESCRIPTION:Looking for something fun to do on a Saturday?\nWant to sip on some lovely wine while enjoying local vendors?\nWant to visit a beautiful venue located in Bailieboro? \nLook no further than our Markets\, Merlot\, and Mutts event! The Big Dog House is putting on this market to raise funds for their 2024 missions for rescue dogs! \nOther than the amazing vendors for the market\, your ticket includes:\n-live music\n-360 camera and social media team\n-silent auction\n-raffle entry\n-spring backdrop photoshoot \nAnd they are creating a system for drink tickets to help people donate to our cause while enjoying the amazing wine at Rolling Grape Vineyards.
URL:https://thekawarthas.ca/event/markets-merlot-and-mutts/
LOCATION:Rolling Grape Vineyard\, 260 County Rd 2\, Bailieboro\, Ontario\, K0L 1B0\, Canada
CATEGORIES:Exhibits & Shows
ATTACH;FMTTYPE=image/png:https://thekawarthas.ca/wp-content/uploads/2021/10/pkt-pattern-1-e1707487676944.png
ORGANIZER;CN="The Big Dog House":MAILTO:thebigdoghouseontario@gmail.com
END:VEVENT
BEGIN:VEVENT
DTSTART;TZID=America/Toronto:20240427T130000
DTEND;TZID=America/Toronto:20240427T140000
DTSTAMP:20260423T044242
CREATED:20240319T143406Z
LAST-MODIFIED:20240319T143406Z
UID:10009020-1714222800-1714226400@thekawarthas.ca
SUMMARY:Musical Concert with the Peterborough Children's Chorus
DESCRIPTION:Join Peterborough Public Library for a public performance by the Peterborough Children’s Chorus. Hear over 40 musicians ages 8-18 sing pop\, folk\, ballads\, and musical theatre in harmony\, and maybe even sing along! Songs feature emerging Canadian composers.
URL:https://thekawarthas.ca/event/musical-concert-peterborough-childrens-chorus/
LOCATION:Peterborough Public Library\, 345 Aylmer St N\, Peterborough\, Ontario\, K9H 3V7\, Canada
CATEGORIES:Arts & Entertainment
ATTACH;FMTTYPE=image/png:https://thekawarthas.ca/wp-content/uploads/2024/03/ba88d7b5-e1bf-4560-898e-b0f20123dc15.png
END:VEVENT
BEGIN:VEVENT
DTSTART;TZID=America/Toronto:20240427T130000
DTEND;TZID=America/Toronto:20240427T160000
DTSTAMP:20260423T044242
CREATED:20240115T155502Z
LAST-MODIFIED:20240115T155605Z
UID:10006856-1714222800-1714233600@thekawarthas.ca
SUMMARY:Saturday Art Club
DESCRIPTION:Join us on the last Saturday of the month for Saturday Art Club\nDoes your child have an interest in art? Are they looking to explore new materials and techniques? Then join us each month for this exploration-based studio program. Gallery instructors will lead activities designed to support and develop your child’s artistic interests and talents\, while taking inspiration from our current exhibitions.
URL:https://thekawarthas.ca/event/saturday-art-club/2024-04-27/
LOCATION:Art Gallery of Peterborough\, 250 Crescent Street\, Peterborough\, ON\, K9J 2G1\, Canada
CATEGORIES:Arts & Entertainment,Exhibits & Shows
ATTACH;FMTTYPE=image/webp:https://thekawarthas.ca/wp-content/uploads/2024/01/Art-Club_Banner-1024x512.jpg.webp
ORGANIZER;CN="Art Gallery of Peterborough":MAILTO:gallery@agp.on.ca
END:VEVENT
BEGIN:VEVENT
DTSTART;TZID=America/Toronto:20240427T133000
DTEND;TZID=America/Toronto:20240427T153000
DTSTAMP:20260423T044242
CREATED:20240402T151237Z
LAST-MODIFIED:20240402T151237Z
UID:10009102-1714224600-1714231800@thekawarthas.ca
SUMMARY:Jackson Park Earth Day Celebration
DESCRIPTION:Come celebrate Earth Day in Jackson Park! There will be loads of FREE family-friendly activities to choose from. \nMeet in Hamilton Park (575 Bonaccord St) \nActivities – 2 pm (20 min) & 2:30 pm (60 min): \nGuided Nature Walks\, Group Bike Ride\, Intro to Disc Golf\, Medicinal Plant Presentation\, Invasive Species Identification\, Bonnerworth Park Tour\, Guided Meditation\, and more!\nRain or Shine. In case of dangerous weather (e.g. lightning\, extreme wind)\, the event will be moved to Saturday\, May 4. \nBring your family\, bring your friends. Bring your positive attitude and enjoy the day!
URL:https://thekawarthas.ca/event/jackson-park-earth-day-celebration/
LOCATION:Jackson Park\, 610 Parkhill Road West\, Peterborough\, ON\, K9J 6N6\, Canada
CATEGORIES:Outdoors & Nature
ATTACH;FMTTYPE=image/jpeg:https://thekawarthas.ca/wp-content/uploads/2022/05/JacksonPark04-2-scaled.jpg
ORGANIZER;CN="Friends of Jackson Park":MAILTO:friendsofjacksonpark@gmail.com
END:VEVENT
BEGIN:VEVENT
DTSTART;TZID=America/Toronto:20240427T150000
DTEND;TZID=America/Toronto:20240427T170000
DTSTAMP:20260423T044242
CREATED:20240411T131155Z
LAST-MODIFIED:20240411T131155Z
UID:10009203-1714230000-1714237200@thekawarthas.ca
SUMMARY:Craft and Glow in Dark Dance Event
DESCRIPTION:Parents do you need 2 hours out to get things done? Does your kid like crafts and dancing? Send them to our Craft and Dance Party! Only 20 spots. Includes food and drink with ticket purchase. \nAges 4-8
URL:https://thekawarthas.ca/event/craft-and-glow-in-dark-dance-event/
LOCATION:Grand Events\, 861 Chemong Road\, Unit 16\, Peterborough\, ON\, K9H 5Z5
CATEGORIES:Arts & Entertainment
ATTACH;FMTTYPE=image/png:https://thekawarthas.ca/wp-content/uploads/2021/10/pkt-pattern-1-e1707487676944.png
ORGANIZER;CN="Grand Events":MAILTO:grandeventsptbo@hotmail.com
END:VEVENT
BEGIN:VEVENT
DTSTART;TZID=America/Toronto:20240427T180000
DTEND;TZID=America/Toronto:20240427T200000
DTSTAMP:20260423T044242
CREATED:20240411T130931Z
LAST-MODIFIED:20240411T131010Z
UID:10009202-1714240800-1714248000@thekawarthas.ca
SUMMARY:Kids Glow in Dark Dance Party
DESCRIPTION:Parents – drop your 8-13 year old off for a fun night of Glow in the Dark Dancing with Friends. Bring a white t-shirt that can be decorated with glow in the dark paint! Only 20 spots available. Food and drink included.
URL:https://thekawarthas.ca/event/kids-glow-in-dark-dance-party/
LOCATION:Grand Events\, 861 Chemong Road\, Unit 16\, Peterborough\, ON\, K9H 5Z5
CATEGORIES:Arts & Entertainment
ATTACH;FMTTYPE=image/png:https://thekawarthas.ca/wp-content/uploads/2021/10/pkt-pattern-1-e1707487676944.png
ORGANIZER;CN="Grand Events":MAILTO:grandeventsptbo@hotmail.com
END:VEVENT
BEGIN:VEVENT
DTSTART;TZID=America/Toronto:20240427T200000
DTEND;TZID=America/Toronto:20240427T200000
DTSTAMP:20260423T044242
CREATED:20240117T190608Z
LAST-MODIFIED:20240117T190855Z
UID:10007637-1714248000-1714248000@thekawarthas.ca
SUMMARY:André Bisson Band
DESCRIPTION:From a small town in Northern Ontario to lively crowds across England and Wales\, André Bisson has proved that he has a message worth listening to. With a career that spans over 20 years\, his musical resume includes 10 studio albums\, countless awards\, and sold out shows across Canada\, US\, UK\, and Europe. \nAs the sole songwriter and arranger for a group of 7 musicians\, André has created his own musical brand infused with soul\, roots\, blues\, and R&B. Using an eclectic combination of instruments\, he creates a musical story that becomes the soundtrack for his lyrics.\nSince first taking to the stage at age 15\, André’s love and dedication has always been to the live show. Combining his powerhouse vocals with a group of world class musicians\, André makes it a priority to always give the audience an exciting\, intense\, and memorable musical experience. The connection between the musicians\, the song\, and the audience is always the ultimate goal.\nThroughout the years\, André’s style and philosophy towards music has attracted attention in the music community. Since his first album release in 2009\, Andre has gained notoriety with awards such as “Male Vocalist of the Year” – Hamilton Blues Awards\, “Song of the Year” – Blues and Roots Radio International Song Contest\, and a five time nominee at the Hamilton Arts Awards. André was also selected by the Grand River Blues Society to compete at the International Blues Challenge in Memphis\, Tennessee. Recently\, Andre was nominated for a 2024 Maple Blues Award for Songwriter of the Year. \nWith a dedication to the live show and a sound that is constantly growing and evolving\, each performance is unique in its own way. It is these qualities that keep the audience engaged\, excited and returning time and time again.
URL:https://thekawarthas.ca/event/andre-bisson-band/
LOCATION:Market Hall Performing Arts\, 140 Charlotte St Third Floor\, Peterborough\, K9J 2T8
CATEGORIES:Arts & Entertainment
ATTACH;FMTTYPE=image/png:https://thekawarthas.ca/wp-content/uploads/2024/01/bisson24-450-2-1-e1705518522528.png
END:VEVENT
END:VCALENDAR