BEGIN:VCALENDAR
VERSION:2.0
PRODID:-//The Kawarthas Tourism - ECPv6.15.20//NONSGML v1.0//EN
CALSCALE:GREGORIAN
METHOD:PUBLISH
X-WR-CALNAME:The Kawarthas Tourism
X-ORIGINAL-URL:https://thekawarthas.ca
X-WR-CALDESC:Events for The Kawarthas Tourism
REFRESH-INTERVAL;VALUE=DURATION:PT1H
X-Robots-Tag:noindex
X-PUBLISHED-TTL:PT1H
BEGIN:VTIMEZONE
TZID:America/Toronto
BEGIN:DAYLIGHT
TZOFFSETFROM:-0500
TZOFFSETTO:-0400
TZNAME:EDT
DTSTART:20230312T070000
END:DAYLIGHT
BEGIN:STANDARD
TZOFFSETFROM:-0400
TZOFFSETTO:-0500
TZNAME:EST
DTSTART:20231105T060000
END:STANDARD
BEGIN:DAYLIGHT
TZOFFSETFROM:-0500
TZOFFSETTO:-0400
TZNAME:EDT
DTSTART:20240310T070000
END:DAYLIGHT
BEGIN:STANDARD
TZOFFSETFROM:-0400
TZOFFSETTO:-0500
TZNAME:EST
DTSTART:20241103T060000
END:STANDARD
BEGIN:DAYLIGHT
TZOFFSETFROM:-0500
TZOFFSETTO:-0400
TZNAME:EDT
DTSTART:20250309T070000
END:DAYLIGHT
BEGIN:STANDARD
TZOFFSETFROM:-0400
TZOFFSETTO:-0500
TZNAME:EST
DTSTART:20251102T060000
END:STANDARD
END:VTIMEZONE
BEGIN:VEVENT
DTSTART;TZID=America/Toronto:20240315T120000
DTEND;TZID=America/Toronto:20240511T160000
DTSTAMP:20260421T042744
CREATED:20240411T193152Z
LAST-MODIFIED:20240411T193244Z
UID:10008579-1710504000-1715443200@thekawarthas.ca
SUMMARY:bienes importados / imported goods by Anahí González
DESCRIPTION:Anahí González’ artistic practice and research explore migration\, Mexican labour for/within Canada\, Canadian imperialism\, and identity with questions relating to commerce\, systems of power and the event of photography through installation\, photography\, and moving images.
URL:https://thekawarthas.ca/event/imported-goods-2/
LOCATION:Artspace\, 3-378 Aylmer Street N\, Peterborough\, ON\, K9H 3V8\, Canada
CATEGORIES:Arts & Entertainment,Cultural Heritage,Exhibits & Shows,Ongoing
ATTACH;FMTTYPE=image/jpeg:https://thekawarthas.ca/wp-content/uploads/2024/01/EM-12-scaled-1.jpg
ORGANIZER;CN="Artspace":MAILTO:gallery@artspaceptbo.ca
END:VEVENT
BEGIN:VEVENT
DTSTART;TZID=America/Toronto:20240325T080000
DTEND;TZID=America/Toronto:20240616T170000
DTSTAMP:20260421T042744
CREATED:20240325T131154Z
LAST-MODIFIED:20240325T131154Z
UID:10009081-1711353600-1718557200@thekawarthas.ca
SUMMARY:Words & Beyond: How Communication Brings Us Together
DESCRIPTION:The Peterborough Museum & Archives (PMA) Heideman Gallery was transformed by up-and-coming museum professionals from Fleming College’s Museum Management and Curatorship program! The students’ exhibition explores how communication has shaped Peterborough and the surrounding area. Come discover all the different ways we connect to one another and the wider world. There’s so much to say\, so come talk about it!
URL:https://thekawarthas.ca/event/words-beyond-how-communication-brings-us-together/
LOCATION:Peterborough Museum and Archives\, 300 Hunter Street East\, Peterborough\, Ontario\, K9J 6Y5\, Canada
CATEGORIES:Arts & Entertainment,Exhibits & Shows,Ongoing
ATTACH;FMTTYPE=image/jpeg:https://thekawarthas.ca/wp-content/uploads/2019/02/pkt-museum-and-archives.jpg
END:VEVENT
BEGIN:VEVENT
DTSTART;TZID=America/Toronto:20240330T110000
DTEND;TZID=America/Toronto:20240630T170000
DTSTAMP:20260421T042744
CREATED:20240311T153640Z
LAST-MODIFIED:20240411T193008Z
UID:10008890-1711796400-1719766800@thekawarthas.ca
SUMMARY:Ets’ehch’I; Traditional Dene Burial Practices | Antoine Mountain
DESCRIPTION:“We call it Feeding the Fire\,” Uncle quietly offers…\nThe Mountain Dene are naturally of a world apart\, in its way separate from our usual worldly cares and woes.\nTo keep it alive is an education in itself. – Antoine Mountain \n“Ets’ehch’I; Traditional Dene Burial Practices” is comprised of twenty-one paintings by Dene artist\, Antoine Mountain\, that share depictions taken from stories\, beliefs\, and traditions as an epistemological tool of Dene resurgence. \nAntoine Mountain is Dene\, North American First Nations\, originally from Radelie Koe/Fort Good Hope\, of the Dene Nation\, in northern Canada. His hometown is just a few miles from the Arctic Circle. In addition to his writing and scholarship\, Mountain is a painter primarily working in acrylics across a number of styles with Impressionist influence. The colours of the North and deep-rooted spiritualism inform his approach to depicting landscape\, portraits\, and figurative scenes.
URL:https://thekawarthas.ca/event/etsehchi-traditional-dene-burial-practices-antoine-mountain/
LOCATION:Art Gallery of Peterborough\, 250 Crescent Street\, Peterborough\, ON\, K9J 2G1\, Canada
CATEGORIES:Exhibits & Shows
ATTACH;FMTTYPE=image/jpeg:https://thekawarthas.ca/wp-content/uploads/2024/03/1.Antoine-Mountain-Koghatsededi-Feeding-the-Fire-2023-acrylic-on-canvas-scaled.jpg
ORGANIZER;CN="Art Gallery of Peterborough":MAILTO:gallery@agp.on.ca
END:VEVENT
BEGIN:VEVENT
DTSTART;TZID=America/Toronto:20240409T101500
DTEND;TZID=America/Toronto:20240409T104500
DTSTAMP:20260421T042744
CREATED:20240318T185728Z
LAST-MODIFIED:20240318T185728Z
UID:10009001-1712657700-1712659500@thekawarthas.ca
SUMMARY:Preschool Story Time
DESCRIPTION:The Peterborough Public Library invites families to join them for a fun and lively story time tailored for preschoolers. Attendees and their little ones will experience an engaging session where their child’s imagination and attention span will be nurtured through captivating stories and interactive songs. The focus will be on fostering early literacy skills in an enjoyable and welcoming environment.
URL:https://thekawarthas.ca/event/preschool-story-time/2024-04-09/
LOCATION:Peterborough Public Library\, 345 Aylmer St N\, Peterborough\, Ontario\, K9H 3V7\, Canada
CATEGORIES:Arts & Entertainment
ATTACH;FMTTYPE=image/png:https://thekawarthas.ca/wp-content/uploads/2023/09/Main-Library-front-compressed.png
END:VEVENT
BEGIN:VEVENT
DTSTART;TZID=America/Toronto:20240409T160000
DTEND;TZID=America/Toronto:20240409T170000
DTSTAMP:20260421T042744
CREATED:20240319T131415Z
LAST-MODIFIED:20240325T142401Z
UID:10009012-1712678400-1712682000@thekawarthas.ca
SUMMARY:Draw Together
DESCRIPTION:At the Peterborough Public Library\, visitors are invited to drop by the Story Corner for an hour of creative coloring and drawing. The library will provide all necessary art supplies\, along with new guided drawing activities each week to inspire creativity.
URL:https://thekawarthas.ca/event/draw-together/2024-04-09/
LOCATION:Peterborough Public Library\, 345 Aylmer St N\, Peterborough\, Ontario\, K9H 3V7\, Canada
CATEGORIES:Arts & Entertainment
ATTACH;FMTTYPE=image/png:https://thekawarthas.ca/wp-content/uploads/2023/09/Main-Library-front-compressed.png
END:VEVENT
BEGIN:VEVENT
DTSTART;TZID=America/Toronto:20240409T180000
DTEND;TZID=America/Toronto:20240409T190000
DTSTAMP:20260421T042744
CREATED:20240115T154105Z
LAST-MODIFIED:20240115T154105Z
UID:10006848-1712685600-1712689200@thekawarthas.ca
SUMMARY:Trail Tales
DESCRIPTION:Come out for an evening family stroll along some of Peterborough’s lovely trails while Laura shares some oral stories\, songs and rhymes that connect us to the natural beauty around us. \nPlease dress for the weather\, we only cancel if there’s severe weather. \nJan 23 – Meet at Pioneer Memorial Park: Master’s College and Seminary \nFeb 20- Meet at Sherbrooke Woods: Monseigneur-Jamot \nMar 12 – London Street Footbridge \nApr 9 – Mark S. Burnham Provincial Park parking lot \nApr 23 – Bridlewood Park (1684 Ramblewood Drive) \nMay 7 – Inverlea Park (18 Dennistoun Avenue) \nMay 21 – Little Lake Cemetery main gate (915 Haggart St)
URL:https://thekawarthas.ca/event/trail-tales/2024-04-09/
CATEGORIES:Arts & Entertainment,Outdoors & Nature
END:VEVENT
BEGIN:VEVENT
DTSTART;TZID=America/Toronto:20240409T190000
DTEND;TZID=America/Toronto:20240409T203000
DTSTAMP:20260421T042744
CREATED:20240405T140326Z
LAST-MODIFIED:20240405T140326Z
UID:10009125-1712689200-1712694600@thekawarthas.ca
SUMMARY:Indigenous Culture Series - All about Ribbon Skirts
DESCRIPTION:In this session\, you’ll learn about traditional teachings on identity\, clans\, and colours that all go into the creation of the ribbon skirt.
URL:https://thekawarthas.ca/event/indigenous-culture-series-all-about-ribbon-skirts/
LOCATION:Peterborough Public Library\, 345 Aylmer St N\, Peterborough\, Ontario\, K9H 3V7\, Canada
CATEGORIES:Cultural Heritage
ATTACH;FMTTYPE=image/png:https://thekawarthas.ca/wp-content/uploads/2024/04/9d3d07a8-49f3-431e-a1f0-b0f5013f11ab.png
END:VEVENT
END:VCALENDAR