BEGIN:VCALENDAR
VERSION:2.0
PRODID:-//The Kawarthas Tourism - ECPv6.15.20//NONSGML v1.0//EN
CALSCALE:GREGORIAN
METHOD:PUBLISH
X-ORIGINAL-URL:https://thekawarthas.ca
X-WR-CALDESC:Events for The Kawarthas Tourism
REFRESH-INTERVAL;VALUE=DURATION:PT1H
X-Robots-Tag:noindex
X-PUBLISHED-TTL:PT1H
BEGIN:VTIMEZONE
TZID:America/Toronto
BEGIN:DAYLIGHT
TZOFFSETFROM:-0500
TZOFFSETTO:-0400
TZNAME:EDT
DTSTART:20230312T070000
END:DAYLIGHT
BEGIN:STANDARD
TZOFFSETFROM:-0400
TZOFFSETTO:-0500
TZNAME:EST
DTSTART:20231105T060000
END:STANDARD
BEGIN:DAYLIGHT
TZOFFSETFROM:-0500
TZOFFSETTO:-0400
TZNAME:EDT
DTSTART:20240310T070000
END:DAYLIGHT
BEGIN:STANDARD
TZOFFSETFROM:-0400
TZOFFSETTO:-0500
TZNAME:EST
DTSTART:20241103T060000
END:STANDARD
BEGIN:DAYLIGHT
TZOFFSETFROM:-0500
TZOFFSETTO:-0400
TZNAME:EDT
DTSTART:20250309T070000
END:DAYLIGHT
BEGIN:STANDARD
TZOFFSETFROM:-0400
TZOFFSETTO:-0500
TZNAME:EST
DTSTART:20251102T060000
END:STANDARD
END:VTIMEZONE
BEGIN:VEVENT
DTSTART;TZID=America/Toronto:20240315T120000
DTEND;TZID=America/Toronto:20240511T160000
DTSTAMP:20260421T045022
CREATED:20240411T193152Z
LAST-MODIFIED:20240411T193244Z
UID:10008579-1710504000-1715443200@thekawarthas.ca
SUMMARY:bienes importados / imported goods by Anahí González
DESCRIPTION:Anahí González’ artistic practice and research explore migration\, Mexican labour for/within Canada\, Canadian imperialism\, and identity with questions relating to commerce\, systems of power and the event of photography through installation\, photography\, and moving images.
URL:https://thekawarthas.ca/event/imported-goods-2/
LOCATION:Artspace\, 3-378 Aylmer Street N\, Peterborough\, ON\, K9H 3V8\, Canada
CATEGORIES:Arts & Entertainment,Cultural Heritage,Exhibits & Shows,Ongoing
ATTACH;FMTTYPE=image/jpeg:https://thekawarthas.ca/wp-content/uploads/2024/01/EM-12-scaled-1.jpg
ORGANIZER;CN="Artspace":MAILTO:gallery@artspaceptbo.ca
END:VEVENT
BEGIN:VEVENT
DTSTART;TZID=America/Toronto:20240325T080000
DTEND;TZID=America/Toronto:20240616T170000
DTSTAMP:20260421T045022
CREATED:20240325T131154Z
LAST-MODIFIED:20240325T131154Z
UID:10009081-1711353600-1718557200@thekawarthas.ca
SUMMARY:Words & Beyond: How Communication Brings Us Together
DESCRIPTION:The Peterborough Museum & Archives (PMA) Heideman Gallery was transformed by up-and-coming museum professionals from Fleming College’s Museum Management and Curatorship program! The students’ exhibition explores how communication has shaped Peterborough and the surrounding area. Come discover all the different ways we connect to one another and the wider world. There’s so much to say\, so come talk about it!
URL:https://thekawarthas.ca/event/words-beyond-how-communication-brings-us-together/
LOCATION:Peterborough Museum and Archives\, 300 Hunter Street East\, Peterborough\, Ontario\, K9J 6Y5\, Canada
CATEGORIES:Arts & Entertainment,Exhibits & Shows,Ongoing
ATTACH;FMTTYPE=image/jpeg:https://thekawarthas.ca/wp-content/uploads/2019/02/pkt-museum-and-archives.jpg
END:VEVENT
BEGIN:VEVENT
DTSTART;TZID=America/Toronto:20240329T120000
DTEND;TZID=America/Toronto:20240329T140000
DTSTAMP:20260421T045022
CREATED:20240212T203445Z
LAST-MODIFIED:20240212T203457Z
UID:10007804-1711713600-1711720800@thekawarthas.ca
SUMMARY:Easter Egg Hunt & BBQ
DESCRIPTION:Join New Life Church for an Easter egg hunt\, bouncy castle\, kids crafts\, face painting and a free bbq and refreshments. The egg hunt will begin at 12:30.
URL:https://thekawarthas.ca/event/easter-egg-hunt-bbq/
LOCATION:New Life Church\, 4014 Wallace Point Road\, Peterborough\, K9J 0E4
CATEGORIES:Arts & Entertainment,Holiday Related
ATTACH;FMTTYPE=image/png:https://thekawarthas.ca/wp-content/uploads/2021/10/pkt-pattern-1-e1707487676944.png
ORGANIZER;CN="New Life Church":MAILTO:mailto:connect@newlifechurchptbo.ca
END:VEVENT
BEGIN:VEVENT
DTSTART;TZID=America/Toronto:20240329T160000
DTEND;TZID=America/Toronto:20240329T170000
DTSTAMP:20260421T045022
CREATED:20240115T184703Z
LAST-MODIFIED:20240220T180026Z
UID:10006926-1711728000-1711731600@thekawarthas.ca
SUMMARY:Millbrook Public Skate
DESCRIPTION:Public Skating continues at the Cavan Monaghan Community Centre.  Our regular Winter schedule will run from Sunday January 7th\, 2024 to Sunday March 31st \, 2024. \nPlease see the Winter 2024 public skate schedule for all public skating dates and time.
URL:https://thekawarthas.ca/event/milbrook-public-skate/2024-03-29/
LOCATION:Cavan Monaghan Community Centre\, 986 Peterborough County Road 10\, Millbrook\, L0A 1G0
CATEGORIES:Ongoing
ATTACH;FMTTYPE=image/jpeg:https://thekawarthas.ca/wp-content/uploads/2024/01/Public-Skating-Banner.jpg
END:VEVENT
BEGIN:VEVENT
DTSTART;TZID=America/Toronto:20240329T200000
DTEND;TZID=America/Toronto:20240329T200000
DTSTAMP:20260421T045022
CREATED:20240110T164709Z
LAST-MODIFIED:20240110T164709Z
UID:10006688-1711742400-1711742400@thekawarthas.ca
SUMMARY:My Son The Hurricane
DESCRIPTION:***19+ EVENT*** \nMy Son The Hurricane is a multi-horn\, multi-drummer\, multi-singer brass funk beast from Niagara\, On. The 12-piece brass-dance crew has toured over multiple countries and played some of Canada\, USA and Europe’s biggest festivals. Over 45 sold out shows in 2022 proves that there is no live show like My Son The Hurricane. The band features trumpets\, saxophones\, trombones\, drums\, guitar\, keys\, percussion and a wild front woman…We dare you not to dance! In 2023\, the band will take on an over 70 date Canada\, United States and Europe-wide tour and share the stage with acts like Foo Fighters\, Jason Isbell and Colin James.
URL:https://thekawarthas.ca/event/my-son-the-hurricane/
LOCATION:Market Hall Performing Arts\, 140 Charlotte St Third Floor\, Peterborough\, K9J 2T8
CATEGORIES:Arts & Entertainment,Exhibits & Shows,Performing Arts
ATTACH;FMTTYPE=image/png:https://thekawarthas.ca/wp-content/uploads/2024/01/MSTH24-450.png
ORGANIZER;CN="Market Hall Performing Arts Centre":MAILTO:boxoffice@markethall.org
END:VEVENT
END:VCALENDAR