BEGIN:VCALENDAR
VERSION:2.0
PRODID:-//The Kawarthas Tourism - ECPv6.15.20//NONSGML v1.0//EN
CALSCALE:GREGORIAN
METHOD:PUBLISH
X-ORIGINAL-URL:https://thekawarthas.ca
X-WR-CALDESC:Events for The Kawarthas Tourism
REFRESH-INTERVAL;VALUE=DURATION:PT1H
X-Robots-Tag:noindex
X-PUBLISHED-TTL:PT1H
BEGIN:VTIMEZONE
TZID:America/Toronto
BEGIN:DAYLIGHT
TZOFFSETFROM:-0500
TZOFFSETTO:-0400
TZNAME:EDT
DTSTART:20230312T070000
END:DAYLIGHT
BEGIN:STANDARD
TZOFFSETFROM:-0400
TZOFFSETTO:-0500
TZNAME:EST
DTSTART:20231105T060000
END:STANDARD
BEGIN:DAYLIGHT
TZOFFSETFROM:-0500
TZOFFSETTO:-0400
TZNAME:EDT
DTSTART:20240310T070000
END:DAYLIGHT
BEGIN:STANDARD
TZOFFSETFROM:-0400
TZOFFSETTO:-0500
TZNAME:EST
DTSTART:20241103T060000
END:STANDARD
BEGIN:DAYLIGHT
TZOFFSETFROM:-0500
TZOFFSETTO:-0400
TZNAME:EDT
DTSTART:20250309T070000
END:DAYLIGHT
BEGIN:STANDARD
TZOFFSETFROM:-0400
TZOFFSETTO:-0500
TZNAME:EST
DTSTART:20251102T060000
END:STANDARD
END:VTIMEZONE
BEGIN:VEVENT
DTSTART;TZID=America/Toronto:20240315T120000
DTEND;TZID=America/Toronto:20240511T160000
DTSTAMP:20260421T045028
CREATED:20240411T193152Z
LAST-MODIFIED:20240411T193244Z
UID:10008579-1710504000-1715443200@thekawarthas.ca
SUMMARY:bienes importados / imported goods by Anahí González
DESCRIPTION:Anahí González’ artistic practice and research explore migration\, Mexican labour for/within Canada\, Canadian imperialism\, and identity with questions relating to commerce\, systems of power and the event of photography through installation\, photography\, and moving images.
URL:https://thekawarthas.ca/event/imported-goods-2/
LOCATION:Artspace\, 3-378 Aylmer Street N\, Peterborough\, ON\, K9H 3V8\, Canada
CATEGORIES:Arts & Entertainment,Cultural Heritage,Exhibits & Shows,Ongoing
ATTACH;FMTTYPE=image/jpeg:https://thekawarthas.ca/wp-content/uploads/2024/01/EM-12-scaled-1.jpg
ORGANIZER;CN="Artspace":MAILTO:gallery@artspaceptbo.ca
END:VEVENT
BEGIN:VEVENT
DTSTART;TZID=America/Toronto:20240325T080000
DTEND;TZID=America/Toronto:20240616T170000
DTSTAMP:20260421T045028
CREATED:20240325T131154Z
LAST-MODIFIED:20240325T131154Z
UID:10009081-1711353600-1718557200@thekawarthas.ca
SUMMARY:Words & Beyond: How Communication Brings Us Together
DESCRIPTION:The Peterborough Museum & Archives (PMA) Heideman Gallery was transformed by up-and-coming museum professionals from Fleming College’s Museum Management and Curatorship program! The students’ exhibition explores how communication has shaped Peterborough and the surrounding area. Come discover all the different ways we connect to one another and the wider world. There’s so much to say\, so come talk about it!
URL:https://thekawarthas.ca/event/words-beyond-how-communication-brings-us-together/
LOCATION:Peterborough Museum and Archives\, 300 Hunter Street East\, Peterborough\, Ontario\, K9J 6Y5\, Canada
CATEGORIES:Arts & Entertainment,Exhibits & Shows,Ongoing
ATTACH;FMTTYPE=image/jpeg:https://thekawarthas.ca/wp-content/uploads/2019/02/pkt-museum-and-archives.jpg
END:VEVENT
BEGIN:VEVENT
DTSTART;TZID=America/Toronto:20240328T110000
DTEND;TZID=America/Toronto:20240328T130000
DTSTAMP:20260421T045028
CREATED:20240115T194841Z
LAST-MODIFIED:20240115T195046Z
UID:10007574-1711623600-1711630800@thekawarthas.ca
SUMMARY:Apsley Public Skate
DESCRIPTION:Enjoy public skating at the NKCC!
URL:https://thekawarthas.ca/event/apsley-public-skate/2024-03-28/
LOCATION:North Kawartha Community Centre\, 340 McFadden Rd\, Apsley\, K0L 1A0
CATEGORIES:Ongoing
ATTACH;FMTTYPE=image/png:https://thekawarthas.ca/wp-content/uploads/2024/01/skating.png
END:VEVENT
BEGIN:VEVENT
DTSTART;TZID=America/Toronto:20240328T120000
DTEND;TZID=America/Toronto:20240328T160000
DTSTAMP:20260421T045028
CREATED:20240304T190759Z
LAST-MODIFIED:20240304T190759Z
UID:10008871-1711627200-1711641600@thekawarthas.ca
SUMMARY:Annual Celebration of Community-Based Research
DESCRIPTION:Join us for the Trent Community Research Centre’s Annual Celebration of Community-Based Research! This dynamic event showcases the results of this year’s student research\, including a research poster showcase\, student presentations\, an insightful research panel\, and an awards presentation recognizing student\, community\, and faculty leaders in community-based research. \nExplore innovative research projects that advance the social\, cultural\, economic\, and environmental well-being of our local communities as we celebrate this year’s collaborations! This celebration promises a day filled with knowledge exchange\, collaboration\, and recognition of outstanding contributions. \nWhether you live\, work\, learn\, or play in the Peterborough region\, this event is an opportunity to connect\, learn\, and celebrate partnerships and the pursuit of knowledge.
URL:https://thekawarthas.ca/event/annual-celebration-of-community-based-research/
LOCATION:Market Hall Performing Arts\, 140 Charlotte St Third Floor\, Peterborough\, K9J 2T8
CATEGORIES:Exhibits & Shows
ATTACH;FMTTYPE=image/png:https://thekawarthas.ca/wp-content/uploads/2024/03/trent-community-research-centre-LOGO.png
ORGANIZER;CN="Trent Community Research Centre":MAILTO:TCRC@trentu.ca
END:VEVENT
BEGIN:VEVENT
DTSTART;TZID=America/Toronto:20240328T183000
DTEND;TZID=America/Toronto:20240328T213000
DTSTAMP:20260421T045028
CREATED:20240116T194928Z
LAST-MODIFIED:20240116T194928Z
UID:10007608-1711650600-1711661400@thekawarthas.ca
SUMMARY:Pub Night Thursdays
DESCRIPTION:Join us every Thursday in the Pub for live music\, classic pub fare and cold beers! \nFeeling peckish? We will be releasing our pub-approved $13 bites menu\, filled with classics like devilled eggs\, cheeseburger sliders\, tacos & more\, alongside beverage specials that will be available exclusively in the pub. \nCome one\, come all and join us for Pub Night Thursdays at the Lodge
URL:https://thekawarthas.ca/event/pub-night-thursdays/2024-03-28/
LOCATION:Chemong Lodge\, 764 Hunter Street\, Bridgenorth\, Ontario\, K0L1H0\, Canada
CATEGORIES:Arts & Entertainment,Ongoing
ATTACH;FMTTYPE=image/webp:https://thekawarthas.ca/wp-content/uploads/2024/01/pub-night-banner-1.webp
END:VEVENT
BEGIN:VEVENT
DTSTART;TZID=America/Toronto:20240328T193000
DTEND;TZID=America/Toronto:20240328T210000
DTSTAMP:20260421T045028
CREATED:20240221T154851Z
LAST-MODIFIED:20240221T154851Z
UID:10008563-1711654200-1711659600@thekawarthas.ca
SUMMARY:Harry Potter Trivia Night
DESCRIPTION:Harry Potter Trivia Night happening at Boston Pizza Peterborough South on March 28th at 7:30 PM. \nBoston Pizza Peterborough Lansdowne location. $2 per player
URL:https://thekawarthas.ca/event/harry-potter-trivia-night-2/
LOCATION:Boston Pizza Peterborough South\, 821 Rye Street\, Peterborough\, ON\, K9J 6X1
CATEGORIES:Arts & Entertainment
ATTACH;FMTTYPE=image/jpeg:https://thekawarthas.ca/wp-content/uploads/2024/01/bostonpizza_logo21.jpg
END:VEVENT
END:VCALENDAR