BEGIN:VCALENDAR
VERSION:2.0
PRODID:-//The Kawarthas Tourism - ECPv6.15.20//NONSGML v1.0//EN
CALSCALE:GREGORIAN
METHOD:PUBLISH
X-WR-CALNAME:The Kawarthas Tourism
X-ORIGINAL-URL:https://thekawarthas.ca
X-WR-CALDESC:Events for The Kawarthas Tourism
REFRESH-INTERVAL;VALUE=DURATION:PT1H
X-Robots-Tag:noindex
X-PUBLISHED-TTL:PT1H
BEGIN:VTIMEZONE
TZID:America/Toronto
BEGIN:DAYLIGHT
TZOFFSETFROM:-0500
TZOFFSETTO:-0400
TZNAME:EDT
DTSTART:20230312T070000
END:DAYLIGHT
BEGIN:STANDARD
TZOFFSETFROM:-0400
TZOFFSETTO:-0500
TZNAME:EST
DTSTART:20231105T060000
END:STANDARD
BEGIN:DAYLIGHT
TZOFFSETFROM:-0500
TZOFFSETTO:-0400
TZNAME:EDT
DTSTART:20240310T070000
END:DAYLIGHT
BEGIN:STANDARD
TZOFFSETFROM:-0400
TZOFFSETTO:-0500
TZNAME:EST
DTSTART:20241103T060000
END:STANDARD
BEGIN:DAYLIGHT
TZOFFSETFROM:-0500
TZOFFSETTO:-0400
TZNAME:EDT
DTSTART:20250309T070000
END:DAYLIGHT
BEGIN:STANDARD
TZOFFSETFROM:-0400
TZOFFSETTO:-0500
TZNAME:EST
DTSTART:20251102T060000
END:STANDARD
END:VTIMEZONE
BEGIN:VEVENT
DTSTART;TZID=America/Toronto:20240111T090000
DTEND;TZID=America/Toronto:20240324T170000
DTSTAMP:20260421T044803
CREATED:20240111T154152Z
LAST-MODIFIED:20240111T154152Z
UID:10006720-1704963600-1711299600@thekawarthas.ca
SUMMARY:Hanging Out with Marionettes: Vignettes from the Peterborough Puppet Guild
DESCRIPTION:For centuries\, puppetry has been a practiced artform across the globe. Marionettes are a lively medium for sharing stories\, animating myths and legends\, and for entertaining audiences. The Peterborough Puppet Guild was founded in 1953 and operated for over a decade\, performing as well as hosting marionette-building workshops. \nOn display at the Peterborough Museum & Archives are selections of marionettes from the Peterborough Puppet Guild’s vast collection\, set within themed vignettes that include the Wizard of Oz\, King Neptune\, Liberace’s band\, and more! \nAll strings considered\, you’re knot going to find a collection of marionettes like this anywhere else!
URL:https://thekawarthas.ca/event/hanging-out-with-marionettes/
LOCATION:Peterborough Museum and Archives\, 300 Hunter Street East\, Peterborough\, Ontario\, K9J 6Y5\, Canada
CATEGORIES:Arts & Entertainment,Cultural Heritage,Exhibits & Shows,Ongoing
ATTACH;FMTTYPE=image/png:https://thekawarthas.ca/wp-content/uploads/2024/01/Marionette-Featured-Exhibit-Banner-975-x-362-px-e1704986686876.png
END:VEVENT
BEGIN:VEVENT
DTSTART;TZID=America/Toronto:20240315T120000
DTEND;TZID=America/Toronto:20240511T160000
DTSTAMP:20260421T044803
CREATED:20240411T193152Z
LAST-MODIFIED:20240411T193244Z
UID:10008579-1710504000-1715443200@thekawarthas.ca
SUMMARY:bienes importados / imported goods by Anahí González
DESCRIPTION:Anahí González’ artistic practice and research explore migration\, Mexican labour for/within Canada\, Canadian imperialism\, and identity with questions relating to commerce\, systems of power and the event of photography through installation\, photography\, and moving images.
URL:https://thekawarthas.ca/event/imported-goods-2/
LOCATION:Artspace\, 3-378 Aylmer Street N\, Peterborough\, ON\, K9H 3V8\, Canada
CATEGORIES:Arts & Entertainment,Cultural Heritage,Exhibits & Shows,Ongoing
ATTACH;FMTTYPE=image/jpeg:https://thekawarthas.ca/wp-content/uploads/2024/01/EM-12-scaled-1.jpg
ORGANIZER;CN="Artspace":MAILTO:gallery@artspaceptbo.ca
END:VEVENT
BEGIN:VEVENT
DTSTART;TZID=America/Toronto:20240322T160000
DTEND;TZID=America/Toronto:20240322T170000
DTSTAMP:20260421T044803
CREATED:20240115T184703Z
LAST-MODIFIED:20240220T180026Z
UID:10006925-1711123200-1711126800@thekawarthas.ca
SUMMARY:Millbrook Public Skate
DESCRIPTION:Public Skating continues at the Cavan Monaghan Community Centre.  Our regular Winter schedule will run from Sunday January 7th\, 2024 to Sunday March 31st \, 2024. \nPlease see the Winter 2024 public skate schedule for all public skating dates and time.
URL:https://thekawarthas.ca/event/milbrook-public-skate/2024-03-22/
LOCATION:Cavan Monaghan Community Centre\, 986 Peterborough County Road 10\, Millbrook\, L0A 1G0
CATEGORIES:Ongoing
ATTACH;FMTTYPE=image/jpeg:https://thekawarthas.ca/wp-content/uploads/2024/01/Public-Skating-Banner.jpg
END:VEVENT
BEGIN:VEVENT
DTSTART;TZID=America/Toronto:20240322T180000
DTEND;TZID=America/Toronto:20240322T220000
DTSTAMP:20260421T044803
CREATED:20240229T192705Z
LAST-MODIFIED:20240229T192745Z
UID:10008857-1711130400-1711144800@thekawarthas.ca
SUMMARY:Wild Hearts & Floral Butterfly Workshop
DESCRIPTION:Let’s get the creative vibes going with the Wild Hearts and Floral Butterfly workshop by Church House Studios. \nChoose from a variety of skulls\, antlers\, flowers\, and more on the day of the workshop for the Framed Wild hearts piece. Or\, you can choose the Floral Butterfly piece which is not framed. The butterfly is not attached to a backer and florals are built onto the butterfly unlike the wild hearts pieces that are affixed onto a framed backer.
URL:https://thekawarthas.ca/event/wild-hearts-floral-butterfly-workshop/
LOCATION:Modern Makers Market\, 651 Chamberlain St\, Peterborough\, ON\, K9J 4L9
CATEGORIES:Arts & Entertainment
ATTACH;FMTTYPE=image/jpeg:https://thekawarthas.ca/wp-content/uploads/2024/02/430123551_861061046031251_4873083237994404398_n.jpg
ORGANIZER;CN="Church House Studios":MAILTO:churchhousestudios@gmail.com
END:VEVENT
BEGIN:VEVENT
DTSTART;TZID=America/Toronto:20240322T193000
DTEND;TZID=America/Toronto:20240322T193000
DTSTAMP:20260421T044803
CREATED:20240209T145010Z
LAST-MODIFIED:20240209T145010Z
UID:10007793-1711135800-1711135800@thekawarthas.ca
SUMMARY:A Conversation with Steve Paikin
DESCRIPTION:In connection with his critically acclaimed biography of the late Prime Minister John Turner\, Steve Paikin will be discussing the current state of political leadership in our country. Selwyn Township councilor and Lakefield Literary Festival Board Chair John Boyko will moderate the discussion; followed by a Q & A session and book signing opportunities
URL:https://thekawarthas.ca/event/a-conversation-with-steve-paikin/
LOCATION:Bryan Jones Theatre at Lakefield College School\, 4391 County Rd 29\, Lakefield\, Ontario\, K0L 2H0\, Canada
CATEGORIES:Arts & Entertainment,Exhibits & Shows
ATTACH;FMTTYPE=image/jpeg:https://thekawarthas.ca/wp-content/uploads/2024/02/IMG_3590_Steve-Paikin-1024x768-1.jpg
ORGANIZER;CN="Lakefield Literary Festival":MAILTO:message@lakefieldliteraryfestival.com
END:VEVENT
BEGIN:VEVENT
DTSTART;TZID=America/Toronto:20240322T200000
DTEND;TZID=America/Toronto:20240322T200000
DTSTAMP:20260421T044803
CREATED:20240208T174305Z
LAST-MODIFIED:20240208T174305Z
UID:10007786-1711137600-1711137600@thekawarthas.ca
SUMMARY:Let’s Go Adventuring!
DESCRIPTION:Have you ever wished that Peterborough could be more like your favourite novel\, where a hero is given a magical item\, defeats an evil villain\, and saves their community? \nJoin your narrator (Andrew Root) and a cast of performers as they improvise a story set in a fictionalized version of the Electric City. The hero? Haven’t met them yet. The villain? TBD. A set of role playing dice will help (or hinder) our performers\, and the audience will decide if this story has a happy ending. Every performance of this three-night run will be different.
URL:https://thekawarthas.ca/event/lets-go-adventuring/2024-03-22/
LOCATION:The Theatre on King\, 171 King St\, Peterborough\, ON\, K9J 2R8
CATEGORIES:Arts & Entertainment,Performing Arts
ORGANIZER;CN="The Theatre on King":MAILTO:contact@ttok.ca
END:VEVENT
END:VCALENDAR