BEGIN:VCALENDAR
VERSION:2.0
PRODID:-//The Kawarthas Tourism - ECPv6.15.20//NONSGML v1.0//EN
CALSCALE:GREGORIAN
METHOD:PUBLISH
X-ORIGINAL-URL:https://thekawarthas.ca
X-WR-CALDESC:Events for The Kawarthas Tourism
REFRESH-INTERVAL;VALUE=DURATION:PT1H
X-Robots-Tag:noindex
X-PUBLISHED-TTL:PT1H
BEGIN:VTIMEZONE
TZID:America/Toronto
BEGIN:DAYLIGHT
TZOFFSETFROM:-0500
TZOFFSETTO:-0400
TZNAME:EDT
DTSTART:20230312T070000
END:DAYLIGHT
BEGIN:STANDARD
TZOFFSETFROM:-0400
TZOFFSETTO:-0500
TZNAME:EST
DTSTART:20231105T060000
END:STANDARD
BEGIN:DAYLIGHT
TZOFFSETFROM:-0500
TZOFFSETTO:-0400
TZNAME:EDT
DTSTART:20240310T070000
END:DAYLIGHT
BEGIN:STANDARD
TZOFFSETFROM:-0400
TZOFFSETTO:-0500
TZNAME:EST
DTSTART:20241103T060000
END:STANDARD
BEGIN:DAYLIGHT
TZOFFSETFROM:-0500
TZOFFSETTO:-0400
TZNAME:EDT
DTSTART:20250309T070000
END:DAYLIGHT
BEGIN:STANDARD
TZOFFSETFROM:-0400
TZOFFSETTO:-0500
TZNAME:EST
DTSTART:20251102T060000
END:STANDARD
END:VTIMEZONE
BEGIN:VEVENT
DTSTART;TZID=America/Toronto:20240111T090000
DTEND;TZID=America/Toronto:20240324T170000
DTSTAMP:20260419T091702
CREATED:20240111T154152Z
LAST-MODIFIED:20240111T154152Z
UID:10006720-1704963600-1711299600@thekawarthas.ca
SUMMARY:Hanging Out with Marionettes: Vignettes from the Peterborough Puppet Guild
DESCRIPTION:For centuries\, puppetry has been a practiced artform across the globe. Marionettes are a lively medium for sharing stories\, animating myths and legends\, and for entertaining audiences. The Peterborough Puppet Guild was founded in 1953 and operated for over a decade\, performing as well as hosting marionette-building workshops. \nOn display at the Peterborough Museum & Archives are selections of marionettes from the Peterborough Puppet Guild’s vast collection\, set within themed vignettes that include the Wizard of Oz\, King Neptune\, Liberace’s band\, and more! \nAll strings considered\, you’re knot going to find a collection of marionettes like this anywhere else!
URL:https://thekawarthas.ca/event/hanging-out-with-marionettes/
LOCATION:Peterborough Museum and Archives\, 300 Hunter Street East\, Peterborough\, Ontario\, K9J 6Y5\, Canada
CATEGORIES:Arts & Entertainment,Cultural Heritage,Exhibits & Shows,Ongoing
ATTACH;FMTTYPE=image/png:https://thekawarthas.ca/wp-content/uploads/2024/01/Marionette-Featured-Exhibit-Banner-975-x-362-px-e1704986686876.png
END:VEVENT
BEGIN:VEVENT
DTSTART;TZID=America/Toronto:20240225T100000
DTEND;TZID=America/Toronto:20240225T160000
DTSTAMP:20260419T091702
CREATED:20240209T153929Z
LAST-MODIFIED:20240209T153929Z
UID:10007794-1708855200-1708876800@thekawarthas.ca
SUMMARY:PNC Family Ski Day
DESCRIPTION:Peterborough Nordic Club’s first event is coming up\, “Family Ski Day\,” Feb. 25th 10-4pm at Liftlock Golf Club. They will be offering $20 rentals (skate & classic) on site which includes your day pass. $10 day passes for everyone that’s not a member. The club house chalet will be open for the day\, grab a burger\, beer or hot chocolate and enjoy a fun day on the trails. There will be a kids scavenger hunt course set up\, washrooms available and music. Should be a fun day!
URL:https://thekawarthas.ca/event/pnc-family-ski-day/
LOCATION:Liftlock Golf Club\, 2320 Ashburnham Dr\, Peterborough\, ON\, K9J 6X9
CATEGORIES:Outdoors & Nature
ATTACH;FMTTYPE=image/png:https://thekawarthas.ca/wp-content/uploads/2021/10/pkt-pattern-1-e1707487676944.png
END:VEVENT
BEGIN:VEVENT
DTSTART;TZID=America/Toronto:20240225T110000
DTEND;TZID=America/Toronto:20240225T130000
DTSTAMP:20260419T091702
CREATED:20240115T194841Z
LAST-MODIFIED:20240115T195046Z
UID:10007004-1708858800-1708866000@thekawarthas.ca
SUMMARY:Apsley Public Skate
DESCRIPTION:Enjoy public skating at the NKCC!
URL:https://thekawarthas.ca/event/apsley-public-skate/2024-02-25/
LOCATION:North Kawartha Community Centre\, 340 McFadden Rd\, Apsley\, K0L 1A0
CATEGORIES:Ongoing
ATTACH;FMTTYPE=image/png:https://thekawarthas.ca/wp-content/uploads/2024/01/skating.png
END:VEVENT
BEGIN:VEVENT
DTSTART;TZID=America/Toronto:20240225T110000
DTEND;TZID=America/Toronto:20240225T160000
DTSTAMP:20260419T091702
CREATED:20240209T175609Z
LAST-MODIFIED:20240209T175609Z
UID:10007795-1708858800-1708876800@thekawarthas.ca
SUMMARY:For the Love of Shopping Craft & Vendor Show
DESCRIPTION:Craft & Vendor Show
URL:https://thekawarthas.ca/event/for-the-love-of-shopping-craft-vendor-show/
LOCATION:Cavan Monaghan Community Centre\, 986 Peterborough County Road 10\, Millbrook\, L0A 1G0
CATEGORIES:Arts & Entertainment,Exhibits & Shows
ATTACH;FMTTYPE=image/png:https://thekawarthas.ca/wp-content/uploads/2021/10/pkt-pattern-1-e1707487676944.png
ORGANIZER;CN="Colour Me Carrie":MAILTO:Carriefitzgerald7@gmail.com
END:VEVENT
BEGIN:VEVENT
DTSTART;TZID=America/Toronto:20240225T110000
DTEND;TZID=America/Toronto:20240225T170000
DTSTAMP:20260419T091702
CREATED:20240111T165405Z
LAST-MODIFIED:20240111T165516Z
UID:10006774-1708858800-1708880400@thekawarthas.ca
SUMMARY:seams and strata
DESCRIPTION:As the Art Gallery of Peterborough enters its 50th anniversary year in 2024\, we are digging into our archives and reconnecting with our founders to engage with our past. Looking through old photographs and archives offers us a chance to marvel at where we’ve been and where we’ve come from; at what has changed and what remains. Sifting through filing cabinets packed with layers of paperwork\, notes\, and images feels a bit like an archeological dig. We make careful work of it\, pausing when we unearth something precious\, like a handwritten letter on fine paper or a photograph with younger versions of familiar faces. \nThis juried exhibition invited artists to submit original works of art that resonate with themes of legacy\, archives\, nostalgia\, ghosts\, memory\, survival\, and growth. \nTree rings and stratified rock mark the passage of time and changing conditions\, like layers of once fashionable wallpaper. The strata of our lives can be studied and excavated\, unleashing seams of joy\, curiosity\, wonder\, or grief. Throughout three ramps and the main gallery\, works by fifty-five artists bring forward the findings of their own excavations.
URL:https://thekawarthas.ca/event/seams-and-strata/2024-02-25/
LOCATION:Art Gallery of Peterborough\, 250 Crescent Street\, Peterborough\, ON\, K9J 2G1\, Canada
CATEGORIES:Arts & Entertainment,Exhibits & Shows,Ongoing
ATTACH;FMTTYPE=image/jpeg:https://thekawarthas.ca/wp-content/uploads/2023/11/Mireau-Drawing_detail_1-1-scaled-e1704992009764.jpg
ORGANIZER;CN="Art Gallery of Peterborough":MAILTO:gallery@agp.on.ca
END:VEVENT
BEGIN:VEVENT
DTSTART;TZID=America/Toronto:20240225T120000
DTEND;TZID=America/Toronto:20240225T140000
DTSTAMP:20260419T091702
CREATED:20240221T160030Z
LAST-MODIFIED:20240221T160030Z
UID:10008564-1708862400-1708869600@thekawarthas.ca
SUMMARY:Lunch with the Frozen Sisters
DESCRIPTION:Meet with Elsa & Anna! Frozen Movie and Coloring Contest on February 25th at 12:00 PM – 2:00 PM \nBoston Pizza Peterborough Chemong Road Location. Free of charge event.
URL:https://thekawarthas.ca/event/lunch-with-the-frozen-sisters/
LOCATION:Boston Pizza Peterborough North\, 1164 Chemong Road\, Peterborough\, ON\, K9J 6X2
CATEGORIES:Arts & Entertainment
ATTACH;FMTTYPE=image/jpeg:https://thekawarthas.ca/wp-content/uploads/2024/01/bostonpizza_logo21.jpg
END:VEVENT
BEGIN:VEVENT
DTSTART;TZID=America/Toronto:20240225T130000
DTEND;TZID=America/Toronto:20240225T140000
DTSTAMP:20260419T091702
CREATED:20231221T155854Z
LAST-MODIFIED:20231221T155854Z
UID:10006630-1708866000-1708869600@thekawarthas.ca
SUMMARY:Public Skating in Ennismore
DESCRIPTION:Ennismore’s public skating is open to all ages and abilities. Get active with friends and family and try a public skate today. All dates featured are sponsored by local businesses\, therefore they are free!
URL:https://thekawarthas.ca/event/public-skating-in-ennismore/2024-02-25/
LOCATION:Lakefield-Smith Community Centre\, 20 Concession St\, Lakefield\, Lakefield\, K0L 2H0
CATEGORIES:Ongoing
END:VEVENT
BEGIN:VEVENT
DTSTART;TZID=America/Toronto:20240225T130000
DTEND;TZID=America/Toronto:20240225T140000
DTSTAMP:20260419T091702
CREATED:20240115T184837Z
LAST-MODIFIED:20240115T184837Z
UID:10006940-1708866000-1708869600@thekawarthas.ca
SUMMARY:Milbrook Public Skate
DESCRIPTION:Public Skating continues at the Cavan Monaghan Community Centre.  Our regular Winter schedule will run from Sunday January 7th\, 2024 to Sunday March 31st \, 2024. \nPlease see the Winter 2024 public skate schedule for all public skating dates and time.
URL:https://thekawarthas.ca/event/milbrook-public-skate-2/2024-02-25/
LOCATION:Cavan Monaghan Community Centre\, 986 Peterborough County Road 10\, Millbrook\, L0A 1G0
CATEGORIES:Ongoing
ATTACH;FMTTYPE=image/jpeg:https://thekawarthas.ca/wp-content/uploads/2024/01/Public-Skating-Banner.jpg
END:VEVENT
BEGIN:VEVENT
DTSTART;TZID=America/Toronto:20240225T130000
DTEND;TZID=America/Toronto:20240225T160000
DTSTAMP:20260419T091702
CREATED:20240115T144103Z
LAST-MODIFIED:20240115T144103Z
UID:10006837-1708866000-1708876800@thekawarthas.ca
SUMMARY:Woodburning Workshop: Lake Landscape
DESCRIPTION:Learn the traditional art of woodburning by creating a beautiful Lake Landscape. \nIn this three-hour workshop\, you’ll learn how to create trees\, foliage\, grass\, and reflections. This is a great beginner workshop that will introduce you to the woodburning tool and some of the most-used tips. What’s more\, you’ll come away with a beautiful project: the image of a lake landscape with birch trees!
URL:https://thekawarthas.ca/event/woodburning-workshop-lake-landscape/
LOCATION:The Art School of Peterborough\, 174A Charlotte St\, Peterborough\, ON\, K9J 2T8
CATEGORIES:Arts & Entertainment
ATTACH;FMTTYPE=image/jpeg:https://thekawarthas.ca/wp-content/uploads/2024/01/The-Art-school-of-Peterborough-Woodburning-Lake-landscape-768x636-1.jpg
ORGANIZER;CN="The Art School of Peterborough":MAILTO:info@artschoolptbo.org
END:VEVENT
BEGIN:VEVENT
DTSTART;TZID=America/Toronto:20240225T140000
DTEND;TZID=America/Toronto:20240225T140000
DTSTAMP:20260419T091702
CREATED:20240116T144625Z
LAST-MODIFIED:20240116T144806Z
UID:10007588-1708869600-1708869600@thekawarthas.ca
SUMMARY:Staged Reading: Trying
DESCRIPTION:This play depicts the final year in the life of Francis Biddle\, US Attorney General under FDR and Chief Judge at the Nuremberg trials. His final years are seen through the eyes of his 25 year old assistant\, Sarah Shor. She is the latest and coincidentally the last in a long and unsuccessful line of personal secretaries\, all of whom have disappointed Biddle in some way. Much of the story revolves around issues of aging and the breakdown of communication over divisions of age and class.
URL:https://thekawarthas.ca/event/staged-reading-trying/
LOCATION:Peterborough Theatre Guild\, 364 Rogers St\, Peterborough\, K9H 1W7
CATEGORIES:Arts & Entertainment,Performing Arts
ATTACH;FMTTYPE=image/webp:https://thekawarthas.ca/wp-content/uploads/2024/01/PTG_Gold_Full-c27dd349-1920w.webp
ORGANIZER;CN="Peterborough Theatre Guild":MAILTO:info@peterboroughtheatreguild.com
END:VEVENT
BEGIN:VEVENT
DTSTART;TZID=America/Toronto:20240225T150000
DTEND;TZID=America/Toronto:20240225T170000
DTSTAMP:20260419T091702
CREATED:20240115T193724Z
LAST-MODIFIED:20240115T193724Z
UID:10006980-1708873200-1708880400@thekawarthas.ca
SUMMARY:Peterborough Public Skate
DESCRIPTION:Public skates are offered as part of Recreation Services Drop-in Programs.
URL:https://thekawarthas.ca/event/peterborough-public-skate/2024-02-25/
LOCATION:The Healthy Planet Arena\, 911 Monaghan Rd\, Peterborough\, Ontario\, K9J 5K5\, Canada
CATEGORIES:Ongoing
ATTACH;FMTTYPE=image/png:https://thekawarthas.ca/wp-content/uploads/2024/01/BoxMicrosoftTeams-image-84.png
END:VEVENT
BEGIN:VEVENT
DTSTART;TZID=America/Toronto:20240225T170000
DTEND;TZID=America/Toronto:20240225T190000
DTSTAMP:20260419T091702
CREATED:20240221T154218Z
LAST-MODIFIED:20240221T154218Z
UID:10008560-1708880400-1708887600@thekawarthas.ca
SUMMARY:Dinner with Pup Patrol
DESCRIPTION:Meet and Greet with Chase and Skye\, your favorite paw patrol characters\, on February 25th 5:00 PM- 7:00 PM \nFree of charge event\, coloring contest and paw patrol movie. \nBoston Pizza Peterborough Lansdowne location.
URL:https://thekawarthas.ca/event/dinner-with-pup-patrol/
LOCATION:Boston Pizza Peterborough South\, 821 Rye Street\, Peterborough\, ON\, K9J 6X1
CATEGORIES:Arts & Entertainment
ATTACH;FMTTYPE=image/jpeg:https://thekawarthas.ca/wp-content/uploads/2024/01/bostonpizza_logo21.jpg
END:VEVENT
BEGIN:VEVENT
DTSTART;TZID=America/Toronto:20240225T170000
DTEND;TZID=America/Toronto:20240225T200000
DTSTAMP:20260419T091702
CREATED:20240205T160640Z
LAST-MODIFIED:20240205T160640Z
UID:10007732-1708880400-1708891200@thekawarthas.ca
SUMMARY:Jazz & Dinner Night
DESCRIPTION:An evening of jazz and dinner in Buckhorn! \nMENU: A delectable\, locally catered\, four-course Italian dinner.\n• Appetizer: Savoury cauliflower bruschetta.\n• Salad: Classic Caesar salad with a homemade dressing.\n• Main: Mouthwatering chicken lasagna with portobello mushrooms in a rich garlic alfredo sauce\, topped with a creamy béchamel. Served with warm garlic bread.\n• Dessert: Indulge in a luscious Tiramisu.\n(Dietary restrictions can be accommodated upon request.) \nBEVERAGES: Upon entering the space\, you will be warmly greeted with a small glass of cider\, setting the tone for the delightful evening ahead. As the dinner unfolds\, each course will be thoughtfully complemented with a 3oz glass of our wine. Any additional glasses of wine or cider can be conveniently purchased at our bar. \nMUSIC: Experience the enchanting sounds of jazz duo\, Rob Phillips on piano and Carling Stephens as the captivating vocalist\, as they deliver a mesmerizing performance.\n(The music for this evening is graciously sponsored by local realtor Jo Pillon.) \n*DOOR PRIZE* Each guest will be entered into a draw and one lucky individual will win a beautifully curated gift basket!
URL:https://thekawarthas.ca/event/jazz-dinner-night/
LOCATION:Kawartha Country Wines\, 2452 County Road 36\, Buckhorn\, ON\, K0L 1J0
CATEGORIES:Arts & Entertainment
ORGANIZER;CN="Kawartha Country Wines":MAILTO:donna@kawarthacountrywines.ca
END:VEVENT
END:VCALENDAR