BEGIN:VCALENDAR
VERSION:2.0
PRODID:-//The Kawarthas Tourism - ECPv6.15.20//NONSGML v1.0//EN
CALSCALE:GREGORIAN
METHOD:PUBLISH
X-ORIGINAL-URL:https://thekawarthas.ca
X-WR-CALDESC:Events for The Kawarthas Tourism
REFRESH-INTERVAL;VALUE=DURATION:PT1H
X-Robots-Tag:noindex
X-PUBLISHED-TTL:PT1H
BEGIN:VTIMEZONE
TZID:America/Toronto
BEGIN:DAYLIGHT
TZOFFSETFROM:-0500
TZOFFSETTO:-0400
TZNAME:EDT
DTSTART:20230312T070000
END:DAYLIGHT
BEGIN:STANDARD
TZOFFSETFROM:-0400
TZOFFSETTO:-0500
TZNAME:EST
DTSTART:20231105T060000
END:STANDARD
BEGIN:DAYLIGHT
TZOFFSETFROM:-0500
TZOFFSETTO:-0400
TZNAME:EDT
DTSTART:20240310T070000
END:DAYLIGHT
BEGIN:STANDARD
TZOFFSETFROM:-0400
TZOFFSETTO:-0500
TZNAME:EST
DTSTART:20241103T060000
END:STANDARD
BEGIN:DAYLIGHT
TZOFFSETFROM:-0500
TZOFFSETTO:-0400
TZNAME:EDT
DTSTART:20250309T070000
END:DAYLIGHT
BEGIN:STANDARD
TZOFFSETFROM:-0400
TZOFFSETTO:-0500
TZNAME:EST
DTSTART:20251102T060000
END:STANDARD
END:VTIMEZONE
BEGIN:VEVENT
DTSTART;TZID=America/Toronto:20240111T090000
DTEND;TZID=America/Toronto:20240324T170000
DTSTAMP:20260420T101953
CREATED:20240111T154152Z
LAST-MODIFIED:20240111T154152Z
UID:10006720-1704963600-1711299600@thekawarthas.ca
SUMMARY:Hanging Out with Marionettes: Vignettes from the Peterborough Puppet Guild
DESCRIPTION:For centuries\, puppetry has been a practiced artform across the globe. Marionettes are a lively medium for sharing stories\, animating myths and legends\, and for entertaining audiences. The Peterborough Puppet Guild was founded in 1953 and operated for over a decade\, performing as well as hosting marionette-building workshops. \nOn display at the Peterborough Museum & Archives are selections of marionettes from the Peterborough Puppet Guild’s vast collection\, set within themed vignettes that include the Wizard of Oz\, King Neptune\, Liberace’s band\, and more! \nAll strings considered\, you’re knot going to find a collection of marionettes like this anywhere else!
URL:https://thekawarthas.ca/event/hanging-out-with-marionettes/
LOCATION:Peterborough Museum and Archives\, 300 Hunter Street East\, Peterborough\, Ontario\, K9J 6Y5\, Canada
CATEGORIES:Arts & Entertainment,Cultural Heritage,Exhibits & Shows,Ongoing
ATTACH;FMTTYPE=image/png:https://thekawarthas.ca/wp-content/uploads/2024/01/Marionette-Featured-Exhibit-Banner-975-x-362-px-e1704986686876.png
END:VEVENT
BEGIN:VEVENT
DTSTART;TZID=America/Toronto:20240215T100000
DTEND;TZID=America/Toronto:20240215T160000
DTSTAMP:20260420T101953
CREATED:20240110T163552Z
LAST-MODIFIED:20240110T163641Z
UID:10006680-1707991200-1708012800@thekawarthas.ca
SUMMARY:throughlines: 2024 Juried Members’ Exhibition
DESCRIPTION:Artspace is kicking off its 50th anniversary year is an exhibition dedicated to their valued membership!  \nThroughlines: 2024 Juried Members’ Exhibition proudly presents the work of 20 of Artspace Members\, including a media arts installation in Gallery 2 co-presented with ReFrame Film Festival. On the commencement of this milestone year\, we asked artists to submit work imbued with a look back and a look forward\, while asking ourselves\, what are the most consistent traits of our membership? What are those characteristics that draw artists to artist-run culture. What are the throughlines? \nThe threads that characterize the last five decades of artist-run culture at Artspace\, however tangled or pristinely woven\, heart-achingly water-damaged or painstakingly archived\, are the relationships that built and continually reinvent Artspace. These relationships\, whether captured and retold as linear and well-documented narratives or as an ever-evolving patchwork of memories and vision\, will unfold well into the future. \nIn contemplating this milestone year\, it is natural – a default – to retell the familiar stories of our beginnings. And\, we will tell those compelling and valuable stories. But there are and there will be others. \nEvery Artspace membership represents an influence into what Artspace can become. How can we ensure that the insights and wisdom of voices previously unheard are woven into the fabric of our story? This is a line of thought we’re giving lots of energy these days. \nParticipating Artists:\nAlexandra Box\, Samantha Chiusolo\, Marta Chudolinska\, Brad Copping\, Garrett Gilbart\, Lesley Givens\, Theresa Godin\, Christopher Green\, Laura Honsberger\, Ann Jaeger\, Tim Laurin\, Jane Lowbeer\, Jeff Macklin\, Joseph Muscat\, Rob Niezen\, Kelly O’Neill\, Laura Paluck\, Lynda Todd\, Jane Wild\, and Nikoiya Wile
URL:https://thekawarthas.ca/event/throughlines-2024-juried-members-exhibition/2024-02-15/
LOCATION:Artspace\, 3-378 Aylmer Street N\, Peterborough\, ON\, K9H 3V8\, Canada
CATEGORIES:Arts & Entertainment,Exhibits & Shows,Ongoing
ATTACH;FMTTYPE=image/jpeg:https://thekawarthas.ca/wp-content/uploads/2024/01/JuriedMembers802811x17in281920x1080px29-3.jpg
ORGANIZER;CN="Artspace":MAILTO:gallery@artspaceptbo.ca
END:VEVENT
BEGIN:VEVENT
DTSTART;TZID=America/Toronto:20240215T110000
DTEND;TZID=America/Toronto:20240215T130000
DTSTAMP:20260420T101953
CREATED:20240115T194841Z
LAST-MODIFIED:20240115T195046Z
UID:10007550-1707994800-1708002000@thekawarthas.ca
SUMMARY:Apsley Public Skate
DESCRIPTION:Enjoy public skating at the NKCC!
URL:https://thekawarthas.ca/event/apsley-public-skate/2024-02-15/
LOCATION:North Kawartha Community Centre\, 340 McFadden Rd\, Apsley\, K0L 1A0
CATEGORIES:Ongoing
ATTACH;FMTTYPE=image/png:https://thekawarthas.ca/wp-content/uploads/2024/01/skating.png
END:VEVENT
BEGIN:VEVENT
DTSTART;TZID=America/Toronto:20240215T110000
DTEND;TZID=America/Toronto:20240215T170000
DTSTAMP:20260420T101953
CREATED:20240111T165405Z
LAST-MODIFIED:20240111T165516Z
UID:10006766-1707994800-1708016400@thekawarthas.ca
SUMMARY:seams and strata
DESCRIPTION:As the Art Gallery of Peterborough enters its 50th anniversary year in 2024\, we are digging into our archives and reconnecting with our founders to engage with our past. Looking through old photographs and archives offers us a chance to marvel at where we’ve been and where we’ve come from; at what has changed and what remains. Sifting through filing cabinets packed with layers of paperwork\, notes\, and images feels a bit like an archeological dig. We make careful work of it\, pausing when we unearth something precious\, like a handwritten letter on fine paper or a photograph with younger versions of familiar faces. \nThis juried exhibition invited artists to submit original works of art that resonate with themes of legacy\, archives\, nostalgia\, ghosts\, memory\, survival\, and growth. \nTree rings and stratified rock mark the passage of time and changing conditions\, like layers of once fashionable wallpaper. The strata of our lives can be studied and excavated\, unleashing seams of joy\, curiosity\, wonder\, or grief. Throughout three ramps and the main gallery\, works by fifty-five artists bring forward the findings of their own excavations.
URL:https://thekawarthas.ca/event/seams-and-strata/2024-02-15/
LOCATION:Art Gallery of Peterborough\, 250 Crescent Street\, Peterborough\, ON\, K9J 2G1\, Canada
CATEGORIES:Arts & Entertainment,Exhibits & Shows,Ongoing
ATTACH;FMTTYPE=image/jpeg:https://thekawarthas.ca/wp-content/uploads/2023/11/Mireau-Drawing_detail_1-1-scaled-e1704992009764.jpg
ORGANIZER;CN="Art Gallery of Peterborough":MAILTO:gallery@agp.on.ca
END:VEVENT
BEGIN:VEVENT
DTSTART;TZID=America/Toronto:20240215T130000
DTEND;TZID=America/Toronto:20240215T183000
DTSTAMP:20260420T101953
CREATED:20240209T142735Z
LAST-MODIFIED:20240209T142804Z
UID:10007792-1708002000-1708021800@thekawarthas.ca
SUMMARY:Beat the Blues
DESCRIPTION:This is the time of year when many of us struggle with our mental health and can often feel blue. \nDan Joyce Clothing is hosting a ‘Beat The blues’ event at our store on February 15\, from 1:00pm – 6:30pm. They will have experts on hand to help give advice on various ways to support good mental health. \nDrop by and talk to the following experts about:\nNutrition with Jodi from Jodi-Lee Nutrition & Wellness\nStress Management and Relaxation Techniques with RJ from Flow Spa\nThe importance of getting outdoors with Tori from Wild Rock Outfitters. \nJoin us for an afternoon of support and learn new methods to improve your well being.\nWe will also have draw prices from our experts.
URL:https://thekawarthas.ca/event/beat-the-blues/
LOCATION:Dan Joyce Clothing\, 87 Hunter Street West\, Peterborough\, ON\, K9H 2K5
CATEGORIES:Arts & Entertainment,Exhibits & Shows
ATTACH;FMTTYPE=image/jpeg:https://thekawarthas.ca/wp-content/uploads/2019/02/DanJoyce7-Dec-23.jpg
ORGANIZER;CN="Dan Joyce Clothing":MAILTO:hello@danjoyces.com
END:VEVENT
BEGIN:VEVENT
DTSTART;TZID=America/Toronto:20240215T180000
DTEND;TZID=America/Toronto:20240215T193000
DTSTAMP:20260420T101953
CREATED:20231123T142637Z
LAST-MODIFIED:20231123T195345Z
UID:10006439-1708020000-1708025400@thekawarthas.ca
SUMMARY:Mexican Cuisine Cooking Experience
DESCRIPTION:Immerse yourself in traditional Mexican cooking in this hands-on experience! \nMENU\nIn this cooking experience\, you will create: \n\nCorn tortillas from scratch using a tortilla press.\nYour own Mexican Salsa\nA traditional guacamole using the ancient Mexican blender “Molcajete” (Lava stone dish)\nMain course (Chicken) veggie/vegan on demand)\n\nPRICE: $76.85 CA (Includes all the ingredients for the class\, 1 complimentary house red wine). HST Included *Beer & wine bar upon request (Additional cost)
URL:https://thekawarthas.ca/event/mexican-cuisine-cooking-experience/2024-02-15/
LOCATION:La Hacienda\, 190 Hunter St. W\, Peterborough\, ON\, K9H 2L2
CATEGORIES:Agriculture & Culinary,Cultural Heritage
ATTACH;FMTTYPE=image/jpeg:https://thekawarthas.ca/wp-content/uploads/2017/09/LaHacienda-22-e1700769219361.jpg
ORGANIZER;CN="La Hacienda":MAILTO:info@lahaciendaptbo.com
END:VEVENT
BEGIN:VEVENT
DTSTART;TZID=America/Toronto:20240215T180000
DTEND;TZID=America/Toronto:20240215T200000
DTSTAMP:20260420T101953
CREATED:20240116T154019Z
LAST-MODIFIED:20240119T160607Z
UID:10007595-1708020000-1708027200@thekawarthas.ca
SUMMARY:Thursday Night Brewchre
DESCRIPTION:Meet new people\, drink great beer and WIN PRIZES! \n*Tickets required*\nRegister for BREWCHRE (progressive style Euchre) beginning Thursday\, Jan 25 until Feb 29 (6:00 – 8:00 PM) with a new chance to WIN EVERY WEEK! \n***Spots to play are limited!***\n🎟️ – Tickets are only $5.00 to register each week and can be purchased on our website. Ticket is per person\, playing and winning as an individual (not partnered teams). Pick the dates you want to play – all available dates are posted on our website for reservation\, and SPOTS ARE LIMITED\, so sign up now to secure your seat!\n🥇At the end of the night\, the winner will receive a $25.00 gift card.\n🥈The player with the most lone hands will also receive a runner-up prize of a $10.00 gift card.\n@lowlandsfirefood will also be here slinging pizzas\, so bring your appetite! 🍕\nAre you ready to trump the competition?! \nPurchase tickets here!
URL:https://thekawarthas.ca/event/thursday-night-brewchre/2024-02-15/
LOCATION:100 Acre Brewing Co.\, 390 Ashburnham Dr.\, Peterborough\, K9J 6X7\, Canada
CATEGORIES:Arts & Entertainment
ATTACH;FMTTYPE=image/jpeg:https://thekawarthas.ca/wp-content/uploads/2023/06/100AcreBrewCo-Submitted-27-06-23.jpg
ORGANIZER;CN="100 Acre Brewing Co.":MAILTO:Info@100acrebrewingco.com
END:VEVENT
BEGIN:VEVENT
DTSTART;TZID=America/Toronto:20240215T183000
DTEND;TZID=America/Toronto:20240215T213000
DTSTAMP:20260420T101953
CREATED:20240116T194928Z
LAST-MODIFIED:20240116T194928Z
UID:10007602-1708021800-1708032600@thekawarthas.ca
SUMMARY:Pub Night Thursdays
DESCRIPTION:Join us every Thursday in the Pub for live music\, classic pub fare and cold beers! \nFeeling peckish? We will be releasing our pub-approved $13 bites menu\, filled with classics like devilled eggs\, cheeseburger sliders\, tacos & more\, alongside beverage specials that will be available exclusively in the pub. \nCome one\, come all and join us for Pub Night Thursdays at the Lodge
URL:https://thekawarthas.ca/event/pub-night-thursdays/2024-02-15/
LOCATION:Chemong Lodge\, 764 Hunter Street\, Bridgenorth\, Ontario\, K0L1H0\, Canada
CATEGORIES:Arts & Entertainment,Ongoing
ATTACH;FMTTYPE=image/webp:https://thekawarthas.ca/wp-content/uploads/2024/01/pub-night-banner-1.webp
END:VEVENT
BEGIN:VEVENT
DTSTART;TZID=America/Toronto:20240215T200000
DTEND;TZID=America/Toronto:20240215T200000
DTSTAMP:20260420T101953
CREATED:20240208T152106Z
LAST-MODIFIED:20240208T152106Z
UID:10007770-1708027200-1708027200@thekawarthas.ca
SUMMARY:Cold Reads: I Know Because of KARS1
DESCRIPTION:Playwrights old and new! Actors! Audiences! TTOK is excited to continue COLD READS\, a new script feedback initiative. Our first edition with playwright Lela Fox-Doran was a hit! \nThis February features an exciting one-person show-in-progress by Chance McGuigan “I Know Because of KARS1.” A young man comes to terms with the fear and isolation that comes from an untreatable diagnosis by embracing his inner clown and love of stories. \nCome prepared to listen\, give feedback\, share your impressions!
URL:https://thekawarthas.ca/event/cold-reads-i-know-because-of-kars1/
LOCATION:The Theatre on King\, 171 King St\, Peterborough\, ON\, K9J 2R8
CATEGORIES:Arts & Entertainment,Exhibits & Shows,Performing Arts
ORGANIZER;CN="The Theatre on King":MAILTO:contact@ttok.ca
END:VEVENT
END:VCALENDAR