BEGIN:VCALENDAR
VERSION:2.0
PRODID:-//The Kawarthas Tourism - ECPv6.15.20//NONSGML v1.0//EN
CALSCALE:GREGORIAN
METHOD:PUBLISH
X-ORIGINAL-URL:https://thekawarthas.ca
X-WR-CALDESC:Events for The Kawarthas Tourism
REFRESH-INTERVAL;VALUE=DURATION:PT1H
X-Robots-Tag:noindex
X-PUBLISHED-TTL:PT1H
BEGIN:VTIMEZONE
TZID:America/Toronto
BEGIN:DAYLIGHT
TZOFFSETFROM:-0500
TZOFFSETTO:-0400
TZNAME:EDT
DTSTART:20230312T070000
END:DAYLIGHT
BEGIN:STANDARD
TZOFFSETFROM:-0400
TZOFFSETTO:-0500
TZNAME:EST
DTSTART:20231105T060000
END:STANDARD
BEGIN:DAYLIGHT
TZOFFSETFROM:-0500
TZOFFSETTO:-0400
TZNAME:EDT
DTSTART:20240310T070000
END:DAYLIGHT
BEGIN:STANDARD
TZOFFSETFROM:-0400
TZOFFSETTO:-0500
TZNAME:EST
DTSTART:20241103T060000
END:STANDARD
BEGIN:DAYLIGHT
TZOFFSETFROM:-0500
TZOFFSETTO:-0400
TZNAME:EDT
DTSTART:20250309T070000
END:DAYLIGHT
BEGIN:STANDARD
TZOFFSETFROM:-0400
TZOFFSETTO:-0500
TZNAME:EST
DTSTART:20251102T060000
END:STANDARD
END:VTIMEZONE
BEGIN:VEVENT
DTSTART;TZID=America/Toronto:20240111T090000
DTEND;TZID=America/Toronto:20240324T170000
DTSTAMP:20260422T095903
CREATED:20240111T154152Z
LAST-MODIFIED:20240111T154152Z
UID:10006720-1704963600-1711299600@thekawarthas.ca
SUMMARY:Hanging Out with Marionettes: Vignettes from the Peterborough Puppet Guild
DESCRIPTION:For centuries\, puppetry has been a practiced artform across the globe. Marionettes are a lively medium for sharing stories\, animating myths and legends\, and for entertaining audiences. The Peterborough Puppet Guild was founded in 1953 and operated for over a decade\, performing as well as hosting marionette-building workshops. \nOn display at the Peterborough Museum & Archives are selections of marionettes from the Peterborough Puppet Guild’s vast collection\, set within themed vignettes that include the Wizard of Oz\, King Neptune\, Liberace’s band\, and more! \nAll strings considered\, you’re knot going to find a collection of marionettes like this anywhere else!
URL:https://thekawarthas.ca/event/hanging-out-with-marionettes/
LOCATION:Peterborough Museum and Archives\, 300 Hunter Street East\, Peterborough\, Ontario\, K9J 6Y5\, Canada
CATEGORIES:Arts & Entertainment,Cultural Heritage,Exhibits & Shows,Ongoing
ATTACH;FMTTYPE=image/png:https://thekawarthas.ca/wp-content/uploads/2024/01/Marionette-Featured-Exhibit-Banner-975-x-362-px-e1704986686876.png
END:VEVENT
BEGIN:VEVENT
DTSTART;TZID=America/Toronto:20240212T110000
DTEND;TZID=America/Toronto:20240212T130000
DTSTAMP:20260422T095903
CREATED:20240115T193724Z
LAST-MODIFIED:20240115T193724Z
UID:10006977-1707735600-1707742800@thekawarthas.ca
SUMMARY:Peterborough Public Skate
DESCRIPTION:Public skates are offered as part of Recreation Services Drop-in Programs.
URL:https://thekawarthas.ca/event/peterborough-public-skate/2024-02-12/
LOCATION:The Healthy Planet Arena\, 911 Monaghan Rd\, Peterborough\, Ontario\, K9J 5K5\, Canada
CATEGORIES:Ongoing
ATTACH;FMTTYPE=image/png:https://thekawarthas.ca/wp-content/uploads/2024/01/BoxMicrosoftTeams-image-84.png
END:VEVENT
BEGIN:VEVENT
DTSTART;TZID=America/Toronto:20240212T110000
DTEND;TZID=America/Toronto:20240212T130000
DTSTAMP:20260422T095903
CREATED:20240115T194841Z
LAST-MODIFIED:20240115T195046Z
UID:10007547-1707735600-1707742800@thekawarthas.ca
SUMMARY:Apsley Public Skate
DESCRIPTION:Enjoy public skating at the NKCC!
URL:https://thekawarthas.ca/event/apsley-public-skate/2024-02-12/
LOCATION:North Kawartha Community Centre\, 340 McFadden Rd\, Apsley\, K0L 1A0
CATEGORIES:Ongoing
ATTACH;FMTTYPE=image/png:https://thekawarthas.ca/wp-content/uploads/2024/01/skating.png
END:VEVENT
BEGIN:VEVENT
DTSTART;TZID=America/Toronto:20240212T160000
DTEND;TZID=America/Toronto:20240212T180000
DTSTAMP:20260422T095903
CREATED:20240111T162012Z
LAST-MODIFIED:20240111T163116Z
UID:10006734-1707753600-1707760800@thekawarthas.ca
SUMMARY:PMA: Bringing TIFF To You
DESCRIPTION:The Peterborough Museum & Archives are excited to offer our community the chance to experience Canadian & International film\, in partnership with the Toronto International Film Festival Circuit Group and Galaxy Cinemas Peterborough. \nFilms are presented at 4 p.m. and 7 p.m. \nMonday\, January 22 – Flora and Son\nMonday\, January 29 – Who’s Yer Father\nMonday\, February 12 – Dreamin’ Wild \nSeries passes for the Winter/Spring 2023 season are $133.60. Series passes will be available for purchase: \n\nIn person at the Peterborough Memorial Centre’s Grant Thornton Box Office located at 151 Lansdowne Street West;\nOnline through the Memorial Centre’s digital box office; or\nBy telephone at (705) 743-3561\n\nRush tickets are available for purchase 30 minutes before each film screening\, in the Galaxy Cinemas lobby. Look for Museum staff in the area around the concession stand. \n\nRush tickets are $20 each\nPayment for Rush tickets is exclusively by credit card.
URL:https://thekawarthas.ca/event/pma-bringing-tiff-to-you/2024-02-12/1/
LOCATION:Galaxy Cinemas Peterborough\, 320 Water St.\, Peterborough\, Ontario\, K9H 3L5\, Canada
CATEGORIES:Arts & Entertainment,Exhibits & Shows,Festivals,Ongoing
ATTACH;FMTTYPE=image/jpeg:https://thekawarthas.ca/wp-content/uploads/2023/01/TIFF-Film_Circuit-Centre-logo-cmyk.jpg
END:VEVENT
BEGIN:VEVENT
DTSTART;TZID=America/Toronto:20240212T180000
DTEND;TZID=America/Toronto:20240212T200000
DTSTAMP:20260422T095903
CREATED:20240123T184048Z
LAST-MODIFIED:20240123T184048Z
UID:10007674-1707760800-1707768000@thekawarthas.ca
SUMMARY:Valentine Subject - Adults Paint Night
DESCRIPTION:Valentine Paint Night happening at Boston Pizza Peterborough South on February 12th at 6:00 PM. \nOrli Gelfat\, the paint host will conduct the 2 hour class. $40 (including taxes\, paint supplies and canvas) per person. Orli Gelfat will contact as soon as the registration is done. Subject paint picture will be sent via email.
URL:https://thekawarthas.ca/event/valentine-subject-adults-paint-night/
LOCATION:Boston Pizza Peterborough South\, 821 Rye Street\, Peterborough\, ON\, K9J 6X1
CATEGORIES:Arts & Entertainment
ATTACH;FMTTYPE=image/jpeg:https://thekawarthas.ca/wp-content/uploads/2024/01/bostonpizza_logo21.jpg
END:VEVENT
BEGIN:VEVENT
DTSTART;TZID=America/Toronto:20240212T190000
DTEND;TZID=America/Toronto:20240212T210000
DTSTAMP:20260422T095903
CREATED:20240111T162012Z
LAST-MODIFIED:20240111T163116Z
UID:10006735-1707764400-1707771600@thekawarthas.ca
SUMMARY:PMA: Bringing TIFF To You
DESCRIPTION:The Peterborough Museum & Archives are excited to offer our community the chance to experience Canadian & International film\, in partnership with the Toronto International Film Festival Circuit Group and Galaxy Cinemas Peterborough. \nFilms are presented at 4 p.m. and 7 p.m. \nMonday\, January 22 – Flora and Son\nMonday\, January 29 – Who’s Yer Father\nMonday\, February 12 – Dreamin’ Wild \nSeries passes for the Winter/Spring 2023 season are $133.60. Series passes will be available for purchase: \n\nIn person at the Peterborough Memorial Centre’s Grant Thornton Box Office located at 151 Lansdowne Street West;\nOnline through the Memorial Centre’s digital box office; or\nBy telephone at (705) 743-3561\n\nRush tickets are available for purchase 30 minutes before each film screening\, in the Galaxy Cinemas lobby. Look for Museum staff in the area around the concession stand. \n\nRush tickets are $20 each\nPayment for Rush tickets is exclusively by credit card.
URL:https://thekawarthas.ca/event/pma-bringing-tiff-to-you/2024-02-12/2/
LOCATION:Galaxy Cinemas Peterborough\, 320 Water St.\, Peterborough\, Ontario\, K9H 3L5\, Canada
CATEGORIES:Arts & Entertainment,Exhibits & Shows,Festivals,Ongoing
ATTACH;FMTTYPE=image/jpeg:https://thekawarthas.ca/wp-content/uploads/2023/01/TIFF-Film_Circuit-Centre-logo-cmyk.jpg
END:VEVENT
END:VCALENDAR