BEGIN:VCALENDAR
VERSION:2.0
PRODID:-//The Kawarthas Tourism - ECPv6.15.20//NONSGML v1.0//EN
CALSCALE:GREGORIAN
METHOD:PUBLISH
X-ORIGINAL-URL:https://thekawarthas.ca
X-WR-CALDESC:Events for The Kawarthas Tourism
REFRESH-INTERVAL;VALUE=DURATION:PT1H
X-Robots-Tag:noindex
X-PUBLISHED-TTL:PT1H
BEGIN:VTIMEZONE
TZID:America/Toronto
BEGIN:DAYLIGHT
TZOFFSETFROM:-0500
TZOFFSETTO:-0400
TZNAME:EDT
DTSTART:20230312T070000
END:DAYLIGHT
BEGIN:STANDARD
TZOFFSETFROM:-0400
TZOFFSETTO:-0500
TZNAME:EST
DTSTART:20231105T060000
END:STANDARD
BEGIN:DAYLIGHT
TZOFFSETFROM:-0500
TZOFFSETTO:-0400
TZNAME:EDT
DTSTART:20240310T070000
END:DAYLIGHT
BEGIN:STANDARD
TZOFFSETFROM:-0400
TZOFFSETTO:-0500
TZNAME:EST
DTSTART:20241103T060000
END:STANDARD
BEGIN:DAYLIGHT
TZOFFSETFROM:-0500
TZOFFSETTO:-0400
TZNAME:EDT
DTSTART:20250309T070000
END:DAYLIGHT
BEGIN:STANDARD
TZOFFSETFROM:-0400
TZOFFSETTO:-0500
TZNAME:EST
DTSTART:20251102T060000
END:STANDARD
END:VTIMEZONE
BEGIN:VEVENT
DTSTART;TZID=America/Toronto:20240111T090000
DTEND;TZID=America/Toronto:20240324T170000
DTSTAMP:20260424T122303
CREATED:20240111T154152Z
LAST-MODIFIED:20240111T154152Z
UID:10006720-1704963600-1711299600@thekawarthas.ca
SUMMARY:Hanging Out with Marionettes: Vignettes from the Peterborough Puppet Guild
DESCRIPTION:For centuries\, puppetry has been a practiced artform across the globe. Marionettes are a lively medium for sharing stories\, animating myths and legends\, and for entertaining audiences. The Peterborough Puppet Guild was founded in 1953 and operated for over a decade\, performing as well as hosting marionette-building workshops. \nOn display at the Peterborough Museum & Archives are selections of marionettes from the Peterborough Puppet Guild’s vast collection\, set within themed vignettes that include the Wizard of Oz\, King Neptune\, Liberace’s band\, and more! \nAll strings considered\, you’re knot going to find a collection of marionettes like this anywhere else!
URL:https://thekawarthas.ca/event/hanging-out-with-marionettes/
LOCATION:Peterborough Museum and Archives\, 300 Hunter Street East\, Peterborough\, Ontario\, K9J 6Y5\, Canada
CATEGORIES:Arts & Entertainment,Cultural Heritage,Exhibits & Shows,Ongoing
ATTACH;FMTTYPE=image/png:https://thekawarthas.ca/wp-content/uploads/2024/01/Marionette-Featured-Exhibit-Banner-975-x-362-px-e1704986686876.png
END:VEVENT
BEGIN:VEVENT
DTSTART;TZID=America/Toronto:20240209T080000
DTEND;TZID=America/Toronto:20240209T170000
DTSTAMP:20260424T122303
CREATED:20240209T190746Z
LAST-MODIFIED:20240209T190746Z
UID:10007798-1707465600-1707498000@thekawarthas.ca
SUMMARY:Magical Beginnings Peterborough Wedding & Bridal Show
DESCRIPTION:Join a spectacular day of wedding inspiration at the Magical Beginnings Peterborough Wedding & Bridal Show! Whether you’re a bride-to-be\, a groom-to-be\, or just love everything wedding-related\, this is the place to be! \nDiscover the latest trends in wedding fashion\, decorations\, and more as you browse through a wide variety of exhibitors. From stunning wedding gowns to breathtaking floral arrangements\, you’ll find everything you need to make your special day truly magical. \nDon’t miss out on the chance to meet talented wedding professionals who can help bring your dream wedding to life. From photographers to wedding planners\, they’ll be here to answer all your questions and offer their expert advice. \nBeginning your planning starts here\, where you’ll see the most beautiful wedding dresses and stylish suits on the runway. Get inspired by the latest bridal looks and find the perfect attire for your big day. You are mid planning and just need a couple extra vendors? we got you!! \nWith music\, swag bags and prizes this is the place to be for your wedding planning needs! \nWhether you’re planning an intimate ceremony or a grand celebration\, the Magical Beginnings Peterborough Wedding & Bridal Show has something for everyone. Mark your calendars and get ready to embark on your magical beginning.
URL:https://thekawarthas.ca/event/magical-beginnings-peterborough-wedding-bridal-show/
LOCATION:The Mount Community Centre\, 1545 Monaghan Road\, Peterborough\, K9J 5N3\, Canada
CATEGORIES:Exhibits & Shows
ATTACH;FMTTYPE=image/jpeg:https://thekawarthas.ca/wp-content/uploads/2024/02/https___cdn.evbuc_.com_images_676847809_446747663176_1_original.jpg
ORGANIZER;CN="Magical Beginnings":MAILTO:melaniephyllis@gmail.com
END:VEVENT
BEGIN:VEVENT
DTSTART;TZID=America/Toronto:20240209T100000
DTEND;TZID=America/Toronto:20240209T160000
DTSTAMP:20260424T122303
CREATED:20240110T163552Z
LAST-MODIFIED:20240110T163641Z
UID:10006677-1707472800-1707494400@thekawarthas.ca
SUMMARY:throughlines: 2024 Juried Members’ Exhibition
DESCRIPTION:Artspace is kicking off its 50th anniversary year is an exhibition dedicated to their valued membership!  \nThroughlines: 2024 Juried Members’ Exhibition proudly presents the work of 20 of Artspace Members\, including a media arts installation in Gallery 2 co-presented with ReFrame Film Festival. On the commencement of this milestone year\, we asked artists to submit work imbued with a look back and a look forward\, while asking ourselves\, what are the most consistent traits of our membership? What are those characteristics that draw artists to artist-run culture. What are the throughlines? \nThe threads that characterize the last five decades of artist-run culture at Artspace\, however tangled or pristinely woven\, heart-achingly water-damaged or painstakingly archived\, are the relationships that built and continually reinvent Artspace. These relationships\, whether captured and retold as linear and well-documented narratives or as an ever-evolving patchwork of memories and vision\, will unfold well into the future. \nIn contemplating this milestone year\, it is natural – a default – to retell the familiar stories of our beginnings. And\, we will tell those compelling and valuable stories. But there are and there will be others. \nEvery Artspace membership represents an influence into what Artspace can become. How can we ensure that the insights and wisdom of voices previously unheard are woven into the fabric of our story? This is a line of thought we’re giving lots of energy these days. \nParticipating Artists:\nAlexandra Box\, Samantha Chiusolo\, Marta Chudolinska\, Brad Copping\, Garrett Gilbart\, Lesley Givens\, Theresa Godin\, Christopher Green\, Laura Honsberger\, Ann Jaeger\, Tim Laurin\, Jane Lowbeer\, Jeff Macklin\, Joseph Muscat\, Rob Niezen\, Kelly O’Neill\, Laura Paluck\, Lynda Todd\, Jane Wild\, and Nikoiya Wile
URL:https://thekawarthas.ca/event/throughlines-2024-juried-members-exhibition/2024-02-09/
LOCATION:Artspace\, 3-378 Aylmer Street N\, Peterborough\, ON\, K9H 3V8\, Canada
CATEGORIES:Arts & Entertainment,Exhibits & Shows,Ongoing
ATTACH;FMTTYPE=image/jpeg:https://thekawarthas.ca/wp-content/uploads/2024/01/JuriedMembers802811x17in281920x1080px29-3.jpg
ORGANIZER;CN="Artspace":MAILTO:gallery@artspaceptbo.ca
END:VEVENT
BEGIN:VEVENT
DTSTART;TZID=America/Toronto:20240209T110000
DTEND;TZID=America/Toronto:20240209T170000
DTSTAMP:20260424T122303
CREATED:20240111T165405Z
LAST-MODIFIED:20240111T165516Z
UID:10006762-1707476400-1707498000@thekawarthas.ca
SUMMARY:seams and strata
DESCRIPTION:As the Art Gallery of Peterborough enters its 50th anniversary year in 2024\, we are digging into our archives and reconnecting with our founders to engage with our past. Looking through old photographs and archives offers us a chance to marvel at where we’ve been and where we’ve come from; at what has changed and what remains. Sifting through filing cabinets packed with layers of paperwork\, notes\, and images feels a bit like an archeological dig. We make careful work of it\, pausing when we unearth something precious\, like a handwritten letter on fine paper or a photograph with younger versions of familiar faces. \nThis juried exhibition invited artists to submit original works of art that resonate with themes of legacy\, archives\, nostalgia\, ghosts\, memory\, survival\, and growth. \nTree rings and stratified rock mark the passage of time and changing conditions\, like layers of once fashionable wallpaper. The strata of our lives can be studied and excavated\, unleashing seams of joy\, curiosity\, wonder\, or grief. Throughout three ramps and the main gallery\, works by fifty-five artists bring forward the findings of their own excavations.
URL:https://thekawarthas.ca/event/seams-and-strata/2024-02-09/
LOCATION:Art Gallery of Peterborough\, 250 Crescent Street\, Peterborough\, ON\, K9J 2G1\, Canada
CATEGORIES:Arts & Entertainment,Exhibits & Shows,Ongoing
ATTACH;FMTTYPE=image/jpeg:https://thekawarthas.ca/wp-content/uploads/2023/11/Mireau-Drawing_detail_1-1-scaled-e1704992009764.jpg
ORGANIZER;CN="Art Gallery of Peterborough":MAILTO:gallery@agp.on.ca
END:VEVENT
BEGIN:VEVENT
DTSTART;TZID=America/Toronto:20240209T180000
DTEND;TZID=America/Toronto:20240209T180000
DTSTAMP:20260424T122303
CREATED:20240118T155029Z
LAST-MODIFIED:20240118T155114Z
UID:10007651-1707501600-1707501600@thekawarthas.ca
SUMMARY:Tamales Masterclass
DESCRIPTION:A tamal is made of cornmeal dough with a tasty filling\, all wrapped up in corn husk or banana leaf and cooked by steaming. People love to enjoy tamales during the Day of the Dead celebrations and many other holidays. The word “tamal” comes from the Aztec word “tamalli\,” which means “wrapped.” This ancient food has been enjoyed in Mesoamerica\, possibly since as far back as 5000 B.C. \nYou’ll also learn how to make your own salsa in a lava stone dish \nIncludes: \n\nWelcoming snacks\nHands-On: Pork or veggie/vegan tamales (Let us know when booking)\n1 welcoming drink\n\nBYO container to take home your delicious creations! \n*Beer & wine bar upon request (Additional cost)
URL:https://thekawarthas.ca/event/tamales-masterclass/
LOCATION:La Hacienda\, 190 Hunter St. W\, Peterborough\, ON\, K9H 2L2
CATEGORIES:Agriculture & Culinary,Cultural Heritage
ATTACH;FMTTYPE=image/webp:https://thekawarthas.ca/wp-content/uploads/2024/01/de3b21_c7a1dbf2040e41bb9ef1e1dad0e4aef5mv2-e1705592987546.webp
ORGANIZER;CN="La Hacienda":MAILTO:info@lahaciendaptbo.com
END:VEVENT
BEGIN:VEVENT
DTSTART;TZID=America/Toronto:20240209T180000
DTEND;TZID=America/Toronto:20240209T180000
DTSTAMP:20260424T122303
CREATED:20240125T194231Z
LAST-MODIFIED:20240125T194231Z
UID:10007688-1707501600-1707501600@thekawarthas.ca
SUMMARY:Nail Paint Night
DESCRIPTION:Enjoy a super fun night out with friends! Or come make some new friends! \nA fun paint night unlike any you have done before! Hang out and create your own set of reusable press-on nails. \nTicket includes \n\n1 complete set of press-on nails\nApplication kit\nFree gift!\nAccess to full nail polish library\nNail design instructions
URL:https://thekawarthas.ca/event/nail-paint-night/
LOCATION:Modern Makers Market\, 651 Chamberlain St\, Peterborough\, ON\, K9J 4L9
CATEGORIES:Arts & Entertainment
ORGANIZER;CN="Maiden Esthetic":MAILTO:maidenesthetic@gmail.com
END:VEVENT
BEGIN:VEVENT
DTSTART;TZID=America/Toronto:20240209T190000
DTEND;TZID=America/Toronto:20240209T210000
DTSTAMP:20260424T122303
CREATED:20240206T151310Z
LAST-MODIFIED:20240206T151614Z
UID:10007741-1707505200-1707512400@thekawarthas.ca
SUMMARY:Trivia Night
DESCRIPTION:Join us in the Peterborough County Agricultural Heritage Building for an entertaining evening testing your knowledge! There will be prizes\, food\, beverages and fun. Traditional European brewed craft beer by Haven Brewing Company. Admission is $5 per person. Maximum of 6 per team. \nHaven Brewing Company will be onsite serving traditionally European brewed craft beer\nGrilled cheese sandwiches\, chips\, pop and more
URL:https://thekawarthas.ca/event/trivia-night/
LOCATION:Peterborough County Agricultural Heritage Building\, 146 Lang Road\, Keene\, ON\, K0L 2G0
CATEGORIES:Arts & Entertainment
ORGANIZER;CN="Lang Pioneer Village Museum":MAILTO:info@langpioneervillage.ca
END:VEVENT
BEGIN:VEVENT
DTSTART;TZID=America/Toronto:20240209T193000
DTEND;TZID=America/Toronto:20240209T193000
DTSTAMP:20260424T122303
CREATED:20231122T200534Z
LAST-MODIFIED:20231122T200534Z
UID:10006425-1707507000-1707507000@thekawarthas.ca
SUMMARY:JS Bach's Long Walk in the Snow
DESCRIPTION:At 18 years old\, in his first job and just beginning life as a composer\, the young JS Bach got into such trouble that the only thing he could do was to walk away. JS Bach’s Long Walk in the Snow takes you on that journey: a 400 km odyssey to a glittering northern port city with street fights\, big business\, the father figure he didn’t know he needed and\, quite possibly\, love. \nWith a captivating story by master storyteller Tom Allen and glorious music by cellist/singer Kevin Fox\, singer Patricia O’Callaghan\, violinist Yolanda Bruno\, accordionist Michael Bridge and harpist Lori Gemmell. JS Bach’s Long Walk in the Snow brings that troubled young man in from the cold.
URL:https://thekawarthas.ca/event/js-bachs-long-walk-in-the-snow/
LOCATION:Market Hall Performing Arts\, 140 Charlotte St Third Floor\, Peterborough\, K9J 2T8
CATEGORIES:Arts & Entertainment,Exhibits & Shows,Performing Arts
ATTACH;FMTTYPE=image/png:https://thekawarthas.ca/wp-content/uploads/2023/05/markethall-pac-logo.png
ORGANIZER;CN="Market Hall Performing Arts Centre":MAILTO:boxoffice@markethall.org
END:VEVENT
END:VCALENDAR