BEGIN:VCALENDAR
VERSION:2.0
PRODID:-//The Kawarthas Tourism - ECPv6.15.20//NONSGML v1.0//EN
CALSCALE:GREGORIAN
METHOD:PUBLISH
X-WR-CALNAME:The Kawarthas Tourism
X-ORIGINAL-URL:https://thekawarthas.ca
X-WR-CALDESC:Events for The Kawarthas Tourism
REFRESH-INTERVAL;VALUE=DURATION:PT1H
X-Robots-Tag:noindex
X-PUBLISHED-TTL:PT1H
BEGIN:VTIMEZONE
TZID:America/Toronto
BEGIN:DAYLIGHT
TZOFFSETFROM:-0500
TZOFFSETTO:-0400
TZNAME:EDT
DTSTART:20220313T070000
END:DAYLIGHT
BEGIN:STANDARD
TZOFFSETFROM:-0400
TZOFFSETTO:-0500
TZNAME:EST
DTSTART:20221106T060000
END:STANDARD
BEGIN:DAYLIGHT
TZOFFSETFROM:-0500
TZOFFSETTO:-0400
TZNAME:EDT
DTSTART:20230312T070000
END:DAYLIGHT
BEGIN:STANDARD
TZOFFSETFROM:-0400
TZOFFSETTO:-0500
TZNAME:EST
DTSTART:20231105T060000
END:STANDARD
BEGIN:DAYLIGHT
TZOFFSETFROM:-0500
TZOFFSETTO:-0400
TZNAME:EDT
DTSTART:20240310T070000
END:DAYLIGHT
BEGIN:STANDARD
TZOFFSETFROM:-0400
TZOFFSETTO:-0500
TZNAME:EST
DTSTART:20241103T060000
END:STANDARD
END:VTIMEZONE
BEGIN:VEVENT
DTSTART;VALUE=DATE:20230416
DTEND;VALUE=DATE:20231120
DTSTAMP:20260420T045259
CREATED:20230223T135751Z
LAST-MODIFIED:20230417T184957Z
UID:10002010-1681603200-1700438399@thekawarthas.ca
SUMMARY:To Honour and Respect: Gifts from the Michi Saagiig Women to the Prince of Wales\, 1860
DESCRIPTION:In April 2023\, quilled birch bark makaks made by women of Rice Lake Village (now Hiawatha First\nNation) will arrive at the Peterborough Museum & Archives (PMA) for an extended loan visit from the\nRoyal Collection Trust in England\, where they have been cared for since they were given to the young\nPrince of Wales in 1860. The makaks will be exhibited and will be the focus of activities: workshops on\nquillwork\, Michi Saagiig Anishnaabemowin\, special tours of the exhibit\, and some visits in which\nparticipants will be able to gently touch them. \nDr Lori Beavis (Hiawatha) and Dr Laura Peers curate the To Honour and Respect project\, with a Planning\nCircle including Gimaakwe Laurie Carr (Hiawatha)\, Kim Muskratt (Hiawatha)\, Veronica King-Jamieson\n(Mississaugas of the Credit) and others. The project is funded by the Museum Assistance Program\n(Department of Canadian Heritage)\, Canada Council for the Arts\, the Ontario Arts Council\, and Hiawatha\nFirst Nation\, with in-kind contributions by the City of Peterborough and the Peterborough Museum &\nArchives\, whose staff will care for the makaks during their visit. The Royal Collection Trust is lending the makaks.
URL:https://thekawarthas.ca/event/to-honour-and-respect-gifts-from-the-michi-saagiig-women-to-the-prince-of-wales-1860/
LOCATION:Peterborough Museum and Archives\, 300 Hunter Street East\, Peterborough\, Ontario\, K9J 6Y5\, Canada
CATEGORIES:Cultural Heritage,Exhibits & Shows
ATTACH;FMTTYPE=image/png:https://thekawarthas.ca/wp-content/uploads/2023/02/600-HFN.png
END:VEVENT
BEGIN:VEVENT
DTSTART;VALUE=DATE:20230708
DTEND;VALUE=DATE:20231030
DTSTAMP:20260420T045259
CREATED:20230705T183823Z
LAST-MODIFIED:20230801T201451Z
UID:10002712-1688774400-1698623999@thekawarthas.ca
SUMMARY:Reciprocity: Alice Teichert
DESCRIPTION:Alice Teichert’s paintings are known for their holographic depth and unique luminosity\, for their visual poetry and multi-faceted proximity to music. In this survey exhibition spanning four decades of practice\, Teichert uses line\, shape\, and colour to push the edges of legibility to open new realms of dialogue. \nMultidisciplinary artist Alice Teichert studied music\, philosophy\, visual poetry\, visual arts\, and printmaking in Belgium and France. She works from her studio in Port Hope\, Ontario\, Canada. Since 1989\, she has built an international career with over 30 solo exhibitions in France\, Canada\, Switzerland\, Germany and Australia. Known for her bold colours and layered transparencies interspersed with script-like line drawings\, Teichert’s paintings are noted for their holographic depth. Her works are held in many corporate\, private\, and public collections including the MacLaren Art Centre\, Global Affairs Canada\, the Musée de la Ville de Valence (F) and the Museumsquartier of Lübeck (D).
URL:https://thekawarthas.ca/event/reciprocity-alice-teichert/
LOCATION:Art Gallery of Peterborough\, 250 Crescent Street\, Peterborough\, ON\, K9J 2G1\, Canada
CATEGORIES:Exhibits & Shows
ATTACH;FMTTYPE=image/jpeg:https://thekawarthas.ca/wp-content/uploads/2023/06/Reciprocity-1-scaled.jpg
ORGANIZER;CN="Art Gallery of Peterborough":MAILTO:gallery@agp.on.ca
END:VEVENT
BEGIN:VEVENT
DTSTART;TZID=America/Toronto:20231021T070000
DTEND;TZID=America/Toronto:20231021T130000
DTSTAMP:20260420T045259
CREATED:20200922T181217Z
LAST-MODIFIED:20240514T180132Z
UID:10001330-1697871600-1697893200@thekawarthas.ca
SUMMARY:Peterborough Farmers' Market
DESCRIPTION:We invite you to listen to the sounds of our local musicians while visiting our 100+ vendor outdoor market May 1 to October 31\, rain or shine in the Morrow Building parking lot. From November 1 to April 30\, we are located inside the Morrow Building just south of the parking lot. \nThe establishment of a central market area for individual trade or sales has been a feature of societies all over the world for centuries. This trade has taken place in Peterborough for the past 190 years. This efficient method of commerce (ie. producer\, direct to consumer) has gained much interest in recent years as small businesses have grown. We at the Peterborough Farmers’ Market are proud to be part of this popular phenomenon. \nAs producers of local food and crafts\, we stress freshness\, quality and value as we deal each and every week with our market patrons. Come and enjoy this traditional shopping experience.
URL:https://thekawarthas.ca/event/peterborough-farmers-market/2023-10-21/
LOCATION:Morrow Park\, 151 Lansdowne St. W.\, Peterborough\, Ontario\, Canada
CATEGORIES:Farmers' Market,Ongoing
ATTACH;FMTTYPE=image/jpeg:https://thekawarthas.ca/wp-content/uploads/2020/09/Original_PeterboroughFarmersMarketVegetables11_Tourism2_2012_MichaelHurcomb-scaled.jpg
ORGANIZER;CN="Peterborough Farmers' Market":MAILTO:ptbofarmersmarketsaturday@gmail.com
END:VEVENT
BEGIN:VEVENT
DTSTART;TZID=America/Toronto:20231021T090000
DTEND;TZID=America/Toronto:20231021T170000
DTSTAMP:20260420T045259
CREATED:20230918T124826Z
LAST-MODIFIED:20230918T124903Z
UID:10004449-1697878800-1697907600@thekawarthas.ca
SUMMARY:Harley Farms Harvest Day
DESCRIPTION:Cooler weather and falling leaves mean it’s time to celebrate the harvest! Harley Farms is hosting a Harvest Day on October 21st 2023\, from 9am to 5pm. \nBring the whole family for fun\, free\, fall-themed crafts\, games and tours! Burgers and sausages will be sizzling on the grill\, ready to be enjoyed at a picnic with some of the best views of the farm!
URL:https://thekawarthas.ca/event/harley-farms-harvest-day/
LOCATION:Harley Farms\, 1630 Heritage Line\, Keene\, K0L 2G0
CATEGORIES:Agriculture & Culinary,Outdoors & Nature
ATTACH;FMTTYPE=image/jpeg:https://thekawarthas.ca/wp-content/uploads/2023/09/HarvestDay.jpg
ORGANIZER;CN="Harley Farms":MAILTO:harleyfarms.veronica@gmail.com
END:VEVENT
BEGIN:VEVENT
DTSTART;TZID=America/Toronto:20231021T103000
DTEND;TZID=America/Toronto:20231021T130000
DTSTAMP:20260420T045259
CREATED:20231018T131219Z
LAST-MODIFIED:20231018T131219Z
UID:10005079-1697884200-1697893200@thekawarthas.ca
SUMMARY:Trent Valley Archives Open House
DESCRIPTION:The purpose of this year’s open house is two-fold: one\, to acknowledge our receipt of an Ontario Trillium Foundation grant to digitize negatives from our Peterborough Examiner fonds and make them accessible online; and two\, to celebrate 25 years at our archives building\, which we moved into on Labour Day of 1998. \nYou’re invited to join us for the occasion\, where there will be remarks from MPP Dave Smith and an Ontario Trillium Foundation representative about the grant\, and a presentation about the history of TVA from our archivist\, Elwood Jones. This is also a great opportunity to inquire about the resources that are housed at TVA and/or about becoming a TVA member. \nThis event is free to attend for all TVA members and non-members and refreshments will be provided.
URL:https://thekawarthas.ca/event/trent-valley-archives-open-house/
LOCATION:Trent Valley Archives\, 567 Carnegie Av\, Peterborough\, ON\, K9L 1N1\, Canada
CATEGORIES:Cultural Heritage
END:VEVENT
BEGIN:VEVENT
DTSTART;TZID=America/Toronto:20231021T130000
DTEND;TZID=America/Toronto:20231021T220000
DTSTAMP:20260420T045259
CREATED:20231004T134309Z
LAST-MODIFIED:20231004T171139Z
UID:10005029-1697893200-1697925600@thekawarthas.ca
SUMMARY:Bowie Fest Canada 2023
DESCRIPTION:Outshout Entertainment presents BowieFest Canada 2023 on October 20/21\, 2023 in Peterborough Ontario.\nThe event pays homage to the sights and sounds of David Bowie and features a number of events throughout the 2-day celebration. \nFriday\, October 20 8:30 pm\nJoin fans at the Crook and Coffer British Pub\, 231 Hunter St W\, for the launch party and Bowie Karaoke! Host Andrew Stoeten will spin Bowie karaoke on request and award one lucky singer with tickets to Saturday night’s concert at Showplace. \nSaturday\, October 21\n1. The day kicks off at 1 p.m. with the Bowie Bazaar in the lobby of Showplace Performance Centre. On offer\, Bowie collectibles\, T-shirts\, LPS\, rare DVD\, and more. The Peterborough Arts Collective will also be on-site selling unique one-of-a-kind original pieces of Bowie-inspired art. \n2. Downstairs in the Showplace Lounge “Ziggy Played Guitar” begins at 2:30 as up-and-coming solo acts “audition” for their chance to join the opening set Saturday night\, by performing one Bowie track. For all musicians interested in taking part contact info@thebowielives.com \n3. Local artist Jason Wilkins will also be on hand in the lobby from 7-8 pm creating a unique piece of Bowie art\, live before your eyes! \n4. Finally\, at 8 pm\, The Bowie Lives returns to Peterborough and takes the stage with a brand new show. New songs\, costumes\, and multimedia will entertain fans new and old. The opening set includes performances by The Hippie Chicks\, Lisa Canivet\, and the winner of “Ziggy Played Guitar.” \nAttendees will be sure to stay behind after the show for photos and the band’s Meet and Greet! \nFor more information contact: thebowielivespublicity@aol.com\nTickets on sale now: https://secure1.tixhub.com/showplace/online/b_otix.asp?cboPerformances=96&cboEvent=72&width=1903
URL:https://thekawarthas.ca/event/bowie-fest-canada-2023/2023-10-21/
LOCATION:Showplace Performance Centre\, 290 George St N\, Peterborough\, ON\, K9J 3H2
CATEGORIES:Arts & Entertainment,Cultural Heritage,Exhibits & Shows,Festivals,Performing Arts
END:VEVENT
BEGIN:VEVENT
DTSTART;TZID=America/Toronto:20231021T180000
DTEND;TZID=America/Toronto:20231021T230000
DTSTAMP:20260420T045259
CREATED:20230922T173652Z
LAST-MODIFIED:20231018T142027Z
UID:10004585-1697911200-1697929200@thekawarthas.ca
SUMMARY:The Stalking Dead
DESCRIPTION:Zombies are on the loose again. Are they zombies or just mind controlled dead people? Is that even possible? It will be your job as scientists to search the grounds of a new cult centre to figure out what these creatures are and how we can protect ourselves from them. Does it have anything to do with Peterborough’s Axe Murderess Hessie Gray? You will have to discover that for yourselves in this farmland retreat. \nPlayers book a time to walk the trail on our farmland\, solving puzzles along the way but at the same time\, avoiding live zombies. We also have zombie laser tag you can add to your haunted experience. \nNOT Recommended for players 13 years of age and younger. Those under 16 years of age must be accompanied by an adult.
URL:https://thekawarthas.ca/event/the-stalking-dead-2/2023-10-21/
LOCATION:Escape Maze\, 156 Cedar Bank Rd\, Peterborough\, Ontario\, K9J 6Y3\, Canada
CATEGORIES:Agriculture & Culinary,Arts & Entertainment,Holiday Related,Outdoors & Nature
ATTACH;FMTTYPE=image/jpeg:https://thekawarthas.ca/wp-content/uploads/2023/09/zombie2023.jpg
END:VEVENT
BEGIN:VEVENT
DTSTART;TZID=America/Toronto:20231021T193000
DTEND;TZID=America/Toronto:20231021T210000
DTSTAMP:20260420T045259
CREATED:20230629T203357Z
LAST-MODIFIED:20230629T203357Z
UID:10002706-1697916600-1697922000@thekawarthas.ca
SUMMARY:Our Place by Terry Gabbard
DESCRIPTION:The unassuming location of a dock extending out onto a small lake serves as the backdrop for five different stories. The entire ensemble gathers on the dock together for the final scene. In a poetic epilogue\, they all discover the true meaning of Our Place—both comedic and tragic. \nBy- Terry Gabbard \n\n\n\n\nTickets: $15.00
URL:https://thekawarthas.ca/event/our-place-by-terry-gabbard/2023-10-21/
LOCATION:The Peterborough Theatre Guild\, 364 Rogers St\, Peterborough ON\, K9H1W7
CATEGORIES:Arts & Entertainment,Exhibits & Shows,Performing Arts
ATTACH;FMTTYPE=image/jpeg:https://thekawarthas.ca/wp-content/uploads/2023/06/Our-Place_feature_NEW_REV.jpg
ORGANIZER;CN="Peterborough Theatre Guild":MAILTO:info@peterboroughtheatreguild.com
END:VEVENT
BEGIN:VEVENT
DTSTART;TZID=America/Toronto:20231021T193000
DTEND;TZID=America/Toronto:20231021T223000
DTSTAMP:20260420T045259
CREATED:20231018T124737Z
LAST-MODIFIED:20231018T125008Z
UID:10005070-1697916600-1697927400@thekawarthas.ca
SUMMARY:Halloween Fright Night at Canada's Dinosaur Park
DESCRIPTION:HALLOWEEN FRIGHT NIGHTS… if you dare!\nScary but fun entertainment for the family! Walk through the park filled with ghosts\, goblins\, bats\, skeletons\, monsters and clowns! Also featuring some of our animatronic dinosaurs and rescued reptiles! Wear your best costume and you may win a prize! \nOpen from 7:30pm-10:30pm. Admission is required for each person attending (children aged 3 and under free). \nCanada’s Dinosaur Park is a non-profit charity and sanctuary caring for 100’s of rescued and abandoned reptiles. All proceeds go into helping care for the animals. \nSHOW UP ANYTIME BETWEEN 7:30PM AND 10:30PM
URL:https://thekawarthas.ca/event/halloween-fright-night-at-canadas-dinosaur-park/2023-10-21/
LOCATION:Canada’s Dinosaur Park\, 2206 County Rd. 38\, Asphodel-Norwood\, ON\, K0L 2B0
CATEGORIES:Exhibits & Shows,Holiday Related,Ongoing
ATTACH;FMTTYPE=image/jpeg:https://thekawarthas.ca/wp-content/uploads/2019/02/pkt-indian-river-reptile-zoo.jpg
ORGANIZER;CN="Canada's Dinosaur Park":MAILTO:info@CanadasDinosaurPark.ca
END:VEVENT
BEGIN:VEVENT
DTSTART;TZID=America/Toronto:20231021T193000
DTEND;TZID=America/Toronto:20231021T230000
DTSTAMP:20260420T045259
CREATED:20230814T150304Z
LAST-MODIFIED:20230814T150304Z
UID:10004339-1697916600-1697929200@thekawarthas.ca
SUMMARY:Chaos Carnival: The Dark Circus
DESCRIPTION:Chaos Carnival is an immersive Halloween experience.\nPrepare to step into the heart of darkness as Chaos Carnival beckons you into an immersive haunted walk through the eerie woods of Selwyn\, Ontario. Join us as sinister world awaits\, blending the thrill of a haunted house with the spine-chilling allure of a horror circus. for two weekends only\, come see what awaits you at The Dark Circus. \nTake a walk through the forest and experience the thrills\, chills and ominous atmosphere as we tell a story you get to be a part of! \n2023 THEME: Dark Circus \nThe circus may be closed\, but the terror never ends….. Chaos Carnival in production with USB Escape presents our flagship event “Chaos Carnival: Dark Circus”. The legend of Chaos Carnival’s Dark Circus is a warning to all who dare to enter\, for our presence strikes terror into the bravest of souls. Our sinister funhouse in the woods promises to take visitors on a journey that will test their courage\, their will\, and even their sanity. If you dare to enter the twisted world of the Dark Circus\, be prepared\, our clowns are waiting to greet you in our terror filled forest.
URL:https://thekawarthas.ca/event/chaos-carnival-the-dark-circus/2023-10-21/
LOCATION:1734 5th Line\, 1734 Fifth Line\, Peterborough\, K9J 6X5\, Canada
CATEGORIES:Exhibits & Shows,Holiday Related,Outdoors & Nature,Performing Arts
ATTACH;FMTTYPE=image/png:https://thekawarthas.ca/wp-content/uploads/2023/08/Chaos-Carnival-1.png
ORGANIZER;CN="Chaos Carnival":MAILTO:Keith1990D@gmail.com
END:VEVENT
BEGIN:VEVENT
DTSTART;TZID=America/Toronto:20231021T200000
DTEND;TZID=America/Toronto:20231021T200000
DTSTAMP:20260420T045259
CREATED:20231019T132007Z
LAST-MODIFIED:20231019T132007Z
UID:10005087-1697918400-1697918400@thekawarthas.ca
SUMMARY:Dance of Deception: Beats of Intrigue
DESCRIPTION:“Dance of Deception: Beats of Intrigue” is an immersive hybrid theatre show and dance party\, where the lines between performance and celebration blur. \nFeaturing a star-studded ensemble including Kevin Gallagher\, Naomi Duvall\, Ryan Kirby\, LA\, Luqman\, Dan Smith\, and Lindsay Unterlander\, with visuals provided by Duv Heron. Created by Ryan Mclean Purdon\, Carlos Quintero and Rania Maarouf. \nThis production will showcase many sounds across the dance music spectrum while combining movement\, mime\, and mystery. As the night unfolds\, you’ll be challenged to uncover the hidden truths hidden within the space and throughout the performance. Will you uncover the truth or get lost in the dance? Join us for a night of suspense\, intrigue\, and dance like no other! \nReserve tickets here!
URL:https://thekawarthas.ca/event/dance-of-deception-beats-of-intrigue/2023-10-21/
LOCATION:The Theatre on King\, 171 King St\, Peterborough\, ON\, K9J 2R8
CATEGORIES:Arts & Entertainment,Exhibits & Shows,Performing Arts
ORGANIZER;CN="The Theatre on King":MAILTO:contact@ttok.ca
END:VEVENT
BEGIN:VEVENT
DTSTART;TZID=America/Toronto:20231021T200000
DTEND;TZID=America/Toronto:20231021T223000
DTSTAMP:20260420T045259
CREATED:20230609T174412Z
LAST-MODIFIED:20230609T174412Z
UID:10002242-1697918400-1697927400@thekawarthas.ca
SUMMARY:The Bowie Lives: Canada's Most Spectacular Tribute to David Bowie
DESCRIPTION:THE BOWIE LIVES: Canada’s Most Spectacular Tribute to David Bowie performs in Peterborough on October 21\, 2023\, at 8PM. Showplace Performance Centre at 290 George St N.\nTICKETS: On Sale Now https://secure1.tixhub.com/showplace/online/b_otix.asp?cboPerformances=96&cboEvent=72\nThe Bowie Lives is excited to be returning to Peterborough once again! \nSo what is “The Bowie Lives?”\nPerhaps this email from an audience member best sums it up… “Saw the show last night in Midland and was blown away. Was a little apprehensive at first as I have been a Bowie fan since I was a teen and I was concerned the band may not do the songs justice. I was overwhelmingly thrilled at what I heard and saw\, from the first note I was hooked. The biggest takeaway is you can tell the lead singer is truly a devoted fan himself. Loved the way you honored David Bowie. Hope to see you in Collingwood!” \nThe industry thinks so too…\n“5 Stars! Unbelievable! I could have watched them for two more hours!” says Richard Crouse\, Host of CTV PopLife. \n“By far\, the best & coolest Bowie Tribute I’ve seen!” says Sam Grosso\, Cadillac Productions. \n“As close as it gets!” says MusikMirage.com \nThey’re all talking about the “The Bowie Lives” Canada’s most Spectacular Tribute to David Bowie! Michael Bell is an award-winning vocalist who channels the sound and styles of David Bowie\, and with the help of an all-star band\, multi-media\, theatre\, and costumes\, he has captured the imagination of fans young and old. \nMichael discovered Bowie as a teen and performed songs with a number of his early bands. By the 80’s his first theatrical production “ChangesAllBowie” toured the “A circuit” before hanging up his “Ziggy” in the early ’90s. Decades passed. After David’s untimely death on January 10\, 2016\, Michael’s calling returned; his calling to honor the man who helped shape his life. Together with musical director Michael Beauclerc\, they began auditioning players to fill out a band capable of performing some of Rock’s most challenging material. The Bowie Lives bring all the hits to the stage\, from Space Oddity to Lazarus\, and everything in between. \nThe Bowie Lives PRE-SHOW includes the Bowie Bazaar; T-shirts\, collectibles\, LP’s and DVDs\, and more. \nCome dressed as your favorite David Bowie persona\, or wear your favorite swag and be rewarded! Don’t forget to grab a button! \nMichael is also the subject of an upcoming documentary film “Being David Bowie” and an upcoming web series “The Bowie Lives.” \nFor more information:\nthebowielives.com or follow their community on Twitter/Instagran/Facebook.com/thebowielives \nWatch the latest stinger on YouTube! youtu.be/GcjjUehwk7E \n705-742-7469 or boxoffice@showplace.orgg
URL:https://thekawarthas.ca/event/the-bowie-lives-canadas-most-spectacular-tribute-to-david-bowie/
LOCATION:Showplace Performance Centre\, 290 George St N\, Peterborough\, ON\, K9J 3H2
CATEGORIES:Arts & Entertainment,Exhibits & Shows,Performing Arts
ATTACH;FMTTYPE=image/jpeg:https://thekawarthas.ca/wp-content/uploads/2023/06/317556988_10160207950657357_7783571468260135332_n.jpg
END:VEVENT
END:VCALENDAR